BEGIN:VCALENDAR
VERSION:2.0
PRODID:-//Castello di Santa Severa - Un castello sempre aperto - ECPv6.15.20//NONSGML v1.0//EN
CALSCALE:GREGORIAN
METHOD:PUBLISH
X-WR-CALNAME:Castello di Santa Severa - Un castello sempre aperto
X-ORIGINAL-URL:https://www.castellodisantasevera.it
X-WR-CALDESC:Eventi per Castello di Santa Severa - Un castello sempre aperto
REFRESH-INTERVAL;VALUE=DURATION:PT1H
X-Robots-Tag:noindex
X-PUBLISHED-TTL:PT1H
BEGIN:VTIMEZONE
TZID:Europe/Rome
BEGIN:DAYLIGHT
TZOFFSETFROM:+0100
TZOFFSETTO:+0200
TZNAME:CEST
DTSTART:20210328T010000
END:DAYLIGHT
BEGIN:STANDARD
TZOFFSETFROM:+0200
TZOFFSETTO:+0100
TZNAME:CET
DTSTART:20211031T010000
END:STANDARD
BEGIN:DAYLIGHT
TZOFFSETFROM:+0100
TZOFFSETTO:+0200
TZNAME:CEST
DTSTART:20220327T010000
END:DAYLIGHT
BEGIN:STANDARD
TZOFFSETFROM:+0200
TZOFFSETTO:+0100
TZNAME:CET
DTSTART:20221030T010000
END:STANDARD
BEGIN:DAYLIGHT
TZOFFSETFROM:+0100
TZOFFSETTO:+0200
TZNAME:CEST
DTSTART:20230326T010000
END:DAYLIGHT
BEGIN:STANDARD
TZOFFSETFROM:+0200
TZOFFSETTO:+0100
TZNAME:CET
DTSTART:20231029T010000
END:STANDARD
END:VTIMEZONE
BEGIN:VEVENT
DTSTART;TZID=Europe/Rome:20220924T100000
DTEND;TZID=Europe/Rome:20220925T190000
DTSTAMP:20260422T011405
CREATED:20220914T134110Z
LAST-MODIFIED:20220919T104412Z
UID:10019-1664013600-1664132400@www.castellodisantasevera.it
SUMMARY:Verde in scena al Castello
DESCRIPTION:➤acquisto biglietti on line\n\nIl 24 e il 25 settembre torna “Verde in scena al Castello”\, l’edizione autunnale della mostra mercato di piante insolite e rare. \nIL biglietto d’ingresso alla mostra mercato Verde in Scena costa 6\,00€ e si può acquistare direttamente alla biglietteria interna alla struttura. I bambini fino a 12 anni non pagano. \nSul piazzale del Fontanile\, antistante l’ingresso al Castello\, alcuni stand di street food proporranno le loro specialità ai visitatori e soddisferanno anche i palati più esigenti. Inoltre si potranno degustare varie tipologie di vini e birra artigianale. \nVerde in Scena è un evento dog friendly\, quindi i cani sono benvenuti come nostri amici\, basta che ricordino ai loro compagni bipedi di tenerli al guinzaglio. \nAll’interno della mostra è previsto  un servizio carriole\, con le quali potrete raggiungere gli stand\, ritirare le piante e trasportarle fino alla vostra auto; è un servizio gratuito\, dovrete solo lasciare un documento finché utilizzerete la carriola in autonomia. \n\n\n➤Elenco espositori 
URL:https://www.castellodisantasevera.it/evento/verde-in-scena-al-castello/
CATEGORIES:Natura
ATTACH;FMTTYPE=image/jpeg:https://www.castellodisantasevera.it/app/uploads/2022/09/Locandina-aggiornata-2-768x1106-1.jpg
END:VEVENT
END:VCALENDAR