BEGIN:VCALENDAR
VERSION:2.0
PRODID:-//Castello di Santa Severa - Un castello sempre aperto - ECPv6.15.20//NONSGML v1.0//EN
CALSCALE:GREGORIAN
METHOD:PUBLISH
X-ORIGINAL-URL:https://www.castellodisantasevera.it
X-WR-CALDESC:Eventi per Castello di Santa Severa - Un castello sempre aperto
REFRESH-INTERVAL;VALUE=DURATION:PT1H
X-Robots-Tag:noindex
X-PUBLISHED-TTL:PT1H
BEGIN:VTIMEZONE
TZID:Europe/Rome
BEGIN:DAYLIGHT
TZOFFSETFROM:+0100
TZOFFSETTO:+0200
TZNAME:CEST
DTSTART:20230326T010000
END:DAYLIGHT
BEGIN:STANDARD
TZOFFSETFROM:+0200
TZOFFSETTO:+0100
TZNAME:CET
DTSTART:20231029T010000
END:STANDARD
BEGIN:DAYLIGHT
TZOFFSETFROM:+0100
TZOFFSETTO:+0200
TZNAME:CEST
DTSTART:20240331T010000
END:DAYLIGHT
BEGIN:STANDARD
TZOFFSETFROM:+0200
TZOFFSETTO:+0100
TZNAME:CET
DTSTART:20241027T010000
END:STANDARD
BEGIN:DAYLIGHT
TZOFFSETFROM:+0100
TZOFFSETTO:+0200
TZNAME:CEST
DTSTART:20250330T010000
END:DAYLIGHT
BEGIN:STANDARD
TZOFFSETFROM:+0200
TZOFFSETTO:+0100
TZNAME:CET
DTSTART:20251026T010000
END:STANDARD
END:VTIMEZONE
BEGIN:VEVENT
DTSTART;TZID=Europe/Rome:20240602T173000
DTEND;TZID=Europe/Rome:20240825T210000
DTSTAMP:20260422T024452
CREATED:20240430T141313Z
LAST-MODIFIED:20240725T184746Z
UID:12142-1717349400-1724619600@www.castellodisantasevera.it
SUMMARY:Libri e calici sotto le stelle\, seconda edizione
DESCRIPTION:Per il secondo anno consecutivo\, dopo il successo dello scorso anno\, torna tutte le domeniche\,   in Sala Nostromo  Libri e calici sotto le stelle dal  2 giugno fino al 25 agosto al Castello di Santa Severa\, spazio della Regione Lazio gestito dalla società in house LAZIOcrea. \nUn format di successo  per promuovere la lettura attraverso la presentazione di libri  al pubblico con la presenza  degli autori con il sottofondo delle onde del mare e  in abbinamento alla degustazione di calici di vino  dei produttori  dell’Associazione ” La strada del vino delle terre etrusco romane” con la presenza di sommelier. \nModera la giornalista Francesca Lazzeri. \nIngresso gratuito fino a esaurimento posti con prenotazione su eventbrite \n_______________________________________________________ \ngiugno: \n02/06 – Cinzia Dal Maso – “Femminaccie impudentissime” con esposizione fotografica a cura della fotografa Teresa Mancini / Annalisa Venditti  “Andrea Baroni – Il cavaliere delle rose e delle nuvole” ore 17.30 \n09/06 – Barbara Aversa – “La figlia della lupa” ore 17.30 \n16/06 – Emiliano Bezzon – “Corpi abbandonati – La nuova indagine di Giorgia del Rio e Doriana Messina” ore 17.30 \n23/06 – François Morlupi – “il gioco degli opposti” ore 17.30 \n30/06 –Carla Cucchiarelli– “Io sono Nannarella – Intrigo a Firenze” ore 17.30 \n_______________________________________________________ \nLuglio\n07/07 – Mara Fux  “Tutta colpa di Maria” e “Ai tempi del corona -In due ore o poco più” ore 19.30\n14/07 – Maurizio Giannini – “L’ultima seducente esecuzione “ore 18.00\n21/07 – Eduardo Ciampi\, Mino Freda\, Paolo Palliccia\, Paolo Velonà – “San Giorgio e il drago: l’indispensabile mito. Storia\, metastoria\, Arte e Letteratura” ore 19.30\n28/07 – Annalisa Venditti – “Il giorno dell’Assoluzione”\, “Delitto all’Home Restaurant” e “Omicidio al presepe vivente” ore 19.30 \n_______________________________________________________ \nAgosto\n04/08 – Manuela e Camilla Forcina – “Il mistero del Cristo Velato. L’ultimo colpo di scalpello” ore 19.30 \n11/08- Sara Marcoccia–  “Le giraffe in giardino” ore 19.30 \n18/08- Daniela Alibrandi – ” I delitti del Mugnone” ore 19.30 \n25/08- Narcís Pallarès–Domènech\, Alessio Postiglione\, Valerio Mancini -” Calcio\, politica e potere” ore 19.30
URL:https://www.castellodisantasevera.it/evento/libri-e-calici-sotto-le-stelle/
CATEGORIES:In evidenza
ATTACH;FMTTYPE=image/png:https://www.castellodisantasevera.it/app/uploads/2024/04/Calici_Card-data-aggiornata.png
END:VEVENT
BEGIN:VEVENT
DTSTART;TZID=Europe/Rome:20240615T170000
DTEND;TZID=Europe/Rome:20240616T183000
DTSTAMP:20260422T024452
CREATED:20240430T140456Z
LAST-MODIFIED:20240610T141614Z
UID:12139-1718470800-1718562600@www.castellodisantasevera.it
SUMMARY:Teatro itinerante
DESCRIPTION:15 giugno\, ore 18.00  Rappresentazione di Romeo e Giulietta. Teatro con postazioni itineranti dove il pubblico viene guidato alla scoperta della messa in scena della celebre tragedia di Shakespeare. L’immortale capolavoro di W. Shakespeare è una delle più grandi e sofferte storie d’amore della letteratura di tutti i tempi. Romeo e Giulietta sono i sentimenti uccisi dai compromessi sociali\, il rimpianto per la purezza che il diventare adulti ci ha fatto dimenticare\, l’amore che nessuno è riuscito a vivere. Essi incarnano un mito\, quello della tragedia del dolore innocente con le implicazioni ideologiche che comporta. E incarnano e continueranno ad incarnare il mito dell’unione tra Amore e Morte. Controtempo Theatre propone lo spettacolo in versione itinerante. Il pubblico ha la sensazione di immergersi nel percorso dei due innamorati ritrovandosi in un vortice di emozioni da vivere con passione e verità. Le scene\, l’interpretazione\, i luoghi scelti\, gli effetti\, le musiche rendono intenso lo spettacolo che si svolge a stretto contatto con le spettatrici e gli spettatori che non hanno sedute ma si spostano nei vari angoli del sito scelto per la rappresentazione sentendosi così parte integrante dell’opera. \nIngresso gratuito fino ad esaurimento capienza con prenotazione su  ➤ eventbrite \n \n16 giugno\, ore 18.00 Rappresentazione di Amleto messo in scena in formula itinerante Tra le opere di Shakespeare la tragedia di Amleto è la più affascinante e misteriosa\, complessa e problematica. E’ il tormento del dubbio che spinge il protagonista a rifugiarsi nella riflessione per sfuggire ad una realtà che lo disgusta. La vicenda è assai nota: Amleto viene a sapere dell’omicidio commesso dallo zio Claudio ai danni del padre tramite l’apparizione di uno spettro\, quello del fantasma di Amleto padre e re. Amleto sa che potrebbe trattarsi di un semplice sogno\, di una rivelazione di uno spettro volto a far sembrare che le cose stiano “nel modo in cui dicono di stare”. Una verità che non esclude la possibilità che si tratti di una semplice e misera menzogna. Perciò il dolore del protagonista si divide tra “quel che mostra esteriormente” e “quel che egli sente interiormente”. Amleto appare trasformato e viene considerato folle. Qualcuno è convinto che sia l’amore per Ofelia ad averlo fatto uscire di senno. Sta di fatto che la malinconia di Amleto corrisponde ad una follia generata dal suo dubbio che lo chiude come in una prigione\, la prigione della sua mente e della sua anima\, fatta di celle\, sotterranei e segrete. \nLe rappresentazioni sono  messe in scena dalla Compagnia Controtempo \nIngresso gratuito fino ad esaurimento capienza con prenotazione su ➤eventbrite
URL:https://www.castellodisantasevera.it/evento/teatro-in-riva-al-mare/
CATEGORIES:In evidenza
ATTACH;FMTTYPE=image/jpeg:https://www.castellodisantasevera.it/app/uploads/2024/04/WhatsApp-Image-2024-06-10-at-16.11.26.jpeg
END:VEVENT
BEGIN:VEVENT
DTSTART;TZID=Europe/Rome:20240616T173000
DTEND;TZID=Europe/Rome:20240616T190000
DTSTAMP:20260422T024452
CREATED:20240605T143921Z
LAST-MODIFIED:20240605T144909Z
UID:12305-1718559000-1718564400@www.castellodisantasevera.it
SUMMARY:Presentazione di Corpi abbandonati. La nuova indagine di Giorgia del Rio e Doriana Messina
DESCRIPTION:Domenica 16 giugno alle ore 17.30 in Sala Nostromo per la rassegna letteraria Libri e calici sotto le stelle\, presentazione del romanzo di Emiliano Bezzon\, Corpi abbandonati. La nuova indagine di Giorgia del Rio e Doriana Messina. \nDoriana Messina\, al termine di una complessa indagine in materia di traffico d’opere d’arte rubate\, si concede una breve vacanza con l’amica Giorgia del Rio. Ritorna potente il ricordo della morte del padre\, Maresciallo dei Carabinieri\, scomparso in un misterioso incidente e nasce così un’indagine personale. Incontri speciali e vicende storiche troppo spesso dimenticate\, portano dentro un intrigo tra politica\, criminalità organizzata e Servizi Segreti. Intanto\, a Milano\, Giorgia del Rio entra in contatto con alcune donne vittime di violenza domestica. Mondi apparentemente lontani finiscono per intrecciarsi\, facendo emergere una straordinaria verità. \nEmiliano Bezzon \nDa oltre 29 anni è dirigente pubblico: già Comandante della Polizia Locale di Gallarate\, Vigevano\, Varese e Milano e direttore dell’Accademia Regionale di Polizia\, ora è Comandante della Polizia Locale a Torino; giornalista e autore di saggistica giuridica per operatori di polizia. Ha pubblicato il racconto noir “La notte del boss” in “Delitti e canzoni”\, edito da Todaro nel 2007. Assieme a Cristina Preti ha pubblicato i romanzi gialli “Breva di morte” e “Le verità di Giobbe”\, entrambe editi da Eclissi\, nel 2015 e nel 2016. Dal 2016 scrive da solo: con i racconti “Incubo di una notte di mezza estate” e “Lo sguardo del pesce” è risultato finalista dei concorsi “Giallolaghi” e “Garfagnana in Giallo” e pubblicato nelle relative antologie\, edite da Morellini e Tra le Righe. Nel 2017 ha pubblicato il romanzo “Il manoscritto scomparso di Siddharta” con Robin\, vincitore di diversi premi e concorsi e la raccolta di racconti “I delitti della città in un giardino” con Macchione. Quest’ultimo ha ottenuto il premio speciale per l’antologia di racconti al concorso “La provincia in giallo 2018”.Nel 2018 è risultato ancora tra i finalisti del premio “Garfagnana in giallo” con pubblicazione del racconto nella relativa antologia.Da dicembre 2018 fa parte del collettivo letterario “Torinoir” formato da dodici autori di gialli e noir della città di Torino. \nIngresso gratuito con prenotazione su eventbrite \n 
URL:https://www.castellodisantasevera.it/evento/presentazione-di-corpi-abbandonati-la-nuova-indagine-di-giorgia-del-rio-e-doriana-messina/
CATEGORIES:In evidenza
ATTACH;FMTTYPE=image/jpeg:https://www.castellodisantasevera.it/app/uploads/2024/06/1080x1080-16-giugno_Calici_Social-Card.jpg
END:VEVENT
END:VCALENDAR