BEGIN:VCALENDAR
VERSION:2.0
PRODID:-//Castello di Santa Severa - Un castello sempre aperto - ECPv6.15.20//NONSGML v1.0//EN
CALSCALE:GREGORIAN
METHOD:PUBLISH
X-WR-CALNAME:Castello di Santa Severa - Un castello sempre aperto
X-ORIGINAL-URL:https://www.castellodisantasevera.it
X-WR-CALDESC:Eventi per Castello di Santa Severa - Un castello sempre aperto
REFRESH-INTERVAL;VALUE=DURATION:PT1H
X-Robots-Tag:noindex
X-PUBLISHED-TTL:PT1H
BEGIN:VTIMEZONE
TZID:Europe/Rome
BEGIN:DAYLIGHT
TZOFFSETFROM:+0100
TZOFFSETTO:+0200
TZNAME:CEST
DTSTART:20230326T010000
END:DAYLIGHT
BEGIN:STANDARD
TZOFFSETFROM:+0200
TZOFFSETTO:+0100
TZNAME:CET
DTSTART:20231029T010000
END:STANDARD
BEGIN:DAYLIGHT
TZOFFSETFROM:+0100
TZOFFSETTO:+0200
TZNAME:CEST
DTSTART:20240331T010000
END:DAYLIGHT
BEGIN:STANDARD
TZOFFSETFROM:+0200
TZOFFSETTO:+0100
TZNAME:CET
DTSTART:20241027T010000
END:STANDARD
BEGIN:DAYLIGHT
TZOFFSETFROM:+0100
TZOFFSETTO:+0200
TZNAME:CEST
DTSTART:20250330T010000
END:DAYLIGHT
BEGIN:STANDARD
TZOFFSETFROM:+0200
TZOFFSETTO:+0100
TZNAME:CET
DTSTART:20251026T010000
END:STANDARD
END:VTIMEZONE
BEGIN:VEVENT
DTSTART;TZID=Europe/Rome:20240602T173000
DTEND;TZID=Europe/Rome:20240825T210000
DTSTAMP:20260422T023926
CREATED:20240430T141313Z
LAST-MODIFIED:20240725T184746Z
UID:12142-1717349400-1724619600@www.castellodisantasevera.it
SUMMARY:Libri e calici sotto le stelle\, seconda edizione
DESCRIPTION:Per il secondo anno consecutivo\, dopo il successo dello scorso anno\, torna tutte le domeniche\,   in Sala Nostromo  Libri e calici sotto le stelle dal  2 giugno fino al 25 agosto al Castello di Santa Severa\, spazio della Regione Lazio gestito dalla società in house LAZIOcrea. \nUn format di successo  per promuovere la lettura attraverso la presentazione di libri  al pubblico con la presenza  degli autori con il sottofondo delle onde del mare e  in abbinamento alla degustazione di calici di vino  dei produttori  dell’Associazione ” La strada del vino delle terre etrusco romane” con la presenza di sommelier. \nModera la giornalista Francesca Lazzeri. \nIngresso gratuito fino a esaurimento posti con prenotazione su eventbrite \n_______________________________________________________ \ngiugno: \n02/06 – Cinzia Dal Maso – “Femminaccie impudentissime” con esposizione fotografica a cura della fotografa Teresa Mancini / Annalisa Venditti  “Andrea Baroni – Il cavaliere delle rose e delle nuvole” ore 17.30 \n09/06 – Barbara Aversa – “La figlia della lupa” ore 17.30 \n16/06 – Emiliano Bezzon – “Corpi abbandonati – La nuova indagine di Giorgia del Rio e Doriana Messina” ore 17.30 \n23/06 – François Morlupi – “il gioco degli opposti” ore 17.30 \n30/06 –Carla Cucchiarelli– “Io sono Nannarella – Intrigo a Firenze” ore 17.30 \n_______________________________________________________ \nLuglio\n07/07 – Mara Fux  “Tutta colpa di Maria” e “Ai tempi del corona -In due ore o poco più” ore 19.30\n14/07 – Maurizio Giannini – “L’ultima seducente esecuzione “ore 18.00\n21/07 – Eduardo Ciampi\, Mino Freda\, Paolo Palliccia\, Paolo Velonà – “San Giorgio e il drago: l’indispensabile mito. Storia\, metastoria\, Arte e Letteratura” ore 19.30\n28/07 – Annalisa Venditti – “Il giorno dell’Assoluzione”\, “Delitto all’Home Restaurant” e “Omicidio al presepe vivente” ore 19.30 \n_______________________________________________________ \nAgosto\n04/08 – Manuela e Camilla Forcina – “Il mistero del Cristo Velato. L’ultimo colpo di scalpello” ore 19.30 \n11/08- Sara Marcoccia–  “Le giraffe in giardino” ore 19.30 \n18/08- Daniela Alibrandi – ” I delitti del Mugnone” ore 19.30 \n25/08- Narcís Pallarès–Domènech\, Alessio Postiglione\, Valerio Mancini -” Calcio\, politica e potere” ore 19.30
URL:https://www.castellodisantasevera.it/evento/libri-e-calici-sotto-le-stelle/
CATEGORIES:In evidenza
ATTACH;FMTTYPE=image/png:https://www.castellodisantasevera.it/app/uploads/2024/04/Calici_Card-data-aggiornata.png
END:VEVENT
BEGIN:VEVENT
DTSTART;TZID=Europe/Rome:20240609T173000
DTEND;TZID=Europe/Rome:20240609T190000
DTSTAMP:20260422T023926
CREATED:20240604T150610Z
LAST-MODIFIED:20240606T152532Z
UID:12298-1717954200-1717959600@www.castellodisantasevera.it
SUMMARY:Presentazione del romanzo " la figlia della lupa"
DESCRIPTION:Domenica  9  giugno\, secondo appuntamento della rassegna letteraria Libri a calici sotto le stelle al castello di Santa Severa\, con Barbara Aversa  che presenta il suo romanzo  “La figlia della lupa” alle  ore 17.30 con la moderazione della giornalista Francesca Lazzeri. \nDue epoche differenti\, ruoli femminili che cambiano\, evolvono ma trovano sempre ostacoli e difficoltà nel proprio cammino. Due donne che si incontreranno negli occhi altrui\, quegli occhi che entrambe hanno incrociato in momenti differenti della loro vita e che forse non rivedranno mai più. Ogni azione di una donna è costantemente messa a giudizio. Si valuta il loro matrimonio o la loro scelta di restare sole\, la loro bellezza e il loro carattere\, la loro forza o le loro fragilità… In un’Italia spaccata a metà\, tra dopoguerra e giorni nostri\, tra centro e periferia\, con La figlia della lupa\, Barbara Aversa compie il suo esordio letterario con un thriller delicato e potente\, in cui sono le donne e la loro femminilità a essere le protagoniste. Donne forti\, donne dolci\, donne aggraziate\, donne avide\, donne generose\, madri\, figlie sorelle e amiche: La figlia della lupa è un intreccio di storie di donne e nell’intreccio con altre vite ritroveranno se stesse e la propria strada. Una sola è La figlia della lupa\, ma in fondo lo siamo tutte. \nBarbara Aversa è un’insegnante romana\, lavora in ambito giornalistico e come content creator sui social network conosciuta come missparklingbooks. Ha pubblicato diversi racconti per riviste thriller e non\, e ha vinto il premio Subway letteratura.\nLa figlia della lupa è il suo primo romanzo. \nLa presentazioni di libri e incontri con l’autore in Sala Nostromo con il sottofondo delle onde del mare\, accompagnate dalla degustazione di calici di vino è a cura dall’Associazione Strada del vino delle terre etrusco romane. \nTutti gli incontri fino al 25 agosto sono con ingresso libero fino esaurimento posti con prenotazione su➤ eventbrite \n 
URL:https://www.castellodisantasevera.it/evento/presentazione-del-romanzo-la-figlia-della-lupa/
CATEGORIES:In evidenza
ATTACH;FMTTYPE=image/jpeg:https://www.castellodisantasevera.it/app/uploads/2024/06/1080x1080_9-giugno_Calici_Social-Card.jpg
END:VEVENT
END:VCALENDAR