BEGIN:VCALENDAR
VERSION:2.0
PRODID:-//Castello di Santa Severa - Un castello sempre aperto - ECPv6.15.20//NONSGML v1.0//EN
CALSCALE:GREGORIAN
METHOD:PUBLISH
X-ORIGINAL-URL:https://www.castellodisantasevera.it
X-WR-CALDESC:Eventi per Castello di Santa Severa - Un castello sempre aperto
REFRESH-INTERVAL;VALUE=DURATION:PT1H
X-Robots-Tag:noindex
X-PUBLISHED-TTL:PT1H
BEGIN:VTIMEZONE
TZID:Europe/Rome
BEGIN:DAYLIGHT
TZOFFSETFROM:+0100
TZOFFSETTO:+0200
TZNAME:CEST
DTSTART:20230326T010000
END:DAYLIGHT
BEGIN:STANDARD
TZOFFSETFROM:+0200
TZOFFSETTO:+0100
TZNAME:CET
DTSTART:20231029T010000
END:STANDARD
BEGIN:DAYLIGHT
TZOFFSETFROM:+0100
TZOFFSETTO:+0200
TZNAME:CEST
DTSTART:20240331T010000
END:DAYLIGHT
BEGIN:STANDARD
TZOFFSETFROM:+0200
TZOFFSETTO:+0100
TZNAME:CET
DTSTART:20241027T010000
END:STANDARD
BEGIN:DAYLIGHT
TZOFFSETFROM:+0100
TZOFFSETTO:+0200
TZNAME:CEST
DTSTART:20250330T010000
END:DAYLIGHT
BEGIN:STANDARD
TZOFFSETFROM:+0200
TZOFFSETTO:+0100
TZNAME:CET
DTSTART:20251026T010000
END:STANDARD
END:VTIMEZONE
BEGIN:VEVENT
DTSTART;TZID=Europe/Rome:20240601T100000
DTEND;TZID=Europe/Rome:20240602T190000
DTSTAMP:20260422T022321
CREATED:20240430T134538Z
LAST-MODIFIED:20240602T104830Z
UID:12136-1717236000-1717354800@www.castellodisantasevera.it
SUMMARY:Festa del 2 giugno
DESCRIPTION:Per la Festa della Repubblica\,  il castello di Santa Severa\, spazio della Regione Lazio gestito dalla società in house LAZIOcrea\, d’intesa con Mic e Comune di Santa  Marinella si trasformerà in un villaggio dedicato alla nostra Costituzione attraverso gli articoli dei principi fondamentali del nostro ordinamento  esposti  in tutto il borgo che sarà addobbato a festa con tante  bandierine  tricolori. \nIn occasione dei festeggiamenti della 78esima Festa della Repubblica  Italiana nata il  2 giugno 1946\, con il referendum a suffragio universale indetto per scegliere la forma istituzionale da dare al Paese\, che segnò anche l’ingresso delle donne nella vita politica italiana\,  sabato 1 giugno e domenica 2 giugno\, si potrà passeggiare per l’antico maniero con ingresso gratuito e si potrà assistere e partecipare a performance artistiche e  musicali\, esposizione e degustazione di prodotti tipici ed artigianato\, degustazioni ed esperienze di assaggio vini da meditazione\, giochi\, scambi di libri\, benessere  e tanto altro. \n  \nProgramma \nSabato 1° Giugno  \nPiazzale della Guardia: \nMusica dal vivo dedicata alla tradizione musicale italiana\, ore 11:00-13:00 e ore 15:00-18:30 \nCortile delle Barrozze: \nPostazione book crossing per scambiare libri\, ore 11:00-19:00 \nDistribuzione gratuita di tè caldo o freddo \nGiochi da tavolo: scacchi\, dama\, domino\, freccette\, lancio degli anelli\, Jenga\, Scrabble\, Twister\, Uno\, Hula Hoop (tutta la giornata) \nSpianata dei Signori: \nCorso di modellamento realizzazione di orsetto in fommy modellabile a cura di Dolci Creazioni\, ore 16:30 \nPer i più piccoli\, spettacolo Magico Valentino e clown Pastasciutta in” Arrivano i clown”!!! Magia comica e giocolerie\, gag e cabaret per bambini\, ore 16.30 -18.30 \nPercorso dedicato al benessere e alla salute con lezioni di ci-gong con la Maestra Maurya Coruzzi\,  ore 17.30 \nSala Innovation Lab: \nCorso di avvicinamento al vino con degustazione dei vini del territorio a cura di una sommelier esperta\, ore 11.30 e ore 16.30 \nViale del castello: \nMostra di pittura di artisti del territorio \n_______________________________________________________________________ \nDomenica 2 Giugno \nPiazza della Guardia:  \nMusica dal vivo  dedicata alla tradizione musicale italiana\, ore 11:30-13:00 e ore 15:00-18:30 \nCortile delle Barrozze: \nGiochi da tavolo: scacchi\, dama\, domino\, freccette\, lancio degli anelli\, Jenga\, Scrabble\, Twister\, Uno\, Hula Hoop\, tutta la giornata \n– La mattina dalle 11.30 alle 13.00 il clown Pastasciutta distribuirà pop corn\, zucchero filato e meravigliose sculture di palloncini \n– Un pomeriggio in Allegria con il clown Pastasciutta e Capitan Spaventa. \nSpettacolo comico\, ore 16.30 -18.30 \nSala artisti: \npiano terra \nPostazione book crossing per scambiare libri\, ore 11:00- 19:00 \nDistribuzione gratuita di tè caldo o freddo \nprimo piano: Mostra di pittura dell’artista Barbara Todini \nSpianata dei Signori: \nTecniche respiratorie antistress a cura della operatrice olistica Irina Lavrichtcheva ore 10.30\, è consigliato abbigliamento comodo e munirsi di un telo da mare o un tappetino da Yoga acqua e fazzoletti. \nPercorso dedicato al benessere e alla salute con lezioni di ci-gong con la Maestra Maurya Coruzzi\, ore 11.00 \nCorso di modellamento realizzazione di orsetto in fommy modellabile a cura di Dolci Creazioni\, ore 16:30 \nSala Innovation Lab: \nCorso di avvicinamento al vino con degustazione dei vini del territorio a cura di una sommelier esperta ore 11.30 e ore 16.30 \nViale del castello: \nMostra di pittura degli artisti  Mario Alberto Agugiaro\, Fabrizio de Magistris\,  Marco Piemonte e  Marco Recchia  dell’associazione  Oltre la tela \n_______________________________________________________________________ \nIngresso gratuito fino a esaurimento della capienza \nIngresso ai Musei e visite guidate a pagamento \n  \n 
URL:https://www.castellodisantasevera.it/evento/festa-del-2-giugno-e-per-il-fine-settimana/
CATEGORIES:In evidenza
ATTACH;FMTTYPE=image/jpeg:https://www.castellodisantasevera.it/app/uploads/2024/04/Social-2-Giugno-1080x1080-1.jpg
END:VEVENT
BEGIN:VEVENT
DTSTART;TZID=Europe/Rome:20240601T100000
DTEND;TZID=Europe/Rome:20240605T190000
DTSTAMP:20260422T022321
CREATED:20240525T150638Z
LAST-MODIFIED:20240525T151016Z
UID:12250-1717236000-1717614000@www.castellodisantasevera.it
SUMMARY:Festa patronale Santa Severa
DESCRIPTION:Il Castello di Santa Severa deve il suo nome a Severa\, giovane martire cristiana che si tramanda abbia trovato qui la morte il 5 giugno del 298 d. C.\, sotto l’impero di Diocleziano\, insieme ai suoi fratelli. A lei è dedicata la Chiesa paleocristiana – databile tra la seconda metà del V e i primi decenni del VI secolo – in parte visibile nella piazza della Rocca. \nPer celebrare Santa Severa\, vergine e martire il Comitato Pro Severa organizza la Festa patronale  il 1 – 2 – 4 – 5 giugno 2024 “Dal martirio alla chiesa del castello \, dalla parrocchia alla comunità” con il seguente programma all’interno del maniero: \nsabato 1 giugno 2024 \nore 10:00 – apertura festeggiamenti\, saluti \nore 10:30 – inaugurazione mostra fotografica gratuita\, sala Pyrgi \ndomenica 2 giugno \nore 10:00 – processione con reliquia e simulacro di Santa Severa \npercorso: da via Aurelia angolo via del castello a chiesa Santa Maria Assunta \nore 11:30 – celebrazione eucaristica chiesa Santa Maria Assunta \nmostra fotografica gratuita\, sala Pyrgi \nmartedì 4 giugno \nore 17:00 –  “Dal martirio al ricordo di Severa” chiesa Santa Maria Assunta \nmercoledì 5 giugno \nore 11:30 – solenne celebrazione eucaristica \nore 17:00 – Origini storiche “Perché Santa Severa?” chiesa Santa Maria Assunta
URL:https://www.castellodisantasevera.it/evento/festa-patronale-santa-severa/
CATEGORIES:In evidenza
ATTACH;FMTTYPE=image/jpeg:https://www.castellodisantasevera.it/app/uploads/2024/05/Santa-Savera-LazioCrea_0143-HDR-scaled.jpg
END:VEVENT
BEGIN:VEVENT
DTSTART;TZID=Europe/Rome:20240602T173000
DTEND;TZID=Europe/Rome:20240602T183000
DTSTAMP:20260422T022321
CREATED:20240522T102726Z
LAST-MODIFIED:20240530T160937Z
UID:12232-1717349400-1717353000@www.castellodisantasevera.it
SUMMARY:Presentazione di Femminaccie impudentissime
DESCRIPTION:Per il secondo anno consecutivo\, dopo il successo dello scorso anno\, torna tutte le domeniche dal  2 giugno al 4 agosto al Castello di Santa Severa un format di successo\, Libri e calici sotto le stelle\,  per promuovere la lettura attraverso la presentazione di libri al pubblico a cura degli autori in abbinamento alla degustazione di un calice di vino. Modera la giornalista Francesca Lazzeri. \nore 17.30 presentazione del libro  di Cinzia Dal Maso\, Femminaccie impudentissime\, Istituto Internazionale di Studi “Giuseppe Garibaldi”\, Dunp editore \nDal 30 aprile al 30 giugno del 1849 la disperata difesa della Repubblica Romana assediata dall’esercito francese che voleva restaurare il governo temporale di papa Pio IX vide lo straordinario impegno di volontari provenienti da ogni parte d’Italia e perfino d’Europa. Allo stesso tempo nelle ambulanze e nelle corsie degli ospedali alcune donne combattevano una battaglia silenziosa: erano le infermiere volontarie reclutate dalla principessa Cristina Trivulzio di Belgiojoso per curare i feriti\, anche quelli avversari. Non conobbero riposo e si sottoposero a fatiche estenuanti\, senza temere le bombe che colpivano i locali dove operavano\, eppure scrittori e giornalisti reazionari le apostrofarono con i peggiori epiteti\, chiamandole «donne d’equivoca fama»\, «svergognate»\, «femminaccie impudentissime». Secondo Pio IX i miseri infermi erano stati spesso costretti a morire «fra le lusinghe di sfacciate meretrici». Con questo libro si cerca di rendere onore a donne coraggiose che seppero precorrere i tempi senza tenere conto dei pregiudizi. \nLa presentazione del libro è accompagnato dal Il lavoro fotografico di Teresa Mancini che  racconta la pessima reputazione di cui venivano tacciate le donne volontarie\, che offrivano supporto ai soldati feriti che combattevano nel 1849 contro i Francesi a favore della Repubblica Romana. \nLa fotografa le ha immaginate sorelle in un’utopia e le ha viste fiere e sconfortate\, le ha pensate organizzate e fattive. Così come è di fatto ciascuna donna che combatte per un’ideale\, ancora oggi. Le ricordiamo anche nel giorno della Festa della Repubblica. \nCINZIA DAL MASO è una giornalista e scrittrice romana\, con una laurea in Lettere e una in Scienze della Comunicazione pubblica e d’impresa. È membro del Comitato Scientifico dell’Istituto Internazionale di Studi “Giuseppe Garibaldi” e direttrice della rivista on-line www.specchioromano.it Ha scritto numerosi libri\, articoli e saggi\, tra cui Le città degli Etruschi (1984)\,  Colomba Antonietti: la vera storia di un’eroina (2011)\, Gli allievi volontari di Menotti Garibaldi (2016)\, Girolamo Malloni\, il lupo di fiume garibaldino (2016)\, La Repubblica dei romani (2017)\, Femminaccie Impudentissime (2023). Ha ricevuto nel 2004 e nel 2012 in Campidoglio il premio Personalità Europea per la stampa e la tv. \nIngresso gratuito fino ad esaurimento posti con prenotazione su eventbrite \n 
URL:https://www.castellodisantasevera.it/evento/presentazione-di-feminaccie-impudentissime/
CATEGORIES:In evidenza
ATTACH;FMTTYPE=image/jpeg:https://www.castellodisantasevera.it/app/uploads/2024/05/femminaccieq.jpg
END:VEVENT
BEGIN:VEVENT
DTSTART;TZID=Europe/Rome:20240602T173000
DTEND;TZID=Europe/Rome:20240602T190000
DTSTAMP:20260422T022321
CREATED:20240522T112532Z
LAST-MODIFIED:20240522T112532Z
UID:12236-1717349400-1717354800@www.castellodisantasevera.it
SUMMARY:Presentazione "Andrea Baroni. Il cavaliere delle rose e delle nuvole”
DESCRIPTION:Il generale Andrea Baroni (1917- 2014)\, uno dei più famosi meteorologi televisivi\, apre la “cassaforte” dei suoi ricordi ad Annalisa Venditti (1977)\, una giornalista da anni impegnata nello studio della vicenda degli IMI\, i militari italiani internati nei lager tedeschi dopo l’8 settembre 1943. Il loro incontro avviene grazie a un disegno a carboncino\, intitolato “Primi freddi”. E’ un ritratto dell’artista trentino Michelangelo Perghem Gelmi (1911-1992)\, realizzato durante il viaggio in treno verso il lager di Tarnopol\, in Ucraina.  Le opere di Perghem Gelmi sono state raccolte negli anni Settanta nel volume d’arte “Da Cannes a Tarnopol”\, accompagnate dalle intense parole\, veri ricordi di prigionia\, del suo compagno Francesco Piero Baggini (1914-2000)\, alpino\, professore di materie umanistiche a Sondrio. Dopo la morte di Perghem Gelmi e Baggini e fino al 2009 quel disegno era rimasto senza un nome. Grazie a Mauro Baggini (nipote di Francesco Piero Baggini) e a Mario Perghem Gelmi (figlio di Michelangelo) Annalisa Venditti c ha rintracciato Andrea Baroni. E’ stato proprio il generale\, a distanza di più di sessant’anni dalla sua esecuzione\, a riconoscere in quel disegno del 16 ottobre 1943  il suo ritratto da internato. \nDa qui\, da questo singolare incontro di memorie che uniscono la città di Sondrio\, Trento e Roma\, prendono il via le pagine di un libro dalla struttura particolare. Da un lato il diario di Baroni successivo all’internamento\, che a distanza di tanti anni annota e rintraccia ogni singolo particolare di quella tragica esperienza. Dall’altro la cronaca di una ricerca storica condotta con gli strumenti dello scavo biografico e dell’investigazione giornalistica. \nAndrea Baroni e Annalisa Venditti rappresentano due generazioni a confronto sedute al banco della Storia: li dividevano al tempo infatti sessant’anni\, ma li accomunavano una grande affinità elettiva\, la passione per i colpi di scena della vita\, l’odore che hanno i ricordi\, il rispetto che si deve alla memoria. Per la prima volta nella sua vita Andrea Baroni ha ricordato la prigionia in Germania e i fatti che\, come in un romanzo\, determinarono il suo avventuroso rientro in patria. Nel libro emergono le tracce indelebili di un passato impresso nella piastrina di metallo del lager o negli oggetti ricevuti in dono dal sorriso di una donna\, quando la vita lo volle Cavaliere delle rose. Ma anche la biografia di uno dei personaggi più seguiti della nostra tv\, signore del bello e del cattivo tempo: un vero Cavaliere delle nuvole. \nAnnalisa Venditti è nata a Roma nel 1977. Giornalista professionista e scrittrice\, dopo la laurea in Lettere\, ha cominciato a collaborare a programmi televisivi della Rai. Attualmente lavora nella redazione di Chi l’ha visto? (Rai 3)\, curando la rubrica delle opere d’arte rubate.
URL:https://www.castellodisantasevera.it/evento/presentazione-andrea-baroni-il-cavaliere-delle-rose-e-delle-nuvole/
CATEGORIES:In evidenza
ATTACH;FMTTYPE=image/jpeg:https://www.castellodisantasevera.it/app/uploads/2024/05/copertinaq.jpg
END:VEVENT
BEGIN:VEVENT
DTSTART;TZID=Europe/Rome:20240602T173000
DTEND;TZID=Europe/Rome:20240825T210000
DTSTAMP:20260422T022321
CREATED:20240430T141313Z
LAST-MODIFIED:20240725T184746Z
UID:12142-1717349400-1724619600@www.castellodisantasevera.it
SUMMARY:Libri e calici sotto le stelle\, seconda edizione
DESCRIPTION:Per il secondo anno consecutivo\, dopo il successo dello scorso anno\, torna tutte le domeniche\,   in Sala Nostromo  Libri e calici sotto le stelle dal  2 giugno fino al 25 agosto al Castello di Santa Severa\, spazio della Regione Lazio gestito dalla società in house LAZIOcrea. \nUn format di successo  per promuovere la lettura attraverso la presentazione di libri  al pubblico con la presenza  degli autori con il sottofondo delle onde del mare e  in abbinamento alla degustazione di calici di vino  dei produttori  dell’Associazione ” La strada del vino delle terre etrusco romane” con la presenza di sommelier. \nModera la giornalista Francesca Lazzeri. \nIngresso gratuito fino a esaurimento posti con prenotazione su eventbrite \n_______________________________________________________ \ngiugno: \n02/06 – Cinzia Dal Maso – “Femminaccie impudentissime” con esposizione fotografica a cura della fotografa Teresa Mancini / Annalisa Venditti  “Andrea Baroni – Il cavaliere delle rose e delle nuvole” ore 17.30 \n09/06 – Barbara Aversa – “La figlia della lupa” ore 17.30 \n16/06 – Emiliano Bezzon – “Corpi abbandonati – La nuova indagine di Giorgia del Rio e Doriana Messina” ore 17.30 \n23/06 – François Morlupi – “il gioco degli opposti” ore 17.30 \n30/06 –Carla Cucchiarelli– “Io sono Nannarella – Intrigo a Firenze” ore 17.30 \n_______________________________________________________ \nLuglio\n07/07 – Mara Fux  “Tutta colpa di Maria” e “Ai tempi del corona -In due ore o poco più” ore 19.30\n14/07 – Maurizio Giannini – “L’ultima seducente esecuzione “ore 18.00\n21/07 – Eduardo Ciampi\, Mino Freda\, Paolo Palliccia\, Paolo Velonà – “San Giorgio e il drago: l’indispensabile mito. Storia\, metastoria\, Arte e Letteratura” ore 19.30\n28/07 – Annalisa Venditti – “Il giorno dell’Assoluzione”\, “Delitto all’Home Restaurant” e “Omicidio al presepe vivente” ore 19.30 \n_______________________________________________________ \nAgosto\n04/08 – Manuela e Camilla Forcina – “Il mistero del Cristo Velato. L’ultimo colpo di scalpello” ore 19.30 \n11/08- Sara Marcoccia–  “Le giraffe in giardino” ore 19.30 \n18/08- Daniela Alibrandi – ” I delitti del Mugnone” ore 19.30 \n25/08- Narcís Pallarès–Domènech\, Alessio Postiglione\, Valerio Mancini -” Calcio\, politica e potere” ore 19.30
URL:https://www.castellodisantasevera.it/evento/libri-e-calici-sotto-le-stelle/
CATEGORIES:In evidenza
ATTACH;FMTTYPE=image/png:https://www.castellodisantasevera.it/app/uploads/2024/04/Calici_Card-data-aggiornata.png
END:VEVENT
END:VCALENDAR