BEGIN:VCALENDAR
VERSION:2.0
PRODID:-//Castello di Santa Severa - Un castello sempre aperto - ECPv6.15.20//NONSGML v1.0//EN
CALSCALE:GREGORIAN
METHOD:PUBLISH
X-WR-CALNAME:Castello di Santa Severa - Un castello sempre aperto
X-ORIGINAL-URL:https://www.castellodisantasevera.it
X-WR-CALDESC:Eventi per Castello di Santa Severa - Un castello sempre aperto
REFRESH-INTERVAL;VALUE=DURATION:PT1H
X-Robots-Tag:noindex
X-PUBLISHED-TTL:PT1H
BEGIN:VTIMEZONE
TZID:Europe/Rome
BEGIN:DAYLIGHT
TZOFFSETFROM:+0100
TZOFFSETTO:+0200
TZNAME:CEST
DTSTART:20230326T010000
END:DAYLIGHT
BEGIN:STANDARD
TZOFFSETFROM:+0200
TZOFFSETTO:+0100
TZNAME:CET
DTSTART:20231029T010000
END:STANDARD
BEGIN:DAYLIGHT
TZOFFSETFROM:+0100
TZOFFSETTO:+0200
TZNAME:CEST
DTSTART:20240331T010000
END:DAYLIGHT
BEGIN:STANDARD
TZOFFSETFROM:+0200
TZOFFSETTO:+0100
TZNAME:CET
DTSTART:20241027T010000
END:STANDARD
BEGIN:DAYLIGHT
TZOFFSETFROM:+0100
TZOFFSETTO:+0200
TZNAME:CEST
DTSTART:20250330T010000
END:DAYLIGHT
BEGIN:STANDARD
TZOFFSETFROM:+0200
TZOFFSETTO:+0100
TZNAME:CET
DTSTART:20251026T010000
END:STANDARD
END:VTIMEZONE
BEGIN:VEVENT
DTSTART;TZID=Europe/Rome:20240518T210000
DTEND;TZID=Europe/Rome:20240518T230000
DTSTAMP:20260422T035823
CREATED:20240514T105926Z
LAST-MODIFIED:20240514T110129Z
UID:12198-1716066000-1716073200@www.castellodisantasevera.it
SUMMARY:Veglia di Pentecoste
DESCRIPTION:Sabato 18 maggio\, alle  ore 21.00  il Vescovo Gianrico Ruzza presiederà la Veglia di Pentecoste nel Castello di Santa Severa nella piazza delle Barrozze. Per la prima volta la celebrazione vedrà coinvolte insieme le due diocesi unite di Civitavecchia-Tarquinia e Porto-Santa Rufina. Il vescovo  ha invitato  tutti i fedeli delle diocesi di Porto-Santa Rufina e di Civitavecchia-Tarquinia a partecipare alla Veglia dopo l’ esperienza vissuta lo scorso anno dalla Chiesa portuense\, quest’anno il compimento del tempo della Pasqua vedrà assieme le due diocesi. \nNella prospettiva di una sempre crescente ministerialità dei fedeli\, durante la preghiera il vescovo conferirà il mandato ai ministri straordinari della Comunione della diocesi di Porto-Santa Rufina e agli operatori della pastorale giovanile di Civitavecchia-Tarquinia ricadenti in questo territorio legato dalla costa tirrenica che parte dal Tevere e tocca la Toscana\, includendo parte della Città metropolitana di Roma\, la campagna romana e l’Etruria meridionale.
URL:https://www.castellodisantasevera.it/evento/veglia-di-pentecoste/
CATEGORIES:In evidenza
ATTACH;FMTTYPE=image/jpeg:https://www.castellodisantasevera.it/app/uploads/2024/05/pentecosteq.jpg
END:VEVENT
END:VCALENDAR