BEGIN:VCALENDAR
VERSION:2.0
PRODID:-//Castello di Santa Severa - Un castello sempre aperto - ECPv6.15.20//NONSGML v1.0//EN
CALSCALE:GREGORIAN
METHOD:PUBLISH
X-WR-CALNAME:Castello di Santa Severa - Un castello sempre aperto
X-ORIGINAL-URL:https://www.castellodisantasevera.it
X-WR-CALDESC:Eventi per Castello di Santa Severa - Un castello sempre aperto
REFRESH-INTERVAL;VALUE=DURATION:PT1H
X-Robots-Tag:noindex
X-PUBLISHED-TTL:PT1H
BEGIN:VTIMEZONE
TZID:Europe/Rome
BEGIN:DAYLIGHT
TZOFFSETFROM:+0100
TZOFFSETTO:+0200
TZNAME:CEST
DTSTART:20230326T010000
END:DAYLIGHT
BEGIN:STANDARD
TZOFFSETFROM:+0200
TZOFFSETTO:+0100
TZNAME:CET
DTSTART:20231029T010000
END:STANDARD
BEGIN:DAYLIGHT
TZOFFSETFROM:+0100
TZOFFSETTO:+0200
TZNAME:CEST
DTSTART:20240331T010000
END:DAYLIGHT
BEGIN:STANDARD
TZOFFSETFROM:+0200
TZOFFSETTO:+0100
TZNAME:CET
DTSTART:20241027T010000
END:STANDARD
BEGIN:DAYLIGHT
TZOFFSETFROM:+0100
TZOFFSETTO:+0200
TZNAME:CEST
DTSTART:20250330T010000
END:DAYLIGHT
BEGIN:STANDARD
TZOFFSETFROM:+0200
TZOFFSETTO:+0100
TZNAME:CET
DTSTART:20251026T010000
END:STANDARD
END:VTIMEZONE
BEGIN:VEVENT
DTSTART;TZID=Europe/Rome:20240504T100000
DTEND;TZID=Europe/Rome:20240505T190000
DTSTAMP:20260422T021745
CREATED:20240430T083651Z
LAST-MODIFIED:20240503T132329Z
UID:12125-1714816800-1714935600@www.castellodisantasevera.it
SUMMARY:Proroga 4 e 5 maggio al Castello di Santa Severa: arte\, degustazioni\, visite guidate e street food
DESCRIPTION:A causa del maltempo del 1° maggio\, il prossimo fine settimana 4 e 5 maggio\, il Castello di Santa Severa\, spazio della Regione Lazio gestito dalla società in house LAZIOcrea d’intesa con Mic e Comune di Santa Marinella\, proroga la stessa iniziativa per vivere due giornate all’aria aperta per tutta la famiglia. \nIl lungo ponte iniziato il 25 aprile con il successo della Festa di primavera proseguirà\, quindi\,  anche  nel fine settimana dalle 10.00 alle 19.00\,  con degustazioni a tema\,  con un percorso guidato di assaggio di vini del territorio a cura della Strada del Vino delle terre etrusco romane\, con  gli aperitivi\, con alcune  esposizioni artigianali e con lo street food di qualità con prodotti a km 0. \nProseguirà inoltre\,  la mostra “Castle Event” con ingresso libero\, nei due piani della Sala degli artisti con l’esposizione di opere d’arte di pittori\, fotografi e scultori a cura del gallerista Andrea Cerqua di Tracciati d’arte\,  alla quale si aggiungeranno alcuni artisti ” en plain air”  che animeranno il Castello con la loro arte dal vivo. \nSaranno aperti anche Il Museo del Castello ospitato all’interno della Rocca trecentesca su tre livelli in un’area di 800 metri quadri nella quale sono raccolti alcuni dei reperti portati alla luce nel corso degli scavi svolti in contemporanea ai lavori di restauro\, curati dalla Soprintendenza e dai volontari del Gruppo archeologico del territorio Cerite. Aperta per la visita anche la Torre Saracena\, di forma cilindrica collegata al Castello da una passerella in legno\, la parte più antica della fortezza che risale al IX secolo\, a 20 metri di altezza\, per ammirare un panorama mozzafiato a picco sul mare. Il Museo del mare e della navigazione antica\, con le sue sette sale e oltre cento reperti permette di avvicinarsi al mondo degli antichi marinai attraverso ricostruzioni al vero di ambienti e strumentazioni\, frutto del lavoro di ricerca del Centro Studi marittimi\, in collaborazione con specialisti di università italiane ed europee. Domenica saranno disponibili\, inoltre\, anche le visite guidate\, con due appuntamenti alle ore 11.30  e alle 15.00 \nL’accesso ai musei e le visite guidate sono a pagamento\, con il biglietto di ingresso si ha diritto a tre ore di sosta gratuita.
URL:https://www.castellodisantasevera.it/evento/proroga-4-e-5-maggio-al-castello-arte-degustazioni-visite-guidate-e-street-food/
CATEGORIES:In evidenza
ATTACH;FMTTYPE=image/jpeg:https://www.castellodisantasevera.it/app/uploads/2024/04/Social-castello-1e4-maggio-1080x1080-RL-002.jpg
END:VEVENT
BEGIN:VEVENT
DTSTART;TZID=Europe/Rome:20240516T160000
DTEND;TZID=Europe/Rome:20240516T190000
DTSTAMP:20260422T021745
CREATED:20240515T142817Z
LAST-MODIFIED:20240515T143458Z
UID:12203-1715875200-1715886000@www.castellodisantasevera.it
SUMMARY:Convegno: Tre Re e un popolo
DESCRIPTION:Un importante appuntamento per creare nuove relazioni con importanti stakeholders del settore turistico\, accendendo i riflettori sulle meraviglie dell’Etruria Meridionale. Ad organizzarlo è l’associazione DMO Etruskey\, promotrice del convegno “Tre re e un popolo\, al presente e al futuro. Offerta turistica integrata e sostenibile per lo sviluppo economico delle destinazioni” che giovedì 16 maggio 2024 dalle ore 16.30 sarà ospitato dal Castello di Santa Severa. \nL’evento risponde alla mission della DMO Etruskey di promuovere e valorizzare il territorio\, attraverso un progetto condiviso da parte di soggetti pubblici e privati\, con due obiettivi ambiziosi: \n\ncreare un’unica identità con un brand immediatamente riconoscibile da posizionare a livello nazionale e internazionale;\ncreare un’offerta turistica strutturata\, in rete\, per rispondere alla domanda di turisti ed escursionisti alla ricerca di esperienze vere\, uniche e da raccontare.\n\nSarà\, inoltre\, l’occasione per la presentazione del video “48 ore alla scoperta della terra dei Re by… Etruskey”\, una produzione Lonely Planet realizzata grazie al sostegno di UniCredit attraverso Made4Italy\, il programma per favorire un sistema integrato tra turismo e agricoltura per la valorizzazione dei territori e delle risorse locali\, in cui la DMO Etruskey è entrata a far parte. \n \n ____________ \nPROGRAMMA \n  \n16:00 Accredito partecipanti \n  \n16:30 Tavola Rotonda: OFFERTA TURISTICA INTEGRATA E SOSTENIBILE  \nPER LO SVILUPPO ECONOMICO DELLE DESTINAZIONI \nLetizia Casuccio – Presidente DMO Etruskey \nFabrizio Tartaglia –  Territorial Development Centro UniCredit \nSandro Pappalardo – Consigliere ENIT \nPaolo Giuntarelli – Direttore Turismo Regione Lazio \nSimona Olivadese – Referente Turismo UniCredit Made4Italy \nAngelo Pittro – Direttore Lonely Planet Italia \nTestimonianze associati DMO Etruskey \nModera: \nStefano Landi – Destination Manager DMO Etruskey \n  \n17:45 Proiezione del video\n“48 ore alla scoperta della terra dei Re by… Etruskey” \nConclusione lavori \n ____________ \nA seguire aperitivo di saluto con degustazione di prodotti locali. \norganizzato da DMO Etruskey nell’ambito del programma  \n“Made4Italy” di UniCredit per la valorizzazione dei territori italiani  \nin collaborazione con Lonely Planet \n  \nCASTELLO DI SANTA SEVERA \nVia Aurelia\, Km 52\,600\, \nSanta Marinella RM
URL:https://www.castellodisantasevera.it/evento/convegno-tre-re-e-un-popolo/
CATEGORIES:In evidenza
ATTACH;FMTTYPE=image/jpeg:https://www.castellodisantasevera.it/app/uploads/2023/01/DJI_0031-3-scaled.jpg
END:VEVENT
BEGIN:VEVENT
DTSTART;TZID=Europe/Rome:20240518T210000
DTEND;TZID=Europe/Rome:20240518T230000
DTSTAMP:20260422T021745
CREATED:20240514T105926Z
LAST-MODIFIED:20240514T110129Z
UID:12198-1716066000-1716073200@www.castellodisantasevera.it
SUMMARY:Veglia di Pentecoste
DESCRIPTION:Sabato 18 maggio\, alle  ore 21.00  il Vescovo Gianrico Ruzza presiederà la Veglia di Pentecoste nel Castello di Santa Severa nella piazza delle Barrozze. Per la prima volta la celebrazione vedrà coinvolte insieme le due diocesi unite di Civitavecchia-Tarquinia e Porto-Santa Rufina. Il vescovo  ha invitato  tutti i fedeli delle diocesi di Porto-Santa Rufina e di Civitavecchia-Tarquinia a partecipare alla Veglia dopo l’ esperienza vissuta lo scorso anno dalla Chiesa portuense\, quest’anno il compimento del tempo della Pasqua vedrà assieme le due diocesi. \nNella prospettiva di una sempre crescente ministerialità dei fedeli\, durante la preghiera il vescovo conferirà il mandato ai ministri straordinari della Comunione della diocesi di Porto-Santa Rufina e agli operatori della pastorale giovanile di Civitavecchia-Tarquinia ricadenti in questo territorio legato dalla costa tirrenica che parte dal Tevere e tocca la Toscana\, includendo parte della Città metropolitana di Roma\, la campagna romana e l’Etruria meridionale.
URL:https://www.castellodisantasevera.it/evento/veglia-di-pentecoste/
CATEGORIES:In evidenza
ATTACH;FMTTYPE=image/jpeg:https://www.castellodisantasevera.it/app/uploads/2024/05/pentecosteq.jpg
END:VEVENT
BEGIN:VEVENT
DTSTART;TZID=Europe/Rome:20240525T100000
DTEND;TZID=Europe/Rome:20240526T190000
DTSTAMP:20260422T021745
CREATED:20240430T130105Z
LAST-MODIFIED:20240524T154336Z
UID:12133-1716631200-1716750000@www.castellodisantasevera.it
SUMMARY:Festival medievale
DESCRIPTION:Il 25 e il 26 maggio il castello di Santa Severa\, spazio della Regione Lazio gestito dalla società in house LAZIOcrea\, d’intesa con Mic e Comune di Santa Marinella\,  ospita un Festival medievale\, due giornate speciali con ingresso gratuito\, dalle 10.00 alle 19.00  per viaggiare indietro nel tempo e tornare all’epoca di dame e cavalieri. Tante le attività previste e pensate per regalare ad adulti e bambini emozioni uniche e indimenticabili. \nIl 25 maggio\, è prevista una giornata in attesa del Festival…con il  mercato degli artigiani sul piazzale della Guardia Il mercato ospita per tutto il giorno banchi di  ceramica medievale\,  lavorazione di taglieri\, mestoli\, piatti di legno di oliva\,  vestiti e accessori medievali\,  cosmetici naturali\, cuoio borse e sandali\, giochi per bambini in legno e gioielli in stile antico oltre a una preziosa mostra di riproduzioni di abiti d’epoca. \nIl 26 maggio\, invece ci sarà la giornata dedicata al  Festival medievale vero e proprio\, sempre con il mercato degli artigiani per tutta la giornata  con laboratori a tema nel piazzale della Guardia.  Proseguendo la passeggiata nel borgo\, il Cortile delle Barrozze ospita I banchi dei mestieri medievali a cura dell’’Associazione Giovanna D’Arco\, visitabili per tutto il giorno. Previste  dimostrazioni e didattica dei mestieri come il  fabbro\, l’usbergaio\, la filatrice\, la ricamatrice\, il coniatore\, la banca\, l’ingegnere con le armi d’assedio e lo speziale. \nUn accampamento militare sarà allestito sulla Spianata dei Signori  a cura della Compagnia del Castello e si potrà visitare tutto il giorno la grande  tenda di accampamento con i colori Rosso e Blu. In ogni accampamento militare era presente il banco del cerusico con l’esposizione degli strumenti che venivano utilizzati per la chirurgia dell’epoca. Inoltre sarà presente  un  banco con oggetti da offesa e difesa con esposizione di  spade\, archi\, cotta di maglia\, componenti d’armatura. Sono previste dimostrazione di tiro con l’arco  per i visitatori\, adulti e bambini dai 10 anni in su\, sempre gratuitamente. \nSempre domenica esibizione degli Sbandieratori di San Gemini che alle ore 12.00 sfileranno per tutto il borgo accompagnati dal chiaro suono di annuncio di trombe e tamburi che terminerà con il classico spettacolo di lanci acrobatici delle bandiere sul grande prato davanti al mare. E poi i Musici con la loro performance itinerante nelle vie e nelle piazze del Castello. La giornata si concluderà con il gran finale a partire dalle 17.00 con intrattenimento musicale e prosa medievale Siam venuti a cantar Maggio del gruppo I Cerchi Magici sul piazzale delle Due Chiese. \nArea ristoro e degustazione a tema all’ingresso sul Piazzale del Fontanile in entrambe le giornate. \n 
URL:https://www.castellodisantasevera.it/evento/festival-medievale/
CATEGORIES:In evidenza
ATTACH;FMTTYPE=image/jpeg:https://www.castellodisantasevera.it/app/uploads/2024/04/Social-Medievale-1080x1080-1.jpg
END:VEVENT
END:VCALENDAR