BEGIN:VCALENDAR
VERSION:2.0
PRODID:-//Castello di Santa Severa - Un castello sempre aperto - ECPv6.15.20//NONSGML v1.0//EN
CALSCALE:GREGORIAN
METHOD:PUBLISH
X-WR-CALNAME:Castello di Santa Severa - Un castello sempre aperto
X-ORIGINAL-URL:https://www.castellodisantasevera.it
X-WR-CALDESC:Eventi per Castello di Santa Severa - Un castello sempre aperto
REFRESH-INTERVAL;VALUE=DURATION:PT1H
X-Robots-Tag:noindex
X-PUBLISHED-TTL:PT1H
BEGIN:VTIMEZONE
TZID:Europe/Rome
BEGIN:DAYLIGHT
TZOFFSETFROM:+0100
TZOFFSETTO:+0200
TZNAME:CEST
DTSTART:20230326T010000
END:DAYLIGHT
BEGIN:STANDARD
TZOFFSETFROM:+0200
TZOFFSETTO:+0100
TZNAME:CET
DTSTART:20231029T010000
END:STANDARD
BEGIN:DAYLIGHT
TZOFFSETFROM:+0100
TZOFFSETTO:+0200
TZNAME:CEST
DTSTART:20240331T010000
END:DAYLIGHT
BEGIN:STANDARD
TZOFFSETFROM:+0200
TZOFFSETTO:+0100
TZNAME:CET
DTSTART:20241027T010000
END:STANDARD
BEGIN:DAYLIGHT
TZOFFSETFROM:+0100
TZOFFSETTO:+0200
TZNAME:CEST
DTSTART:20250330T010000
END:DAYLIGHT
BEGIN:STANDARD
TZOFFSETFROM:+0200
TZOFFSETTO:+0100
TZNAME:CET
DTSTART:20251026T010000
END:STANDARD
END:VTIMEZONE
BEGIN:VEVENT
DTSTART;TZID=Europe/Rome:20240602T173000
DTEND;TZID=Europe/Rome:20240825T210000
DTSTAMP:20260422T025017
CREATED:20240430T141313Z
LAST-MODIFIED:20240725T184746Z
UID:12142-1717349400-1724619600@www.castellodisantasevera.it
SUMMARY:Libri e calici sotto le stelle\, seconda edizione
DESCRIPTION:Per il secondo anno consecutivo\, dopo il successo dello scorso anno\, torna tutte le domeniche\,   in Sala Nostromo  Libri e calici sotto le stelle dal  2 giugno fino al 25 agosto al Castello di Santa Severa\, spazio della Regione Lazio gestito dalla società in house LAZIOcrea. \nUn format di successo  per promuovere la lettura attraverso la presentazione di libri  al pubblico con la presenza  degli autori con il sottofondo delle onde del mare e  in abbinamento alla degustazione di calici di vino  dei produttori  dell’Associazione ” La strada del vino delle terre etrusco romane” con la presenza di sommelier. \nModera la giornalista Francesca Lazzeri. \nIngresso gratuito fino a esaurimento posti con prenotazione su eventbrite \n_______________________________________________________ \ngiugno: \n02/06 – Cinzia Dal Maso – “Femminaccie impudentissime” con esposizione fotografica a cura della fotografa Teresa Mancini / Annalisa Venditti  “Andrea Baroni – Il cavaliere delle rose e delle nuvole” ore 17.30 \n09/06 – Barbara Aversa – “La figlia della lupa” ore 17.30 \n16/06 – Emiliano Bezzon – “Corpi abbandonati – La nuova indagine di Giorgia del Rio e Doriana Messina” ore 17.30 \n23/06 – François Morlupi – “il gioco degli opposti” ore 17.30 \n30/06 –Carla Cucchiarelli– “Io sono Nannarella – Intrigo a Firenze” ore 17.30 \n_______________________________________________________ \nLuglio\n07/07 – Mara Fux  “Tutta colpa di Maria” e “Ai tempi del corona -In due ore o poco più” ore 19.30\n14/07 – Maurizio Giannini – “L’ultima seducente esecuzione “ore 18.00\n21/07 – Eduardo Ciampi\, Mino Freda\, Paolo Palliccia\, Paolo Velonà – “San Giorgio e il drago: l’indispensabile mito. Storia\, metastoria\, Arte e Letteratura” ore 19.30\n28/07 – Annalisa Venditti – “Il giorno dell’Assoluzione”\, “Delitto all’Home Restaurant” e “Omicidio al presepe vivente” ore 19.30 \n_______________________________________________________ \nAgosto\n04/08 – Manuela e Camilla Forcina – “Il mistero del Cristo Velato. L’ultimo colpo di scalpello” ore 19.30 \n11/08- Sara Marcoccia–  “Le giraffe in giardino” ore 19.30 \n18/08- Daniela Alibrandi – ” I delitti del Mugnone” ore 19.30 \n25/08- Narcís Pallarès–Domènech\, Alessio Postiglione\, Valerio Mancini -” Calcio\, politica e potere” ore 19.30
URL:https://www.castellodisantasevera.it/evento/libri-e-calici-sotto-le-stelle/
CATEGORIES:In evidenza
ATTACH;FMTTYPE=image/png:https://www.castellodisantasevera.it/app/uploads/2024/04/Calici_Card-data-aggiornata.png
END:VEVENT
BEGIN:VEVENT
DTSTART;TZID=Europe/Rome:20240804T193000
DTEND;TZID=Europe/Rome:20240804T210000
DTSTAMP:20260422T025017
CREATED:20240717T173003Z
LAST-MODIFIED:20240717T173003Z
UID:12384-1722799800-1722805200@www.castellodisantasevera.it
SUMMARY:Presentazione del romanzo  Il mistero del Cristo Velato
DESCRIPTION:Domenica 4 agosto\, alle ore 19.30 presentazione del romanzo  Il mistero del Cristo Velato. L’ultimo colpo di scalpello di Manuela Forcina e Camilla Forcina. \nLa presentazione in Sala Nostromo con ingresso gratuito è moderata dalla giornalista Francesca Lazzeri e i partecipanti potranno degustare calici di vino dei produttori del territorio associati alla  Strada del vino delle terre etrusco romane. \nNapoli\, anno domini 1753. Il principe Raimondo di Sangro sta completando i lavori alla Pietatella\, la cappella dei Sansevero\, affidandone l’esecuzione ad artisti provenienti da ogni dove. Ad un figurinista di presepi\, Giuseppe Sanmartino viene commissionato un incarico che\, nel passar dei secoli\, verrà ritenuto all’unanimità una delle più belle statue al mondo: il Cristo Velato. Ma come ha fatto un semplice artigiano del popolo ad elaborare un progetto di siffatta bellezza? In un perfetto amalgama di fantasia e verità\, il verosimile prende il sopravvento formulando possibili risposte a tutti gli interrogativi che la mente si pone. Passione\, amore\, tensione\, rabbia\, riconoscenza\, frustrazione muovono le azioni dei personaggi in una trama che si tinge ora di rosso ora di nero in un quadro settecentesco ove dubbio e verità avvolgono di mistero la nascita di un’opera di bellezza impareggiabile. \nIngresso gratuito con prenotazione su eventbrite \n 
URL:https://www.castellodisantasevera.it/evento/presentazione-del-romanzo-il-mistero-del-cristo-velato/
CATEGORIES:In evidenza
ATTACH;FMTTYPE=image/jpeg:https://www.castellodisantasevera.it/app/uploads/2024/07/4-agosto_Calici_Social-Card-1080x1080-1.jpg
END:VEVENT
BEGIN:VEVENT
DTSTART;TZID=Europe/Rome:20240811T193000
DTEND;TZID=Europe/Rome:20240811T210000
DTSTAMP:20260422T025017
CREATED:20240717T173610Z
LAST-MODIFIED:20240808T162235Z
UID:12386-1723404600-1723410000@www.castellodisantasevera.it
SUMMARY:Presentazione del romanzo Le giraffe in giardino
DESCRIPTION:Domenica 11 agosto alle ore 19.30 presentazione del romanzo Le giraffe in giardino di Sara Marcoccia. \nLa presentazione in Sala Nostromo con ingresso gratuito è moderata dalla giornalista Francesca Lazzeri e i partecipanti potranno degustare calici di vino dei produttori del territorio associati alla  Strada del vino delle terre etrusco romane. \n«Passiamo tutta la vita a pretendere l’amore. Da parte della famiglia\, di un eventuale marito\, o dagli amici. Vogliamo apprezzamento e riconoscenza. Ci impegniamo\, studiamo\, ci informiamo e cerchiamo di seguire il passo del mondo. Ma c’è un momento nella vita di una donna in cui non basta più ricevere; si desidera donare amore\, un sentimento più profondo e speciale\, come l’amore per un figlio». \n  \nSara Marcoccia è  laureata in Farmacia e Ingegneria industriale\, è direttore di farmacia. Da sempre appassionata di scrittura\, ha vinto diversi premi per i suoi racconti. Amante dei viaggi\, gira il mondo con suo marito. Durante una tappa in Sudafrica\, la scoperta improvvisa della malattia e dell’infertilità la portano alla stesura di quest’opera. Le giraffe in giardino è il suo romanzo di esordio. \nIngresso gratuito con prenotazione su eventbrite
URL:https://www.castellodisantasevera.it/evento/presentazione-del-romanzo-le-giraffe-in-giardino/
CATEGORIES:In evidenza
ATTACH;FMTTYPE=image/jpeg:https://www.castellodisantasevera.it/app/uploads/2024/07/1080x1080-11-agosto_Calici_Social-Card-1.jpg
END:VEVENT
BEGIN:VEVENT
DTSTART;TZID=Europe/Rome:20240818T193000
DTEND;TZID=Europe/Rome:20240818T210000
DTSTAMP:20260422T025017
CREATED:20240717T174433Z
LAST-MODIFIED:20240723T134057Z
UID:12391-1724009400-1724014800@www.castellodisantasevera.it
SUMMARY:Presentazione del romanzo I delitti del Mugnone
DESCRIPTION:Domenica 18 agosto alle 19.30 presentazione del romanzo I delitti del Mugnone di Daniela Alibrandi. \nLa presentazione in Sala Nostromo con ingresso gratuito è moderata dalla giornalista Francesca Lazzeri e i partecipanti potranno degustare calici di vino dei produttori del territorio associati alla  Strada del vino delle terre etrusco romane. \nNell’atmosfera misteriosa e inquietante di un monastero\, adagiato sulle colline toscane e in prossimità del fiume Mugnone\, un giallo ambientato nella seconda metà degli anni Ottanta. Qui si intrecceranno i destini di una ragazza\, alla ricerca disperata di un rifugio\, di uno spietato assassino\, che ama firmare i suoi efferati delitti\, e del commissario Rosco\, da poco trasferitosi a Firenze. Il capoluogo toscano non offre la sperata tranquillità al commissario\, che si trova a lavorare\, non senza difficoltà\, insieme a una nuova squadra. Dal fiume Mugnone\, infatti\, riaffiorano a pochi giorni di distanza i cadaveri di due adolescenti\, orrendamente sfigurati. Il richiamo ad altri due identici delitti irrisolti di tre anni prima porterà Riccardo Rosco a richiedere l’aiuto della sua ex ispettrice Porzi. Nella cornice fiorentina\, intrisa di sapore medievale e abilmente descritta\, si muovono con disinvoltura i personaggi. E tra intrecci imprevedibili e potenti colpi di scena\, si definirà un raccapricciante puzzle. \nDaniela Alibrandi è  un’autrice italiana nata a Roma e vissuta durante l’adolescenza negli Stati Uniti. Nella vita professionale si è occupata\, tra l’altro\, di scambi culturali nell’ambito del Consiglio d’Europa e dell’Unione Europea e in altri settori nel campo dell’istruzione. Sposata e con due figli\, ha pubblicato numerosi romanzi\, un’antologia e cinque edizioni inglesi. La scrittrice ha ottenuto diversi riconoscimenti letterari nazionali e internazionali. Le sue opere\, alcune inserite in catalogo presso l’Italian & European Bookshop di Londra e nelle biblioteche di prestigiose università statunitensi\, sono presenti nelle più importanti fiere del libro\, quali Il Salone del Libro di Torino\, Piùlibripiùliberi di Roma\, Book Pride di Milano e Book Festival di Pisa. Con le sue opere l’autrice è spesso ospite di trasmissioni televisive e radiofoniche della RAI \nIngresso gratuito con prenotazione su eventbrite
URL:https://www.castellodisantasevera.it/evento/presentazione-del-romanzo-i-delitti-del-mugnone/
CATEGORIES:In evidenza
ATTACH;FMTTYPE=image/jpeg:https://www.castellodisantasevera.it/app/uploads/2024/07/1080x1080-18-agosto_Calici_Social-Card-1.jpg
END:VEVENT
BEGIN:VEVENT
DTSTART;TZID=Europe/Rome:20240825T193000
DTEND;TZID=Europe/Rome:20240825T210000
DTSTAMP:20260422T025017
CREATED:20240717T175308Z
LAST-MODIFIED:20240821T090712Z
UID:12395-1724614200-1724619600@www.castellodisantasevera.it
SUMMARY:Presentazione del libro  Calcio\, politica e potere
DESCRIPTION:Domenica 25 agosto alle ore 19.30 presentazione del libro  Calcio\, politica e potere di Narcís Pallarès–Domènech\, Alessio Postiglione\, Valerio Mancini. \nLa presentazione in Sala Nostromo con ingresso gratuito è moderata dalla giornalista Francesca Lazzeri e i partecipanti potranno degustare calici di vino dei produttori del territorio associati alla  Strada del vino delle terre etrusco romane. \n“Calcio\, politica e potere” racconta il mondo del calcio e il suo rapporto con le relazioni internazionali e la politica mondiale\, e come il calcio sia assurto al ruolo di attore geopolitico fondamentale. Lo si può considerare un driver della globalizzazione e le sue organizzazioni sono vere e proprie istituzioni para-diplomatiche. Come strumento di soft power\, rappresenta un modo attraverso il quale gli Stati\, o addirittura nazioni senza Stato\, perseguano l’obiettivo di proiettare all’esterno identità\, potenza\, valori e ideologie\, mobilitando le masse all’interno dei propri confini. Il libro analizza sia il potenziale del calcio come agente di nazionalizzazione delle masse\, inquadrando lo sport come fattore genetico della Nazione\, fino al suo utilizzo geopolitico contemporaneo\, di proiezione delle potenze in ambito geopolitico. Lo scopo di questo libro è raccontare in modo divulgativo come e perché i Paesi e le grandi potenze usano lo sport più popolare del mondo per i loro obiettivi strategici. Seguendo il mondo del calcio\, possiamo avere una chiave di lettura per analizzare il presente\, per ricordare fatti storici del passato ed aver un elemento in più per orientarci nell’avvenire delle relazioni internazionali. Un focus specifico riguarda proprio i casi che svelano questo legame\, dall’Ucraina\, al Qatar dalla Cina agli Usa\, analizzando come le potenze principali utilizzino il pallone come soft power e strumento per promuovere le loro agende. \nNarcís Pallarès-Domènech\nNasce nel 1979 a Sant Jaume dels Domenys (Catalogna). Politologo. Analista di geopolitica e sicurezza. Laureato in Scienze politiche all’Universitat Autònoma de Barcelona. Master in Geopolitica e Master in Comunicazione e Lobbying nelle Relazioni Internazionali presso la SIOI-UNA Italy. Master di Geopolitica e Sicurezza Globale presso l’Università di Roma “La Sapienza”. Guest lecturer presso la cattedra di Geografia delle Lingue dell’Università di Roma “Tor Vergata”. Si occupa delle relazioni esterne e istituzionali della Delegazione del Governo della Catalogna in Italia. Co-autore di un manuale di criminologia pubblicato in America latina. Collabora con diversi mezzi di comunicazione e radiofonici. È socio del Futbol Club Barcelona e appassionato di calcio internazionale. \nAlessio Postiglione\nGiornalista professionista e Cavaliere dell’Ordine del merito della Repubblica. Già Research assistant dell’Istituto Universitario Europeo\, è direttore dell’International Master in Communications della Rome Business School\, docente in comunicazione per la LUISS\, la Sapienza e SIOI; ha scritto per La Repubblica\, Il Mattino\, l’Huffington Post\, L’Espresso; ex capo redattore de L’Identità. È stato Capo ufficio stampa presso Presidenza del Consiglio\, portavoce del sottosegretario alla Funzione pubblica\, addetto stampa al Parlamento europeo\, al Comune di Napoli e al Ministero della Cultura.\nÈ stato relatore alle Nazioni Unite di New York\, al Parlamento europeo\, al Senato e alla Camera dei deputati. Ha scritto Popolo e populismo (Cairo\, 2019)\, con il quale ha vinto il premio Milano International\, Sahara\, deserto di mafie e jihad (Castelvecchi\, 2017)\, The leftist rhetoric of the right wing propaganda in L’extreme droite in Europe (Bruylant\, 2016).\nVincitore della menzione speciale del Premio giornalistico e letterario Coni 2022 con Calcio e geopolitica (Edizioni Mondo Nuovo\, 2021). \nValerio Mancini\nAnalista e politologo esperto di relazioni internazionali.\nHa lavorato per l’Istituto Interregionale delle Nazioni Unite per la Ricerca sul Crimine e la Giustizia (UNICRI)\, l’Ufficio delle Nazioni Unite contro la Droga e il Crimine (UNODC)\, l’Organizzazione per la Cooperazione e lo Sviluppo Economico (OCSE) e il MAOC-N\, Centro di Analisi ed Operazioni Marittime – Narcotici.\nProfessore e Direttore del Centro di Ricerca della Rome Business School\, dove ha introdotto\, per il Master in Sport & Lifestyle Management\, il corso in “Geopolitica dello sport”.\nÈ docente presso l’Università degli studi di Roma “La Sapienza\, l’SSML “Unicollege” (Firenze)\, l’Italian Design Institute – IDI (Milano) e l’SSML “Armando Curcio” (Roma). È stato visiting lecturer in numerose università in Italia e all’estero.\nÈ Board member del Center for Leadership and Diplomacy e membro del Board editoriale della rivista scientifica The Market del Cyprus Institute of Marketing. Partecipa come speaker esperto di Sport Governance a diversi eventi in Italia e all’estero.\nAutore e co-autore di articoli e pubblicazioni accademiche\, ha lavorato per il quotidiano colombiano El Espectador e collabora dal 2010 con il programma radiofonico dell’Universidad Nacional de Colombia\, UN Analísis.\nGrande appassionato di calcio\, ha vissuto per molti anni tra Europa e Sudamerica. \n  \nIngresso gratuito con prenotazione su eventbrite
URL:https://www.castellodisantasevera.it/evento/presentazione-del-libro-calcio-politica-e-potere/
CATEGORIES:In evidenza
ATTACH;FMTTYPE=image/jpeg:https://www.castellodisantasevera.it/app/uploads/2024/07/1080x1080-25-agosto_Calici_Social-Card-1.jpg
END:VEVENT
BEGIN:VEVENT
DTSTART;TZID=Europe/Rome:20240827T193000
DTEND;TZID=Europe/Rome:20240827T203000
DTSTAMP:20260422T025017
CREATED:20240802T135713Z
LAST-MODIFIED:20240802T140606Z
UID:12622-1724787000-1724790600@www.castellodisantasevera.it
SUMMARY:Laboratorio per bambini a tema del film  Gatta Cenerentola
DESCRIPTION:27 agosto\, ore 19.30  Laboratorio per bambini a tema del film  Gatta Cenerentola \ndurata 1 ora \n50 posti disponibili \nIngresso gratuito con prenotazione obbligatoria  link prenotazione \nIl laboratorio porterà i bambini nel mondo delle emozioni\, dei colori e dell’amicizia. La storia ci insegna che fidarsi degli altri equivale a regalare ciò che di più importante si ha: il proprio cuore. E’ facile passare nella vita dalla gioia al dolore\, come è successo a Cenerentola\, ma si può trovare un amico che aiuti nelle situazioni più difficili. \nIl lavoro da realizzare a laboratorio sarà duplice: \nrealizzazione di una nave\, location della storia di Cenerentola. All’interno di questa nave\, ci sarà il cuore di Cenerentola\, che potrà fidarsi di nuovo del suo amico. \nUn cubo\, che cambia colore e disegno ad ogni facciata. E’ la vita che gira e che cambia emozioni\, vicende\, sentimenti. Ad ogni faccia c’è un ricordo\, una vicenda\, un sentimento\, in un grande carosello di colori. \nSarà consegnata a ogni  bambino la sintesi della storia della fiaba e  durante il laboratorio potranno riflettere a capirne i valori e la morale. \nA seguire alle ore 21.00 proiezione del film di animazione \n  \n 
URL:https://www.castellodisantasevera.it/evento/laboratorio-per-bambini-a-tema-del-film-gatta-cenerentola/
CATEGORIES:In evidenza
ATTACH;FMTTYPE=image/jpeg:https://www.castellodisantasevera.it/app/uploads/2024/08/locandina-1.jpg
END:VEVENT
END:VCALENDAR