BEGIN:VCALENDAR
VERSION:2.0
PRODID:-//Castello di Santa Severa - Un castello sempre aperto - ECPv6.15.20//NONSGML v1.0//EN
CALSCALE:GREGORIAN
METHOD:PUBLISH
X-WR-CALNAME:Castello di Santa Severa - Un castello sempre aperto
X-ORIGINAL-URL:https://www.castellodisantasevera.it
X-WR-CALDESC:Eventi per Castello di Santa Severa - Un castello sempre aperto
REFRESH-INTERVAL;VALUE=DURATION:PT1H
X-Robots-Tag:noindex
X-PUBLISHED-TTL:PT1H
BEGIN:VTIMEZONE
TZID:Europe/Rome
BEGIN:DAYLIGHT
TZOFFSETFROM:+0100
TZOFFSETTO:+0200
TZNAME:CEST
DTSTART:20230326T010000
END:DAYLIGHT
BEGIN:STANDARD
TZOFFSETFROM:+0200
TZOFFSETTO:+0100
TZNAME:CET
DTSTART:20231029T010000
END:STANDARD
BEGIN:DAYLIGHT
TZOFFSETFROM:+0100
TZOFFSETTO:+0200
TZNAME:CEST
DTSTART:20240331T010000
END:DAYLIGHT
BEGIN:STANDARD
TZOFFSETFROM:+0200
TZOFFSETTO:+0100
TZNAME:CET
DTSTART:20241027T010000
END:STANDARD
BEGIN:DAYLIGHT
TZOFFSETFROM:+0100
TZOFFSETTO:+0200
TZNAME:CEST
DTSTART:20250330T010000
END:DAYLIGHT
BEGIN:STANDARD
TZOFFSETFROM:+0200
TZOFFSETTO:+0100
TZNAME:CET
DTSTART:20251026T010000
END:STANDARD
END:VTIMEZONE
BEGIN:VEVENT
DTSTART;TZID=Europe/Rome:20240602T173000
DTEND;TZID=Europe/Rome:20240825T210000
DTSTAMP:20260422T025018
CREATED:20240430T141313Z
LAST-MODIFIED:20240725T184746Z
UID:12142-1717349400-1724619600@www.castellodisantasevera.it
SUMMARY:Libri e calici sotto le stelle\, seconda edizione
DESCRIPTION:Per il secondo anno consecutivo\, dopo il successo dello scorso anno\, torna tutte le domeniche\,   in Sala Nostromo  Libri e calici sotto le stelle dal  2 giugno fino al 25 agosto al Castello di Santa Severa\, spazio della Regione Lazio gestito dalla società in house LAZIOcrea. \nUn format di successo  per promuovere la lettura attraverso la presentazione di libri  al pubblico con la presenza  degli autori con il sottofondo delle onde del mare e  in abbinamento alla degustazione di calici di vino  dei produttori  dell’Associazione ” La strada del vino delle terre etrusco romane” con la presenza di sommelier. \nModera la giornalista Francesca Lazzeri. \nIngresso gratuito fino a esaurimento posti con prenotazione su eventbrite \n_______________________________________________________ \ngiugno: \n02/06 – Cinzia Dal Maso – “Femminaccie impudentissime” con esposizione fotografica a cura della fotografa Teresa Mancini / Annalisa Venditti  “Andrea Baroni – Il cavaliere delle rose e delle nuvole” ore 17.30 \n09/06 – Barbara Aversa – “La figlia della lupa” ore 17.30 \n16/06 – Emiliano Bezzon – “Corpi abbandonati – La nuova indagine di Giorgia del Rio e Doriana Messina” ore 17.30 \n23/06 – François Morlupi – “il gioco degli opposti” ore 17.30 \n30/06 –Carla Cucchiarelli– “Io sono Nannarella – Intrigo a Firenze” ore 17.30 \n_______________________________________________________ \nLuglio\n07/07 – Mara Fux  “Tutta colpa di Maria” e “Ai tempi del corona -In due ore o poco più” ore 19.30\n14/07 – Maurizio Giannini – “L’ultima seducente esecuzione “ore 18.00\n21/07 – Eduardo Ciampi\, Mino Freda\, Paolo Palliccia\, Paolo Velonà – “San Giorgio e il drago: l’indispensabile mito. Storia\, metastoria\, Arte e Letteratura” ore 19.30\n28/07 – Annalisa Venditti – “Il giorno dell’Assoluzione”\, “Delitto all’Home Restaurant” e “Omicidio al presepe vivente” ore 19.30 \n_______________________________________________________ \nAgosto\n04/08 – Manuela e Camilla Forcina – “Il mistero del Cristo Velato. L’ultimo colpo di scalpello” ore 19.30 \n11/08- Sara Marcoccia–  “Le giraffe in giardino” ore 19.30 \n18/08- Daniela Alibrandi – ” I delitti del Mugnone” ore 19.30 \n25/08- Narcís Pallarès–Domènech\, Alessio Postiglione\, Valerio Mancini -” Calcio\, politica e potere” ore 19.30
URL:https://www.castellodisantasevera.it/evento/libri-e-calici-sotto-le-stelle/
CATEGORIES:In evidenza
ATTACH;FMTTYPE=image/png:https://www.castellodisantasevera.it/app/uploads/2024/04/Calici_Card-data-aggiornata.png
END:VEVENT
BEGIN:VEVENT
DTSTART;TZID=Europe/Rome:20240707T193000
DTEND;TZID=Europe/Rome:20240707T210000
DTSTAMP:20260422T025018
CREATED:20240618T105459Z
LAST-MODIFIED:20240702T145754Z
UID:12334-1720380600-1720386000@www.castellodisantasevera.it
SUMMARY:Presentazione del romanzo Tutta colpa di Maria
DESCRIPTION:Domenica 7 luglio   alle ore 19.30 in Sala Nostromo nell’ambito della rassegna letteraria “ Libri e calici sotto le stelle” presentazione del romanzo “Tutta colpa di Maria”\,  edito da Prospettiva Editrice dell’autrice Mara Fux. \nLa presentazione in Sala Nostromo con ingresso gratuito è moderata dalla giornalista Francesca Lazzeri e i partecipanti potranno degustare calici di vino dei produttori del territorio associati alla  Strada del vino delle terre etrusco romane. \nLivia\, la protagonista del romanzo\, è una donna apparentemente serena: ha una buona carriera\, un marito che la ama\, dei figli giudiziosi e una famiglia amorevole ma… \nIn ogni famiglia spesso accade che vi sia uno scheletro più o meno “morto” e nel suo nucleo familiare questa figura è il nonno. L’uomo\, che la donna non ha mai conosciuto e che oramai è defunto\, ha abbandonato tutto per amore: il volto della giovane segretaria Carla\, di 20 anni più giovane di lui\, infatti\, ha rapito il suo cuore da Don Giovanni spingendolo a lasciare ogni cosa\, moglie e figli compresi. \nLivia che ha radici ben salde percepisce\, tuttavia\, una mancanza che si trasforma\, successivamente\, in un’intuizione: pur se il nonno è morto\, la donna con cui l’uomo è fuggito può essere ancora in vita e lei potrebbe scoprire\, quindi\, quella parte di passato che le manca. \nMara Fux\, romana di origini friulane\, già durante gli studi liceali ha l’opportunità di avvicinarsi al mondo dello spettacolo e di fare i primi passi come addetto stampa di festival e rassegne internazionali. A metà degli anni ’80 avvia le prime collaborazioni con periodici di settore ed ha i primi approcci da ufficio stampa con le redazioni di quotidiani e radiotelevisioni che ben presto la vedono protagonista nell’organizzazione di sfilate di moda\, rassegne di arte varia\, concerti di musica rock\, jazz\, eventi cinematografici\, televisivi e teatrali. La capacità organizzativa e la creatività la portano ad ideare operazioni a premio per aziende di ambito alimentare e beverage\, ove apprende quei principi commerciali che strategicamente aumentano la visibilità di un prodotto. Dalla fine degli anni ’90 si dedica principalmente alla valorizzazione dell’immagine coniugando esperienza e creatività nell’esecuzione di nuove strategie promozionali\, scelta che la porta al fianco di importanti personaggi del mondo del cinema\, TV\, sport\, ma anche personalità eccezionali che desiderano migliorare l’approccio con il pubblico e la comunicazione. “Tutta colpa di Maria!!!” pubblicato nel luglio 2019 da Prospettiva Editrice nonché vincitore del Premio Speciale della Giuria dell’VIIIa edizione del Premio Letterario Internazionale Città di Ladispoli\, è il suo romanzo d’esordio \nIngresso gratuito con prenotazione su eventbrite
URL:https://www.castellodisantasevera.it/evento/presentazione-del-romanzo-tutta-colpa-di-maria/
CATEGORIES:In evidenza
ATTACH;FMTTYPE=image/jpeg:https://www.castellodisantasevera.it/app/uploads/2024/06/1080x1080-7_luglio_Calici_Social-Card-1.jpg
END:VEVENT
BEGIN:VEVENT
DTSTART;TZID=Europe/Rome:20240712T080000
DTEND;TZID=Europe/Rome:20240714T000000
DTSTAMP:20260422T025018
CREATED:20240711T150100Z
LAST-MODIFIED:20240711T150100Z
UID:12375-1720771200-1720915200@www.castellodisantasevera.it
SUMMARY:Surf Expo
DESCRIPTION:Dal 12 al 14 luglio al “25^ Anniversario del Surf Expo 2024 al Castello di Santa Severa”\nTutto il programma su:\nhttps://www.italiasurfexpo.it
URL:https://www.castellodisantasevera.it/evento/surf-expo/
CATEGORIES:In evidenza,Sport
ATTACH;FMTTYPE=image/jpeg:https://www.castellodisantasevera.it/app/uploads/2024/07/Surf-Expo-2024.jpg
END:VEVENT
BEGIN:VEVENT
DTSTART;TZID=Europe/Rome:20240714T180000
DTEND;TZID=Europe/Rome:20240714T193000
DTSTAMP:20260422T025018
CREATED:20240702T112054Z
LAST-MODIFIED:20240702T112139Z
UID:12348-1720980000-1720985400@www.castellodisantasevera.it
SUMMARY:Presentazione del romanzo  “L’ultima seducente esecuzione"
DESCRIPTION:Domenica 14 luglio alle ore 18.00   presentazione del romanzo  “L’ultima seducente esecuzione”\, dell’autore Maurizio Giannini \nLa presentazione in Sala Nostromo con ingresso gratuito è moderata dalla giornalista Francesca Lazzeri e i partecipanti potranno degustare calici di vino dei produttori del territorio associati alla  Strada del vino delle terre etrusco romane. \n\n\n\n\n\n\nInverno 2006. Massimo Senisi\, mentre si allena\, trova in un fosso lungo via della Marcigliana\, alla periferia di Roma\, il cadavere di un uomo dal viso sfigurato. Dalle indagini emerge che si tratta di un affermato e stimato magistrato. L’unico indiziato è Felice Piras\, un ex pugile che ha appena finito di scontare la pena per un reato commesso ventun anni prima. Il caso irrompe sulle pagine della cronaca nera dell’Urbe ed è presto risolto\, perché l’accusato ha un movente ma non un alibi credibile.\nArianna Detti\, la ragazza di Massimo\, neolaureata in Legge e con la passione per le investigazioni\, per una serie di incredibili coincidenze si trova coinvolta nel caso e decide di indagare. Ciò che scoprirà\, grazie al suo intuito e all’aiuto di Massimo\, svelerà segreti celati da anni e passioni inconfessabili fino all’ultima seducente esecuzione. \nImmagine di copertina: Cristiana Giannini\, La sedia del magistrato\, 2022. \n\n\n\n\n\n\n\n\n\n\n\n\nMaurizio Giannini (Roma\, 1951)\, laureato in Architettura\, è autore di circa 70 libri dedicati soprattutto a ragazzi e bambini\, che pubblica con diverse case editrici italiane. Negli anni le sue opere ricevono numerosi riconoscimenti come il Premio Bancarellino per Le ombre di Halloween (La Scuola Ed.\, 2007)\, il Premio Giovanni Arpino per Chi uccide i professori? (La Medusa Ed.\, 2018) e\, nel 2021\, il Premio Nazionale Città di Ladispoli per Cattive storie – dieci racconti (il Rio Ed.\, 2021).\nCon L’ultima seducente esecuzione un nuovo personaggio si affaccia sulla scena investigativa\, l’intraprendente e intuitiva detective Arianna Detti. \nIngresso gratuito con prenotazione su eventbrite \n\n\n\n\n\n\n 
URL:https://www.castellodisantasevera.it/evento/presentazione-del-romanzo-lultima-seducente-esecuzione/
CATEGORIES:In evidenza
ATTACH;FMTTYPE=image/jpeg:https://www.castellodisantasevera.it/app/uploads/2024/07/1080x1080-14-luglio_Calici_Social-Card-1.jpg
END:VEVENT
BEGIN:VEVENT
DTSTART;TZID=Europe/Rome:20240721T193000
DTEND;TZID=Europe/Rome:20240721T210000
DTSTAMP:20260422T025018
CREATED:20240702T113335Z
LAST-MODIFIED:20240717T181014Z
UID:12354-1721590200-1721595600@www.castellodisantasevera.it
SUMMARY:Presentazione del saggio "San Giorgio e il drago: l’indispensabile mito. Storia\, metastoria\, Arte e Letteratura"
DESCRIPTION:Domenica 21 luglio\, alle ore 19.30  presentazione del saggio  “San Giorgio e il drago: l’indispensabile mito. Storia\, metastoria\, Arte e Letteratura” degli autori   Eduardo Ciampi\, Mino Freda\, Paolo Palliccia\, Paolo Velonà. \nLa presentazione in Sala Nostromo con ingresso gratuito è moderata dalla giornalista Francesca Lazzeri e i partecipanti potranno degustare calici di vino dei produttori del territorio associati alla  Strada del vino delle terre etrusco romane. \nUn saggio che tende a far chiarezza sul mito di San Giorgio\, figura assai diffusa nelle tradizioni popolari\, ma le cui radici sono poco conosciute. Attraverso la storia\, le arti e la letteratura creativa\, gli autori delineano un quadro stimolante di questo indispensabile mito che fa riferimento a un santo piuttosto enigmatico. \nIngresso gratuito con prenotazione su eventbrite
URL:https://www.castellodisantasevera.it/evento/presentazione-del-saggio-san-giorgio-e-il-drago-lindispensabile-mito-storia-metastoria-arte-e-letteratura/
CATEGORIES:In evidenza
ATTACH;FMTTYPE=image/jpeg:https://www.castellodisantasevera.it/app/uploads/2024/07/1080x1080-21-luglio_Calici_Social-Card-1.jpg
END:VEVENT
BEGIN:VEVENT
DTSTART;TZID=Europe/Rome:20240728T193000
DTEND;TZID=Europe/Rome:20240728T210000
DTSTAMP:20260422T025018
CREATED:20240702T113950Z
LAST-MODIFIED:20240723T133315Z
UID:12357-1722195000-1722200400@www.castellodisantasevera.it
SUMMARY:Presentazione dei romanzi   “Il giorno dell’Assoluzione”\, “Delitto all’Home Restaurant” e “Omicidio al presepe vivente"
DESCRIPTION:Domenica 28 luglio\, alle ore 19.30 presentazione dei romanzi   “Il giorno dell’Assoluzione”\, “Delitto all’Home Restaurant” e “Omicidio al presepe vivente” di  Annalisa Venditti. \nLa presentazione in Sala Nostromo con ingresso gratuito è moderata dalla giornalista Francesca Lazzeri e i partecipanti potranno degustare calici di vino dei produttori del territorio associati alla  Strada del vino delle terre etrusco romane. \n\n\n\n\n\n\nIl giorno dell’Assoluzione Il corpo di una donna giace esanime sulla giostra del Gianicolo\, a Roma. È l’alba. Nessun testimone\, nessun movente\, un solo dettaglio: una ballerina tatuata sul polso. Manca una scarpa rossa sul luogo del delitto. Sul caso indaga il capitano dei Carabinieri Giovanni Borgia\, uomo affascinante\, preciso nel lavoro e puntuale nel farsi intrappolare tra le lenzuola\, ma non da una fede al dito. Intanto una serie di omicidi\, mascherati da suicidi\, stanno invadendo la scrivania dell’investigatore. Nessuna prova certa\, ma le storie sembrano avere un comune denominatore: una mano assassina gioca con la corda soffocante dei sensi di colpa delle vittime e agisce manipolando i loro rimorsi fino a condurle a un finale che sorprenderà il lettore. L’autrice\, Annalisa Venditti\, dà prova di incredibile maestria nel tracciare i profili psicologici dei personaggi e li accompagna fino al giorno dell’Assoluzione. \nOmicidio al presepe vivente Un inquietante mistero sembra aleggiare tra le mura cariche di storia di San Porfidio dove\, come ogni anno\, si mette in scena la magia del grande Presepe vivente. Complice una vecchia cartolina ingiallita dal tempo\, il tenente Giovanni Borgia decide di partire con la sua fidanzata verso questo caratteristico borgo antico\, sconosciuto ai più\, per trascorrere le vacanze di Natale. Ma un fatto di sangue inaspettato turberà la quiete del luogo\, riportando il giovane ufficiale al lavoro.\nVerità celate da anni\, responsabilità omesse e colpe mai confessate sono gli ingredienti di questa trama che si sviluppa tra suspense e colpi di scena. Un’avventura natalizia in giallo\, con la quale Annalisa Venditti compie un balzo nel passato del capitano Borgia agli inizi della sua carriera investigativa. Immagine di copertina: Alberta Dionisi\, Rivelazione\, 2009. \nDelitto all’Home Restaurant” Chi ha organizzato l’incontro di alcuni ex compagni di classe in un home restaurant? La cena preparata dalla proprietaria è stata curata in ogni minimo dettaglio. Un banchetto fatale perché sarà servito un piatto condito di vendetta\, preparato espressamente da un sofisticato assassino\, un prezzo da pagare per un ferale conto in sospeso. Una nuova indagine vede protagonista il capitano Giovanni Borgia. Stavolta si troverà a risolvere un caso simile a un puzzle pieno di tessere mancanti. Un rompicapo degno del più abile enigmista\, che si diverte con i suoi rebus\, muovendo le pedine di una tavola da gioco disegnata apposta per le sue vittime.\nSullo sfondo\, una Roma fascinosa e trasandata dove si nasconde una mente perversa. \n\n\n\n\n\n\n\n\n\n\n\n\nAnnalisa Venditti (Roma\, 1977) si laurea in Lettere con una tesi in Archeologia e Storia dell’Arte greca e romana. Giornalista\, scrittrice e autore tv\, lavora nel programma Chi l’ha visto? in onda su Rai 3. Si occupa da anni di cronaca nera\, giudiziaria e omicidi irrisolti. Nell’estate del 2016 firma\, come coideatore e autore\, il programma di Rai 3 Vertigo. Gli abissi dell’anima. Tra le sue pubblicazioni\, L’albero di Millì\, una favola noir di Natale\, e Andrea Baroni. Il cavaliere delle rose e delle nuvole\, biografia del celebre meteorologo televisivo. Con dei Merangoli ha pubblicato Donne Perse(phone)\, testo teatrale contro la violenza di genere in scena dal 2016\, e i due romanzi gialli Il giorno dell’Assoluzione (2016) e Delitto all’Home Restaurant (2020)\, le prime avventure dell’affascinante capitano Giovanni Borgia. \nIngresso gratuito con prenotazione su eventbrite
URL:https://www.castellodisantasevera.it/evento/presentazione-dei-romanzi-il-giorno-dellassoluzione-delitto-allhome-restaurant-e-omicidio-al-presepe-vivente/
CATEGORIES:In evidenza
ATTACH;FMTTYPE=image/jpeg:https://www.castellodisantasevera.it/app/uploads/2024/07/1080x1080-28-luglio_Calici_Social-Card.jpg
END:VEVENT
END:VCALENDAR