BEGIN:VCALENDAR
VERSION:2.0
PRODID:-//Castello di Santa Severa - Un castello sempre aperto - ECPv6.15.20//NONSGML v1.0//EN
CALSCALE:GREGORIAN
METHOD:PUBLISH
X-WR-CALNAME:Castello di Santa Severa - Un castello sempre aperto
X-ORIGINAL-URL:https://www.castellodisantasevera.it
X-WR-CALDESC:Eventi per Castello di Santa Severa - Un castello sempre aperto
REFRESH-INTERVAL;VALUE=DURATION:PT1H
X-Robots-Tag:noindex
X-PUBLISHED-TTL:PT1H
BEGIN:VTIMEZONE
TZID:Europe/Rome
BEGIN:DAYLIGHT
TZOFFSETFROM:+0100
TZOFFSETTO:+0200
TZNAME:CEST
DTSTART:20230326T010000
END:DAYLIGHT
BEGIN:STANDARD
TZOFFSETFROM:+0200
TZOFFSETTO:+0100
TZNAME:CET
DTSTART:20231029T010000
END:STANDARD
BEGIN:DAYLIGHT
TZOFFSETFROM:+0100
TZOFFSETTO:+0200
TZNAME:CEST
DTSTART:20240331T010000
END:DAYLIGHT
BEGIN:STANDARD
TZOFFSETFROM:+0200
TZOFFSETTO:+0100
TZNAME:CET
DTSTART:20241027T010000
END:STANDARD
BEGIN:DAYLIGHT
TZOFFSETFROM:+0100
TZOFFSETTO:+0200
TZNAME:CEST
DTSTART:20250330T010000
END:DAYLIGHT
BEGIN:STANDARD
TZOFFSETFROM:+0200
TZOFFSETTO:+0100
TZNAME:CET
DTSTART:20251026T010000
END:STANDARD
END:VTIMEZONE
BEGIN:VEVENT
DTSTART;TZID=Europe/Rome:20240331T100000
DTEND;TZID=Europe/Rome:20240401T190000
DTSTAMP:20260422T235307
CREATED:20240327T084224Z
LAST-MODIFIED:20240328T095014Z
UID:12072-1711879200-1711998000@www.castellodisantasevera.it
SUMMARY:Vivi Pasqua e Pasquetta all’aria aperta al Castello
DESCRIPTION:In occasione delle festività pasquali\, domenica 31 e lunedì 1 aprile\, complice l’arrivo della primavera\, il Castello di Santa Severa sarà aperto al pubblico\, con ingresso gratuito nel borgo\, sia a Pasqua\,  che a Pasquetta\,  in  via straordinaria con i seguenti orari\, il giorno di Pasqua dalle 9.00 alle 17.00 e a Pasquetta dalle 10.00 alle 19.00. \nIl Castello è uno dei luoghi più suggestivi del territorio laziale\, con un patrimonio di inestimabile valore\, sia storico che culturale. Il complesso monumentale\, di proprietà della Regione Lazio\, è gestito da LAZIOcrea\, d’intesa con Mic e Comune di Santa Marinella.  \nNelle due splendide giornate da trascorrere negli spazi all’aperto del Castello di Santa Severa\, con tutta la famiglia\, sono previsti stand artigianali\,  laboratori sulle uova pasquali\, animazione in tema per bambini e bolle di sapone\, performance artistiche e circensi. Disponibile la tipica colazione di Pasqua\, stand di artigianato artistico oltre alla degustazione di prodotti  della tradizione e del territorio a km zero. \nSaranno aperti anche i Musei\, con le visite guidate\, e si potrà passeggiare per il Borgo\, partendo dal Museo del Mare e della Navigazione Antica\, proseguendo dal Cortile della Guardia e delle Barrozze\, per raggiungere la Chiesa dell’Assunta. Con la visita guidata si potrà ammirare anche il Battistero\, con gli affreschi recentemente restaurati della scuola di Antoniazzo Romano\, arrivando alla Piazza della Rocca\, agli Scavi Chiesa Paleocristiana\, alla Casa del Nostromo\, fino al Museo del Castello. \nLa Torre Saracena\, infine\, prevede una speciale visita accompagnata all’interno della imponente fortificazione cilindrica\, il “Maschio”\, anticamente chiamata “La Torre del Castello”\, che fu fatta costruire a metà del IX secolo da papa Leone X e che offre dai suoi 20 metri di altezza un panorama ineguagliabile. I Musei\, le visite guidate e la Torre Saracena sono a pagamento per i biglietti di ingresso rivolgersi in biglietteria \nDal 1° aprile al 30 giugno cambia l’orario di apertura del complesso monumentale\, inclusi i musei\, che saranno aperti dal martedì al venerdì\, dalle 09:00 alle 18:00\, sabato\, domenica e festivi dalle 10:00 alle 19:00. Lunedì giorno di chiusura settimanale. \nProgramma con ingresso gratuito \nPasqua 31 marzo\nore 11:00 apertura\, performance circense con trampoliera\nore 11:00-13:00 e 14:00-16:30 laboratori e animazione a tema\nore 12:30 e ore 15:30 animazione  artistico-circensi e bolle di sapone \nPasquetta 1 Aprile\nore 11:00 apertura\, performance circense con trampoliera\nore 11:00-13:00 e 14:00-18:30 laboratori e animazione a tema\nore 12:30 e 17:00 animazione teatrale e giocoleria
URL:https://www.castellodisantasevera.it/evento/vivi-pasqua-e-pasquetta-allaria-aperta-al-castello-di-santa-severa/
CATEGORIES:In evidenza
ATTACH;FMTTYPE=image/png:https://www.castellodisantasevera.it/app/uploads/2024/03/sito-e-x.png
END:VEVENT
END:VCALENDAR