BEGIN:VCALENDAR
VERSION:2.0
PRODID:-//Castello di Santa Severa - Un castello sempre aperto - ECPv6.15.20//NONSGML v1.0//EN
CALSCALE:GREGORIAN
METHOD:PUBLISH
X-WR-CALNAME:Castello di Santa Severa - Un castello sempre aperto
X-ORIGINAL-URL:https://www.castellodisantasevera.it
X-WR-CALDESC:Eventi per Castello di Santa Severa - Un castello sempre aperto
REFRESH-INTERVAL;VALUE=DURATION:PT1H
X-Robots-Tag:noindex
X-PUBLISHED-TTL:PT1H
BEGIN:VTIMEZONE
TZID:Europe/Rome
BEGIN:DAYLIGHT
TZOFFSETFROM:+0100
TZOFFSETTO:+0200
TZNAME:CEST
DTSTART:20200329T010000
END:DAYLIGHT
BEGIN:STANDARD
TZOFFSETFROM:+0200
TZOFFSETTO:+0100
TZNAME:CET
DTSTART:20201025T010000
END:STANDARD
BEGIN:DAYLIGHT
TZOFFSETFROM:+0100
TZOFFSETTO:+0200
TZNAME:CEST
DTSTART:20210328T010000
END:DAYLIGHT
BEGIN:STANDARD
TZOFFSETFROM:+0200
TZOFFSETTO:+0100
TZNAME:CET
DTSTART:20211031T010000
END:STANDARD
BEGIN:DAYLIGHT
TZOFFSETFROM:+0100
TZOFFSETTO:+0200
TZNAME:CEST
DTSTART:20220327T010000
END:DAYLIGHT
BEGIN:STANDARD
TZOFFSETFROM:+0200
TZOFFSETTO:+0100
TZNAME:CET
DTSTART:20221030T010000
END:STANDARD
END:VTIMEZONE
BEGIN:VEVENT
DTSTART;TZID=Europe/Rome:20210606T173000
DTEND;TZID=Europe/Rome:20210606T183000
DTSTAMP:20260423T103229
CREATED:20210531T074703Z
LAST-MODIFIED:20210606T154328Z
UID:7375-1623000600-1623004200@www.castellodisantasevera.it
SUMMARY:Chiara Cami live: evento sospeso causa maltempo
DESCRIPTION:EVENTO SOSPESO CAUSA MALTEMPO \nDomenica 6 giugno alle ore 17.30 la giovane cantautrice Chiara Cami eseguirà dal vivo alcune canzoni del suo repertorio. Chiara è una cantautrice romana di 22 anni amante della musica internazionale. Dal 2016 carica video su YouTube che spaziano dalle imitazioni di Ariana Grande a brani originali pop\, passando per varie riflessioni sulla sua vita di studentessa. Alcune tra le sue principali influenze sono Taylor Swift\, The 1975 e John Mayer. Finalista della prima edizione di Laziosound\, ha pubblicato il suo primo singolo 11:11 su tutte le piattaforme. \nIngresso gratuito fino esaurimento posti. Per info e prenotazioni eventi@arte2o.com \n  \nLINK VIDEO: \nhttps://www.youtube.com/watch?v=rK8Rj_rg0x8
URL:https://www.castellodisantasevera.it/evento/le-canzoni-di-chiara-cami/
CATEGORIES:In evidenza
ATTACH;FMTTYPE=image/jpeg:https://www.castellodisantasevera.it/app/uploads/2021/05/cami.jpeg
END:VEVENT
BEGIN:VEVENT
DTSTART;TZID=Europe/Rome:20210610T110000
DTEND;TZID=Europe/Rome:20210611T093000
DTSTAMP:20260423T103229
CREATED:20210607T102040Z
LAST-MODIFIED:20210609T113758Z
UID:7391-1623322800-1623403800@www.castellodisantasevera.it
SUMMARY:Con diverse scarpe su una strada sola
DESCRIPTION:Appuntamento giovedì 10 giugno con le storie di sport Con diverse scarpe su una strada sola\, un progetto di Itinerario Giovani realizzato nell’ambito del programma GenerAzioni Giovani delle Politiche Giovanili della Regione Lazio con il sostengo della Presidenza del Consiglio dei Ministri – Dipartimento per la Gioventù” a cura dell’Associazione Juppiter. \n Si inizia la mattina di giovedì\, con il meeting “Con diverse scarpe su una strada sola” – momento di formazione per allenatori\, educatori\, animatori sportivi\, sulla scia del decalogo dello sportivo elaborato da don Antonio Mazzi\, dove primeggia il motto “per essere un buono sportivo non basta arrivare primi!”. Nel frattempo\, all’aperto\, uno stand di scarpe di diversi sportivi sarà la cornice per la partenza di un percorso guidato da ascoltare dal proprio smartphone con “storie di sport\, incontri\, frammenti di vita”: 10 storie di altrettanti sportivi che si sono distinti non solo per i risultati sportivi\, ma anche per il loro impegno sociale. Nella stessa giornata altri due importanti momenti: alle 13.00 il pranzo Be different servito dai ragazzi diversamente abili dell’associazione Juppiter e alle 15.00 tre ore di giochi\, movimento e sport outdoor dedicati alle famiglie con bambini dai 3 anni in su.\nIl venerdì sarà invece dedicato a bambini e adolescenti fino a 16 anni con Prova lo sport: percorsi di abilità\, giochi tradizionali e sport outdoor.\nTutti gli eventi sono gratuiti. Per info e prenotazioni tel. 329.5382378 – juppitersport@juppiter.it\n 
URL:https://www.castellodisantasevera.it/evento/con-diverse-scarpe-su-una-strada-sola/
CATEGORIES:In evidenza
ATTACH;FMTTYPE=image/jpeg:https://www.castellodisantasevera.it/app/uploads/2021/06/juppiter.jpg
END:VEVENT
BEGIN:VEVENT
DTSTART;TZID=Europe/Rome:20210612T160000
DTEND;TZID=Europe/Rome:20210612T183000
DTSTAMP:20260423T103229
CREATED:20210607T095815Z
LAST-MODIFIED:20210607T150727Z
UID:7387-1623513600-1623522600@www.castellodisantasevera.it
SUMMARY:Letture animate tratte dal libro Le favole del Castello
DESCRIPTION:Sabato 12 giugno al piazzale delle Barrozze\, alle ore 16\,00 l’Associazione culturale Non Solo Roma proporrà alcune letture animate con uno spettacolo ispirato al libro di Laura Pastore autrice del volume Le favole del Castello edito dalla Prospettiva editrice. Le storie introdotte da Michela Draghetti sono tutte ambientate al Castello di Santa Severa\, uno dei luoghi più suggestivi della costa Tirrenica a Nord di Roma\, un patrimonio di inestimabile valore sia storico che culturale\, che l’hanno ispirata nella scrittura di queste favole.\nTra papi\, fantasmi e sirenette si ritrovano cenni storici e culturali del magnifico Castello conditi dalla fantasia della scrittrice\, giunta alla sua quarta opera\, e arricchiti da esercizi didattici a cura di Bruna Remoli\, da disegni colorabili di un giovane talento della scuola Comics conosciuto come Zeiga\, e da una prefazione della conduttrice Carolina Rey.\nSara Pastore\, sorella dell’autrice e attrice e cantante affermata darà vita alla fiaba ‘I Fantasmi del Castello’\, con la partecipazione della danzatrice\, cantante e attrice Lajla Iuri\, gli attori Andrea Dandolo  e Francesco Forte e il tenore Franco Stefani. L’appuntamento gratuito fino esaurimento posti è su prenotazione alla mail associazionenonsoloroma@gmail.com rispetterà le misure di stanziamento anti Covid in vigore.
URL:https://www.castellodisantasevera.it/evento/letture-animate-tratte-dal-libro-le-favole-del-castello/
CATEGORIES:In evidenza
ATTACH;FMTTYPE=image/jpeg:https://www.castellodisantasevera.it/app/uploads/2021/06/non-solo-roma_2021_4_low-00000002.jpg
END:VEVENT
BEGIN:VEVENT
DTSTART;TZID=Europe/Rome:20210619T180000
DTEND;TZID=Europe/Rome:20210620T193000
DTSTAMP:20260423T103229
CREATED:20210525T142713Z
LAST-MODIFIED:20210614T131313Z
UID:7365-1624125600-1624217400@www.castellodisantasevera.it
SUMMARY:Guarda e passa spettacolo di circo teatro
DESCRIPTION:Sabato 19 e  domenica  20 giugno\, alle ore 18:00 e 19:30 al  Castello di Santa Severa\, va in scena  “ Guarda e passa”\, spettacolo di circo teatro ispirato  alla Divina Commedia a cura di Materiaviva performance. \nLo spettacolo si sviluppa in due diverse postazioni\, dando la possibilità al pubblico\, oltre che di fruire dello spettacolo\, di attraversare gli spazi all’aperto del Castello per raggiungere i luoghi delle performance\, con una suggestiva passeggiata. \nUlisse\, Pier della Vigna\, Paolo e Francesca\, i prodighi\, gli avari\, le figure infernali e celestiali e tanti altri personaggi\, reali o immaginari\, amanti\, beati\, dannati o persi nel loro tormento\, personaggi straordinari che Dante Alighieri ha evocato nei canti della Divina Commedia\, rivivranno ridisegnati da corpi di acrobati ed attori\, con le tecniche di movimento dell’aerea e dell’equilibrismo\, della danza acrobatica a due e della manipolazione di oggetti. Le performance verranno accompagnate da pochi tratti di testo\, per incorniciare e contestualizzare ogni singola storia. Le tecniche del circo teatro\, sviluppate in una eleganza senza tempo\, saranno funzionali a rendere quanto di più fantasioso e magico è stato scritto oltre settecento anni fa rimanendo attuale nella sua evocazione di sentimenti universali. \nMateriaviva Perfomance nasce negli anni ‘90 dall’incontro tra attori\, registi\, danzatori\, autori\, circensi\, artisti di strada e tecnici professionisti\, che alla comune formazione sommano la specializzazione individuale presso varie e diversificate realtà italiane ed estere. Gli spettacoli e le performance proposte da questa compagnia di artisti di strada\, uniscono al gusto estetico dell’immagine\, costumi dal grande impatto visivo\, lo stupore della tecnica circense e la poesia della ricerca teatrale. \nIngresso gratuito fino ad esaurimento posti prenotazione obbligatoria a prenotazioni@materiaviva.it
URL:https://www.castellodisantasevera.it/evento/guarda-e-passa-spettacolo-di-circo-teatro/
CATEGORIES:In evidenza
ATTACH;FMTTYPE=image/jpeg:https://www.castellodisantasevera.it/app/uploads/2021/05/locandina_guarda_e_passa-00000003.jpg
END:VEVENT
BEGIN:VEVENT
DTSTART;TZID=Europe/Rome:20210624T210000
DTEND;TZID=Europe/Rome:20210624T223000
DTSTAMP:20260423T103229
CREATED:20210610T130037Z
LAST-MODIFIED:20210622T160423Z
UID:7405-1624568400-1624573800@www.castellodisantasevera.it
SUMMARY:Concerto Le quattro stagioni di Antonio Vivaldi
DESCRIPTION:Prevendita acquisto biglietti\n\n  \nGiovedì 24 giugno alle 21.00 il gruppo da camera “ Musica Eccelsa”\, in collaborazione con Orchestra Sinfonica Città di Roma\, con direttore e solista Valerio Conti\, eseguirà “Le Quattro Stagioni” di Antonio Vivaldi\, tratte dalla raccolta di concerti Op 8 denominata Il Cimento dell’Armonia e dell’inventione. \nLa serata di beneficenza  è dedicata alle bambine e bambini nello spettro dell’autismo e ’incasso sarà totalmente devoluto  alla Onlus Steps ABA che finanzia progetti e attività a sostegno delle famiglie di questi bambini.  \n  \nValerio Conti\, violinista romano\, appena rientrato in Italia dopo molte esperienze all’estero\, suonerà con un violino del celebre liutaio Renato Scrollavezza. 
URL:https://www.castellodisantasevera.it/evento/concerto-le-quattro-stagioni-di-antonio-vivaldi/
CATEGORIES:In evidenza
ATTACH;FMTTYPE=image/jpeg:https://www.castellodisantasevera.it/app/uploads/2021/06/le-4-stagioni-scaled.jpg
END:VEVENT
END:VCALENDAR