BEGIN:VCALENDAR
VERSION:2.0
PRODID:-//Castello di Santa Severa - Un castello sempre aperto - ECPv6.15.20//NONSGML v1.0//EN
CALSCALE:GREGORIAN
METHOD:PUBLISH
X-WR-CALNAME:Castello di Santa Severa - Un castello sempre aperto
X-ORIGINAL-URL:https://www.castellodisantasevera.it
X-WR-CALDESC:Eventi per Castello di Santa Severa - Un castello sempre aperto
REFRESH-INTERVAL;VALUE=DURATION:PT1H
X-Robots-Tag:noindex
X-PUBLISHED-TTL:PT1H
BEGIN:VTIMEZONE
TZID:Europe/Rome
BEGIN:DAYLIGHT
TZOFFSETFROM:+0100
TZOFFSETTO:+0200
TZNAME:CEST
DTSTART:20200329T010000
END:DAYLIGHT
BEGIN:STANDARD
TZOFFSETFROM:+0200
TZOFFSETTO:+0100
TZNAME:CET
DTSTART:20201025T010000
END:STANDARD
BEGIN:DAYLIGHT
TZOFFSETFROM:+0100
TZOFFSETTO:+0200
TZNAME:CEST
DTSTART:20210328T010000
END:DAYLIGHT
BEGIN:STANDARD
TZOFFSETFROM:+0200
TZOFFSETTO:+0100
TZNAME:CET
DTSTART:20211031T010000
END:STANDARD
BEGIN:DAYLIGHT
TZOFFSETFROM:+0100
TZOFFSETTO:+0200
TZNAME:CEST
DTSTART:20220327T010000
END:DAYLIGHT
BEGIN:STANDARD
TZOFFSETFROM:+0200
TZOFFSETTO:+0100
TZNAME:CET
DTSTART:20221030T010000
END:STANDARD
END:VTIMEZONE
BEGIN:VEVENT
DTSTART;TZID=Europe/Rome:20210514T100000
DTEND;TZID=Europe/Rome:20210516T180000
DTSTAMP:20260423T132406
CREATED:20210511T072013Z
LAST-MODIFIED:20210511T072817Z
UID:7313-1620986400-1621188000@www.castellodisantasevera.it
SUMMARY:Boot Camp “Stati d’animo” al Castello di Santa Severa
DESCRIPTION:Al via il progetto di formazione delle associazioni Dominio pubblico e Be pop rivolto a ragazze e ragazzi dai 18 ai 25 anni\, realizzato nell’ambito del programma GenerAzioni Giovani delle Politiche Giovanili della Regione Lazio con il sostengo della Presidenza del Consiglio dei Ministri – Dipartimento per la Gioventù \n Si terrà dal 14 al 16 maggio il secondo Boot Camp del progetto “Stati d’animo”\, organizzato da Dominio Pubblico e dall’associazione Be pop\, al Castello di Santa Severa\, spazio della Regione Lazio gestito dalla società regionale LAZIOcrea in collaborazione con il Comune di Santa Marinella. Si tratta di un laboratorio di tre giorni dal titolo “Provare paura”: questa volta i partecipanti si cimenteranno col significato del termine “paura”\, provando a dare voce a un’emozione primaria ancora così centrale e spesso usata per creare barriere e distanze. Il tutto al Castello di Santa Severa che\, come tutti i castelli che si rispettino\, ha una storia di fantasmi da raccontare\, e per l’occasione\, si trasformerà in  inedito scenario della proiezione di Segnale d’allarme – La mia Battaglia VR: spettacolo in realtà virtuale\, di e con Elio Germano\, in visione esclusiva attraverso speciali visori 360. \nIl Boot Camp si svolgerà in piena sicurezza e nel rispetto delle disposizioni per il contrasto alla diffusione del Covid-19. \n“Stati d’animo” è parte del programma di valorizzazione del Castello di Santa Severa come centro di Posta giovanile nell’ambito del progetto “Itinerario Giovani” finanziato dalla Regione Lazio- Politiche Giovanili e dalla Presidenza del Consiglio dei Ministri – Dipartimento per la Gioventù. \nCon questa iniziativa si vuole offrire ai partecipanti coinvolti un’esperienza formativa originale\, completamente gratuita\, oltre che un “armamentario” culturale e nuovi strumenti comunicativi per approcciarsi alle grandi questioni della società contemporanea. Dispute filosofiche\, live painting\, circo\, ring verbali\, esercizi corporali\, realtà virtuale animeranno le giornate nei due intensi fine settimana. A guidarli in questo percorso\, oltre all’attore e regista
URL:https://www.castellodisantasevera.it/evento/boot-camp-stati-danimo-al-castello-di-santa-severa/
CATEGORIES:In evidenza
ATTACH;FMTTYPE=image/jpeg:https://www.castellodisantasevera.it/app/uploads/2021/05/card-paura.jpg
END:VEVENT
BEGIN:VEVENT
DTSTART;TZID=Europe/Rome:20210515T163000
DTEND;TZID=Europe/Rome:20210515T190000
DTSTAMP:20260423T132406
CREATED:20210506T103016Z
LAST-MODIFIED:20210512T134758Z
UID:7300-1621096200-1621105200@www.castellodisantasevera.it
SUMMARY:Da cielo in terra a miracol mostrare
DESCRIPTION:Il 2021 è un anno speciale per la cultura del nostro paese. Nell’ambito delle celebrazioni per i 700 anni dalla morte di Dante Alighieri per il programma di eventi organizzati dalla Regione Lazio “A Riveder le Stelle” sabato 15 maggio\, alle ore 16.30 l’ ASD “A Tutto Ritmo”\, il gruppo di danze medievali “I Virelai”\, il gruppo teatro per il sociale dell’Associazione “Libera”\, mettono in scena lo spettacolo Da cielo in terra a miracol mostrare  una libera interpretazione in Teatro – Danza  in cui si alterneranno  versi di Dante\, commedia dell’arte\, mimo\, maschere e giullarate (l’evento è previsto in replica anche il 19 settembre). Posti esauriti \nInterpreti per la parte teatrale \nAlberto Papalia     – Dante Alighieri \nLorenzo Rossi         – Giovanni Boccaccio \nCristina Galli          – Francesca da Rimini \nStella Bandirali     – Domenica\, portavoce di Donna Filippa \ndanzatori: Luisa Fagiolari\, Elisabetta Granato\, Giancarlo Risi\, Antonio De Santo\,  Giada Mammoli\, Sofia Salzano\, Greta Siviero\, Martina Vurro\, Marika Russo\,  Alessandra Cervellini\,   Rita Tolla\, Valentina Menghi\, Aurelia Realgar \nCoreografie a cura dei maestri:  Maria Teresa Mascioni\, Luana D ‘Annibale\, Elena Botti\, Giancarlo Giacomobono\, \nScenografia di Armando Profumi\, Carlo Briganti \nAiuto Regia- cooperazione tecnica e logistica – Cristina Erba
URL:https://www.castellodisantasevera.it/evento/da-cielo-in-terra-a-miracol-mostrare/
CATEGORIES:In evidenza
ATTACH;FMTTYPE=image/jpeg:https://www.castellodisantasevera.it/app/uploads/2021/05/locandina_miracol_mostrare-_1_..jpg
END:VEVENT
BEGIN:VEVENT
DTSTART;TZID=Europe/Rome:20210522T160000
DTEND;TZID=Europe/Rome:20210523T183000
DTSTAMP:20260423T132406
CREATED:20210519T142259Z
LAST-MODIFIED:20210519T155827Z
UID:7330-1621699200-1621794600@www.castellodisantasevera.it
SUMMARY:Sabato 22 e domenica 23 laboratorio di Origami
DESCRIPTION:Con il termine origami si intende l’arte orientale di piegare la carta e\, sostantivato\, l’oggetto che ne deriva l”Artefatto”. Il termine è di origine giapponese\, ma esistono tradizioni della piegatura della carta anche in Cina\, tra gli Arabi e in occidente. \nLa tecnica moderna dell’origami usa pochi tipi di piegature combinate in un’infinita varietà di modi per creare modelli anche estremamente complessi. In genere\, questi modelli cominciano da un foglio quadrato\, le cui facce possono essere di colore differente e continua senza fare tagli alla carta\, ma l’origami tradizionale era molto meno rigido e faceva frequente uso di tagli\, oltre a partire da basi non necessariamente quadrate. \nL’origami è uno strumento giocoso nell’apprendimento di concetti geometrici e matematici  ove i partecipanti  vengono guidati verso l’ astrazione  attraverso la manipolazione di un materiale duttile e di recupero come la carta. \nDalle ore 15.30 si può accedere al laboratorio con  ingresso libero fino esaurimento posti e registrazione obbligatoria per le norme anti Covid. Il laboratorio inizia alle ore 16.oo e sarà ospitato all’aperto a cura del maestro Francesco Cirillo e verterà su questi temi generali: \n\nStoria dell’origami\nSimboli e piegatura \nOrigami e matematica:  le frazioni\nOrigami e geometria: costruzioni delle figure piane ed esercizi \nOrigami modulare \nOrigami e gioco
URL:https://www.castellodisantasevera.it/evento/sabato-22-e-domenica-23-al-castello-di-santa-severa-arriva-lorigami/
CATEGORIES:In evidenza
ATTACH;FMTTYPE=image/jpeg:https://www.castellodisantasevera.it/app/uploads/2021/05/Origami-locandina.jpg
END:VEVENT
BEGIN:VEVENT
DTSTART;TZID=Europe/Rome:20210529T160000
DTEND;TZID=Europe/Rome:20210529T183000
DTSTAMP:20260423T132406
CREATED:20210519T163921Z
LAST-MODIFIED:20210524T093513Z
UID:7337-1622304000-1622313000@www.castellodisantasevera.it
SUMMARY:Siamo venuti a cantar maggio: spettacolo di musica medievale e rinascimentale
DESCRIPTION:Sabato 29 maggio a partire dalle ore 16.00 sulla Spianata dei Signori la compagnia I cerchi magici si esibirà in Siam venuti a cantar maggio.  Uno spettacolo in cui musica prosa e poesia si fondono in una magica alchimia dalla quale scaturisce lo spirito\, l’ironia\, la leggerezza del pensiero e della cultura popolare e cortese del mondo medievale e rinascimentale. \nEsso rappresenta un’occasione per un’esplorazione nel mondo antico dell’Italia quando il canto e la musica profana aveva una funzione rievocativa e narrativa\, ed il ruolo di diffondere storie che altrimenti sarebbero rimaste confinate nelle corti e nei luoghi in cui si erano generate. L’impaginazione dello spettacolo è stata ideata con il fine di creare una raffinata teatralizzazione\, con la formula artistica che segue il “tropar” medievale\, nel senso arcaico di inventare soluzioni musicali\, che incastonate a formule recitative\, creano effetti sonoro-narrativi. \nLo spettacolo si svolge in un contesto musicale denso di suggestioni\, in cui il recupero della tradizione e delle sue ammalianti sonorità\, si innesta su una ricerca individuale colta e raffinata I testi tutti opera di importanti poeti della nostra cultura\, nonostante la loro fattura antica e apparente semplicità di scrittura\, rivelano una deliziosa freschezza d’ispirazione ed una spontanea espressività\, generando un substrato linguistico che va perfettamente di pari passo con la musica. I brani vocali e strumentali si concatenano con perizia musicale\, si alternano ora allegri e ora malinconici seguendo temi\, ritmi incalzanti\, armonie timbri e colori come in una cromatica tavolozza di un pittore rinascimentale. \nIngresso gratuito fino esaurimento posti con prenotazione obbligatoria inviando mail a info@icerchimagici.it
URL:https://www.castellodisantasevera.it/evento/siamo-venuti-a-cantar-maggio-spettacolo-di-musica-medievale-e-rinascimentale/
CATEGORIES:In evidenza
ATTACH;FMTTYPE=image/jpeg:https://www.castellodisantasevera.it/app/uploads/2021/05/maggio-2.jpg
END:VEVENT
BEGIN:VEVENT
DTSTART;TZID=Europe/Rome:20210530T120000
DTEND;TZID=Europe/Rome:20210530T183000
DTSTAMP:20260423T132406
CREATED:20210524T075618Z
LAST-MODIFIED:20210524T104140Z
UID:7349-1622376000-1622399400@www.castellodisantasevera.it
SUMMARY:Siamo fatti della stessa materia: due incontri spettacolo per spiegare la scienza ai più piccoli
DESCRIPTION:Che cosa è la fisica? È un modo complicato\, ma divertente\, di spiegare tutto quello che ci circonda. La mela che cade dall’albero\, l’aereo che vola\, il chiodo che sostiene il quadro\, la lampadina che si accende e la luna che compare e scompare dal cielo. La fisica la puoi toccare\, oppure può essere invisibile. Tutto parte dalla materia. La materia è tutto ciò che ha un peso: un libro\, una palla\, un bastone e anche una piuma. Ma un peso ce l’hanno anche i pianeti\, anche se sono enormi e non si possono misurare con la bilancia\, o le particelle\, corpi minuscoli\, molto\, ma molto più piccoli di un granello di sabbia. Siamo fatti della stessa materia unisce la fisica e il teatro per svelare i segreti del mondo e spiegare ai i più piccoli quello che vediamo e tocchiamo. \nDomenica 30 maggio\, 2 incontri spettacolo  per spiegare la scienza ai più piccoli\,  ore 12.00 e alle ore 17.00 all’aperto\, Spianata dei Signori. \nIngresso gratuito fino esaurimento posti. Prenotazione obbligatoria indicando i dati di ciascun prenotato alla mail info@margot-theatre.it
URL:https://www.castellodisantasevera.it/evento/siamo-fatti-della-stessa-materia-due-incontri-spettacolo-per-spiegare-la-scienza-ai-piu-piccoli/
CATEGORIES:In evidenza
ATTACH;FMTTYPE=image/jpeg:https://www.castellodisantasevera.it/app/uploads/2021/05/Locandina-Siamo-fatti-della-stessa-materia-Santa-Severa_Margot-Theatre-scaled.jpg
END:VEVENT
END:VCALENDAR