BEGIN:VCALENDAR
VERSION:2.0
PRODID:-//Castello di Santa Severa - Un castello sempre aperto - ECPv6.15.20//NONSGML v1.0//EN
CALSCALE:GREGORIAN
METHOD:PUBLISH
X-WR-CALNAME:Castello di Santa Severa - Un castello sempre aperto
X-ORIGINAL-URL:https://www.castellodisantasevera.it
X-WR-CALDESC:Eventi per Castello di Santa Severa - Un castello sempre aperto
REFRESH-INTERVAL;VALUE=DURATION:PT1H
X-Robots-Tag:noindex
X-PUBLISHED-TTL:PT1H
BEGIN:VTIMEZONE
TZID:Europe/Rome
BEGIN:DAYLIGHT
TZOFFSETFROM:+0100
TZOFFSETTO:+0200
TZNAME:CEST
DTSTART:20190331T010000
END:DAYLIGHT
BEGIN:STANDARD
TZOFFSETFROM:+0200
TZOFFSETTO:+0100
TZNAME:CET
DTSTART:20191027T010000
END:STANDARD
BEGIN:DAYLIGHT
TZOFFSETFROM:+0100
TZOFFSETTO:+0200
TZNAME:CEST
DTSTART:20200329T010000
END:DAYLIGHT
BEGIN:STANDARD
TZOFFSETFROM:+0200
TZOFFSETTO:+0100
TZNAME:CET
DTSTART:20201025T010000
END:STANDARD
BEGIN:DAYLIGHT
TZOFFSETFROM:+0100
TZOFFSETTO:+0200
TZNAME:CEST
DTSTART:20210328T010000
END:DAYLIGHT
BEGIN:STANDARD
TZOFFSETFROM:+0200
TZOFFSETTO:+0100
TZNAME:CET
DTSTART:20211031T010000
END:STANDARD
END:VTIMEZONE
BEGIN:VEVENT
DTSTART;TZID=Europe/Rome:20200807T170000
DTEND;TZID=Europe/Rome:20200920T220000
DTSTAMP:20260423T223216
CREATED:20200722T153237Z
LAST-MODIFIED:20200917T125935Z
UID:6717-1596819600-1600639200@www.castellodisantasevera.it
SUMMARY:Vivi i Parchi del Lazio tra la Riserva di Macchiatonda e il Castello di Santa Severa
DESCRIPTION:PRENOTAZIONE GRATUITA OBBLIGATORIA ON LINE\n\n\n\n\n  \n\n\n\n\n\n\n\n\n\n\n\n\n\n\n\n\n\n\n\n\n\n\n\n\n\n\nVIVI I PARCHI DEL LAZIO\nTra la Riserva di Macchiatonda ed il Castello di Santa Severa \nProgramma di attività naturalistiche\, percorsi\, trekking e laboratori per tutta la famiglia. Manifestazione organizzata da Parchilazio e Riserva di Macchiatonda in collaborazione con LAZIOcrea. \nTARIFFE\nAttività gratuite\nE’ previsto il pagamento on site del biglietto di ingresso del Castello di Santa Severa quando l’attività lo prevede\nPrenotazione gratuita obbligatoria \nATTENZIONE\nPer partecipare alle attività è obbligatorio: \n– indossare la mascherina per emergenza sanitaria\n– mantenere la distanza sociale di almeno 1 metro\n– rispettare le indicazioni degli addetti all’accoglienza\, degli operatori didattici\, e scritte sui pannelli presenti lungo il percorso di visita\n– avere una temperatura corporea inferiore ai 37\,5°. La temperatura verrà misurata dal personale addetto e se superiore ai 37\,5°\, non sarà possibile partecipare all’evento \nTracce di vita lungo la spiaggia\n7\, 8\, 9\, 14\, 21\, 22\, 23\, 28\, 29\, 30 agosto ore 18.00 e 20.30\n4\, 5\, 6\, 18\, 19\, 20 settembre ore 17.00 e 19.30\nLaboratorio naturalistico: camminando lungo la spiaggia si può trovare di tutto. Le onde spiaggiano i resti o le tracce di molti abitanti del mare\, purtroppo anche le plastiche e le microplastiche\, nostre grandi invenzioni\ndestinatari: bambini dai 7 anni in su\ndurata: 45′\nindicazioni per la visita: nessuna\nappuntamento: piazzale delle due Chiese del Castello di Santa Severa \nIl meraviglioso mondo degli insetti\n7\, 8\, 9\, 14\, 21\, 22\, 23\, 28\, 29\, 30 agosto ore 19.00 e 21.15\n4\, 5\, 6\, 11\, 12\, 13\, 19\, 20 settembre ore 18.00 e 20.15\nLaboratorio naturalistico: la storia di animali invertebrati a 6 zampe e muniti di ali che hanno saputo colonizzare il mondo\, al di fuori del mare. Scopriamo insieme farfalle\, coleotteri\, insetti stecco\, api\, vespe e libellule\ndestinatari: bambini dai 7 anni in su\ndurata: 45′\nindicazioni per la visita: nessuna\nappuntamento: piazzale delle due Chiese del Castello di Santa Severa \nArcheotrekking da Macchiatonda a Pyrgi\n8\, 9\, 22\, 23\, 29\, 30 agosto ore 17.45\n5\, 6\, 12\, 13\, settembre ore 17.00 19\, 20 settembre ore 15.00\nPercorso tra la Riserva di Macchiatonda\, il monumento naturale di Pyrgi\, il Castello di Santa Severa\, il museo civico del mare e della navigazione antica e i laboratori della natura\ndestinatari: famiglie\ndurata: 4h\nindicazioni per la visita: scarpe da trekking\, binocolo\, taccuino\, macchina fotografica\nappuntamento: Castello di Santa Severa \nIl meraviglioso mondo degli uccelli\n8\, 9\, 23\, 30 agosto ore 17.15 e 19.45\n4\, 5\, 6\, 18\, 19\, 20 settembre ore 16.15 e 18.45\nLaboratorio naturalistico: percorso che inizia da un uovo con guscio e finisce tra piccoli grandi pennuti\, tra piumaggi iridescenti\, penne silenziate\, becchi adunchi e zampe palmate\ndestinatari: bambini dai 7 anni in su\ndurata: 45′\nindicazioni per la visita: nessuna\nappuntamento: piazzale delle due Chiese del Castello di Santa Severa \nGiochi tra pattern forme e colori\n8 agosto ore 17.00\, 18.20 e 19.40\n11\, 13\, 19 settembre ore 16.00\, 17.20 e 18.40\nLaboratorio naturalistico dedicato alle esplorazioni e ai disegni naturalistici sulla spiaggia\ndestinatari: bambini dai 7 anni in su (accompagnati da un adulto)\ndurata: 80′\nindicazioni per la visita: cappellino\, acqua\, crema solare\nappuntamento: ingresso riserva Macchiatonda \nEstate Di… segni -La spiaggia in punta di matita\n12 e 20 settembre ore 16\, 17.20 e 18.40\nLaboratorio naturalistico dedicato alle esplorazioni e ai disegni naturalistici sulla spiaggia. Un viaggio tra passato e presente per portarsi a casa un po’ di natura\, lasciandola dov’è\ndestinatari: bambini dai 7 anni in su (accompagnati da un adulto)\ndurata: 80′\nindicazioni per la visita: cappellino\, acqua\, crema solare\nappuntamento: ingresso riserva Macchiatonda \nPrede e predatori: chi mangia cosa \n12 settembre ore 16.15\,18 e 19.30 \nUn viaggio tra il mondo animale e vegetale per scoprire le relazioni tra chi preda e chi viene predato all’interno degli ecosistemi.\ndestinatari: bambini dai 7 anni in su (accompagnati da un adulto)\ndurata: 45′\nindicazioni per la visita: nessuna\nappuntamento: piazzale delle due Chiese del Castello di Santa Severa \nCatene alimenatri \n12 settembre ore 17\, 18.45 e 20.15\nUn viaggio tra il mondo animale e vegetale per scoprire le relazioni tra chi preda e chi viene predato all’interno degli ecosistemi.\ndestinatari: bambini dai 7 anni in su (accompagnati da un adulto)\ndurata: 45′\nindicazioni per la visita: nessuna\nappuntamento: piazzale delle due Chiese del Castello di Santa Severa \nIl mondo delle api: alla scoperta della vita nell’alveare\n21\, 28 agosto ore 17.15 e 19.45\n18 settembre ore 18.00 e 20.15\nUn laboratorio per riconoscere le api\, scoprire la loro società e i loro “prodotti” e provare l’emozione di costruire una candela di vera cera d’api\ndestinatari: bambini dai 7 anni in su\ndurata: 45′\nindicazioni per la visita: nessuna\nappuntamento: piazzale delle due Chiese del Castello di Santa Severa \nUn mare di colori\n11\, 13 settembre ore 16.15 e 18.45\nUn viaggio tra il mondo animale che usa i colori come principale strumento di comunicazione: colori per non farsi vedere\, colori per mettere paura\, colori per farsi riconoscere.\ndestinatari: bambini dai 7 anni in su\ndurata: 45′\nindicazioni per la visita: nessuna\nappuntamento: piazzale delle due Chiese del Castello di Santa Severa \nUn mare di conchiglie\n11\, 13 settembre ore 18.00 e 20.15\nLaboratorio naturalistico: alla scoperta delle protezioni variopinte e dalle mille forme di bivalvi e gasteropodi. Un’esperienza per scoprire di più sulle conchiglie dei nostri mari ma anche dei mari tropicali.\ndestinatari: bambini dai 7 anni in su\ndurata: 45′\nindicazioni per la visita: nessuna\nappuntamento: piazzale delle due Chiese del Castello di Santa Severa
URL:https://www.castellodisantasevera.it/evento/vivi-i-parchi-del-lazio-tra-la-riserva-di-macchiatonda-e-il-castello-di-santa-severa/
CATEGORIES:In evidenza
ATTACH;FMTTYPE=image/jpeg:https://www.castellodisantasevera.it/app/uploads/2020/07/totem_Castello5.jpg
END:VEVENT
BEGIN:VEVENT
DTSTART;TZID=Europe/Rome:20200902T210000
DTEND;TZID=Europe/Rome:20200902T223000
DTSTAMP:20260423T223216
CREATED:20200806T141249Z
LAST-MODIFIED:20200901T124550Z
UID:6815-1599080400-1599085800@www.castellodisantasevera.it
SUMMARY:Concerto di musica classica: Le stagioni dell'Anno. Affetti dell'animo
DESCRIPTION:Il 2 settembre alle ore 21.00 sulla Spianata concerto di musica classica  con Enea Barock Orchestra\, ” Le stagioni dell’Anno. Affetti dell’animo” \n\nAcquista il biglietto on line\n\nprogramma: \nAntonio Vivaldi\, Concerto n. 1 “La primavera” da Il cimento dell’armonia e dell’inventione\, op. VIII\n(Amsterdam\, ca. 1727) \nGeorg Friedrich Händel\, «Non disperar\, chi sa?» da Giulio Cesare in Egitto (Londra\, 1724) \nVivaldi\, Concerto n. 2 “L’estate” da Il cimento dell’armonia e dell’inventione \nHändel\, «Che sento? Oh Dio! Morrà Cleopatra ancora. … Se pietà di me non senti»\nda Giulio Cesare in Egitto \nVivaldi\, Concerto n. 3 “L’autunno” da Il cimento dell’armonia e dell’inventione \nHändel\, «E pur così in un giorno … Piangerò la sorte mia» da Giulio Cesare in Egitto \nVivaldi\, Concerto n. 4 “L’inverno” da Il cimento dell’armonia e dell’inventione \nHändel\, «Da tempeste il legno infranto» da Giulio Cesare in Egitto \nHändel\, «Lascia ch’io pianga» da Rinaldo (Londra\, 1711) \n                             Interpreti \nPaola Valentina Molinari\, soprano \nEnea Barock Orchestra \nArchi\, fagotto e basso continuo \nFederico Guglielmo\, violino solo \nSimone Ori direttore al cembalo  \nDurata  \n60 minuti \nIngresso € 10.00\, posto unico \nI biglietti sono disponibili  presso la  biglietteria all’interno del Castello con i seguenti orari:\ndal martedì alla domenica ore 15.00 – 23.00
URL:https://www.castellodisantasevera.it/evento/le-stagioni-dellamore-affetti-dellanimo/
CATEGORIES:In evidenza
ATTACH;FMTTYPE=image/png:https://www.castellodisantasevera.it/app/uploads/2020/08/Locandina_02Settembre_70x100.png
END:VEVENT
BEGIN:VEVENT
DTSTART;TZID=Europe/Rome:20200903T210000
DTEND;TZID=Europe/Rome:20200903T220000
DTSTAMP:20260423T223216
CREATED:20200821T152544Z
LAST-MODIFIED:20200903T080254Z
UID:6892-1599166800-1599170400@www.castellodisantasevera.it
SUMMARY:Gran galà di fine estate
DESCRIPTION:Giovedì 3 settembre\, ore 21.00\, Concerto\, Gran gala di fine estate\, musiche di G\, Rossini\, G\, Puccini\, N. Rota\, E. Morricone\, esecuzione Nova Amadeus Chamber Orchestra. \nSoprano: Sabrina Messina\nBaritono: Giorgio Carli\nDirettore Stefano Sovrani\nLo spettacolo si svolge all’aperto con posto unico a sedere. \nIngresso libero fino a esaurimento posti contingentati. \nProgramma Gran galà di fine estate \n 
URL:https://www.castellodisantasevera.it/evento/gran-gala-di-fine-estate/
CATEGORIES:In evidenza
ATTACH;FMTTYPE=image/jpeg:https://www.castellodisantasevera.it/app/uploads/2020/08/f95ee2c7-0fa2-40c1-95d6-0c80304f004d.jpg
END:VEVENT
BEGIN:VEVENT
DTSTART;TZID=Europe/Rome:20200904T210000
DTEND;TZID=Europe/Rome:20200904T223000
DTSTAMP:20260423T223216
CREATED:20200806T135941Z
LAST-MODIFIED:20200904T075022Z
UID:6812-1599253200-1599258600@www.castellodisantasevera.it
SUMMARY:Ma non doveva andare tutto bene?
DESCRIPTION:Il nuovo show di Maurizio Battista nell’era del Coronavirus\, nel dissacrante rispetto delle norme del distanziamento sociale.\nInfo: 3939041725\n\nBiglietti:\nprimo settore\,  file fino a 300 posti\,  € 40.00+3 di prevendita\nsecondo settore.\, file da 301 a 600 posti\,  € 35.00+2 di prevendita\n\ndisponibili anche presso la  biglietteria all’interno del Castello con i seguenti orari:\n\ndal martedì alla  domenica ore 15.00 – 23.00\n\n\nPalco all’aperto\, posti esclusivamente seduti\, con sedie distanziate come da normativa
URL:https://www.castellodisantasevera.it/evento/ma-non-doveva-andare-tutto-bene/
CATEGORIES:In evidenza
ATTACH;FMTTYPE=image/jpeg:https://www.castellodisantasevera.it/app/uploads/2020/08/battista.jpg
END:VEVENT
BEGIN:VEVENT
DTSTART;TZID=Europe/Rome:20200905T210000
DTEND;TZID=Europe/Rome:20200905T220000
DTSTAMP:20260423T223216
CREATED:20200821T152041Z
LAST-MODIFIED:20200905T081555Z
UID:6888-1599339600-1599343200@www.castellodisantasevera.it
SUMMARY: Emozioni in danza\, N.Ough company
DESCRIPTION:Sabato 5 settembre\, ore 21.00\, Emozioni in danza\, N.Ough company.   \nLo spettacolo si svolge all’aperto con posto unico a sedere.  \nIngresso libero fino a esaurimento posti contingentati. \nPROGRAMMA N.OUGH COMPANY
URL:https://www.castellodisantasevera.it/evento/emozioni-in-danza-n-ough-company/
CATEGORIES:In evidenza
ATTACH;FMTTYPE=image/jpeg:https://www.castellodisantasevera.it/app/uploads/2020/08/2912849d-8db1-4635-bf40-a874aa33c11e.jpg
END:VEVENT
BEGIN:VEVENT
DTSTART;TZID=Europe/Rome:20200906T210000
DTEND;TZID=Europe/Rome:20200906T220000
DTSTAMP:20260423T223216
CREATED:20200727T132452Z
LAST-MODIFIED:20200903T125143Z
UID:6747-1599426000-1599429600@www.castellodisantasevera.it
SUMMARY:Incontro tra parole e musica con  Giovanni Allevi
DESCRIPTION:  \n\nACQUISTA IL BIGLIETTO ON LINE \n\nDomenica 6 settembre alle ore 21.00 incontro tra parole e musica con Giovanni Allevi al pianoforte\, intervistato da Andrea Lucatello. \n“Un risveglio delle coscienze. Una nuova primavera per l’Umanità ci attende. Un mondo meno competitivo e più solidale”. Questi i temi cari al Maestro  Giovanni Allevi\, filosofo\, compositore\, pianista e direttore d’orchestra che affronta con spirito rinascimentale le domande che i recenti avvenimenti ci pongono con urgenza. Indagatore del profondo legame tra equilibrio e dis-equilibrio\, del valore dell’energia creativa che si sprigiona nelle epoche di crisi\, affronterà i possibili percorsi che ci riserva il futuro\, coinvolgendo il grande pubblico con il suo straordinario carisma e le dolci note del suo amato pianoforte. \n“Classico ribelle”\, “La musica in testa”\, “L’Equilibrio della Lucertola” sono alcuni titoli librari tra i saggi filosofici del compositore\, che descrivono il suo pensiero\, la sua estetica musicale e la sua vita. Saranno l’occasione per intraprendere un viaggio alla scoperta delle tappe fondamentali che hanno segnato la sua carriera: le difficoltà\, le paure\, la rinascita e i grandi successi. “La mia vita artistica è sempre stata la ricerca di un equilibrio\, tra buio e luce\, tra classicità e contemporaneità\, tra ansia ed ebbrezza\, tra rigore e follia\, tra solitudine e condivisione. Il meglio di me l’ho dato….quando l’ho perso!” G. Allevi \nIngresso € 10.00 posto unico \nI biglietti sono disponibili  anche presso la  biglietteria all’interno del Castello con i seguenti orari:\ndal martedì alla domenica ore 15.00 – 23.00
URL:https://www.castellodisantasevera.it/evento/il-pensiero-e-la-musica-giovanni-allevi/
CATEGORIES:In evidenza
ATTACH;FMTTYPE=image/png:https://www.castellodisantasevera.it/app/uploads/2020/07/Locandina_Settembre06_70x100_NEW.png
END:VEVENT
BEGIN:VEVENT
DTSTART;TZID=Europe/Rome:20200912T120000
DTEND;TZID=Europe/Rome:20200912T220000
DTSTAMP:20260423T223216
CREATED:20200909T080836Z
LAST-MODIFIED:20201015T080844Z
UID:6946-1599912000-1599948000@www.castellodisantasevera.it
SUMMARY:sabato 12 settembre conclusione di Vivi i parchi del Lazio
DESCRIPTION:Sarà il suggestivo Castello di Santa Severa a ospitare sabato 12 settembre la giornata conclusiva  di  “VIVI I PARCHI DEL LAZIO. Suoni ‘di- vini’ tra le radici della nostra regione”\,  il viaggio “enologico-musicale” nei Parchi regionali del Lazio\, organizzato dall’Assessorato Agricoltura\, Promozione della Filiera e della Cultura del Cibo\, Ambiente e Risorse Naturali della Regione Lazio con la Direzione Regionale Capitale Naturale\, Parchi e Aree Protette\, in collaborazione con AIS Lazio – Associazione Italiana Sommelier. \n“È stata una estate diversa sicuramente\, ma bellissima e ricca di appuntamenti grazie all’impegno della nostra Direzione Capitale Naturale\, Parchi e Aree protette\, dei Presidenti\, Direttori\, personale e guardiaparchi di tutti i nostri meravigliosi parchi regionali. Un grazie davvero non solo per l’organizzazione in piena sicurezza di una serie di eventi\, diversificati e adatti a tutte e a tutti\, ma anche per aver\, in corso d’opera\, adeguato il programma di appuntamenti alle nuove disposizioni del ministro Speranza e del Governo. Abbiamo voluto vivere insieme un nuovo modo di vivere la socialità in piena sicurezza\, che non vuol dire stare da soli ma avere cura e tutela di sé e dell’altro. Chiudiamo al Castello di Santa Severa\, luogo per noi simbolico e fiore all’occhiello dell’amministrazione Zingaretti\, rendendo omaggio a tutte le nostre splendide aree protette”\, spiega l’Assessore Agricoltura\, Promozione della filiera e della cultura del cibo\, Ambiente e risorse naturali della Regione Lazio\, Enrica Onorati. \nLa giornata sarà animata da un ricco programma di appuntamenti: \n\nore 12: apertura dell’area “MERCATO” NATURA IN CAMPO con gli stand delle eccellenze enogastronomiche del Lazio\ndalle ore 16.30 fino al tramonto per gruppi contingentati due visite straordinarie: agli scavi di Pyrgi – un’occasione unica di visitare l’area archeologica aperta per pochissimi giorni in occasione della campagna di scavo dell’Università la Sapienza e il Monumento Naturale di Pyrgi – e alla spiaggia Sabbie Nere del Monumento naturale di Pyrgi a Santa Severa dove si trova uno dei cinque nidi di tartaruga Caretta caretta\, monitorati dalla Rete Tartalazio. Mentre presso la Sala Nostromo del Castello ci sarà la proiezione delle immagini di 60 tartarughe Caretta caretta nate sulla spiaggia di Fondi – attività della Rete Tartalazio.ore 16.30-18.30 I Laboratori della natura (ogni ora partirà un gruppo di ragazzi alla scoperta della natura): “A ognuno il suo\, chi mangia cosa” e  “Preda e predatore: ruoli e catene alimentari nel mondo naturale.”\n\nAttività di visita e laboratori con prenotazione gratuita obbligatoria \n\nore 18.30 – 19.30 Cortile della Rocca: TALK “RACCONTI DI VINO: LE ECCELLENZE VITIVINICOLE DEL LAZIO”. Un racconto condotto dal giornalista Rai Gianluca Semprini\, ritmato a varie tappe (e con tanti aneddoti) sui vitigni e le produzioni nel Lazio A cura di AIS Lazio – Associazione Italiana Sommelier. L’evento è a inviti e destinato a max 40 persone.\nore 21.00 il concerto ¡AQUÍ ME ENCUENTRO! di Matteo D’Agostino. Interpreti Matteo D’Agostino (guitarra flamenca)\, Luca Caponi (cajón set)\, Lara Ribi-chini (baile)\, Jose Salguero (cante). !Aquí Me Encuentro¡ è il primo CD da solista di Matteo D’Agostino\, l’artista che sta rivoluzionando l’approccio al Flamenco nel nostro Paese\, contribuendo alla conoscenza presso il grande pubblico di un genere che non si identifica solo con il baile (danza) e con il cante (canto rotto e struggente)\, ma soprattutto con il suono setoso ed elegante della chitarra flamenca.\n\nLo spettacolo è a numero chiuso\, per max 100 persone\, con prenotazione obbligatoria \nL’evento si inserisce nel programma della giornata conclusiva di “VIVI I PARCHI DEL LAZIO Insieme\, sicuri”\, rassegna  promossa in tutte le aree protette della Regione e che ha visto la partecipazione di migliaia di famiglie.
URL:https://www.castellodisantasevera.it/evento/sabato-12-settembre-conclusione-di-vivi-i-parchi-del-lazio/
CATEGORIES:In evidenza
ATTACH;FMTTYPE=image/jpeg:https://www.castellodisantasevera.it/app/uploads/2020/09/post-castello-scaled.jpg
END:VEVENT
BEGIN:VEVENT
DTSTART;TZID=Europe/Rome:20200926T200000
DTEND;TZID=Europe/Rome:20200927T213000
DTSTAMP:20260423T223216
CREATED:20200921T095226Z
LAST-MODIFIED:20200923T101223Z
UID:7007-1601150400-1601242200@www.castellodisantasevera.it
SUMMARY:Giornate Europee del patrimonio: Incontro con Dante al Castello e aperture straordinarie serali
DESCRIPTION: Sabato 26 e domenica 27 settembre si celebrano in Italia le GEP – Giornate Europee del Patrimonio\, la più estesa e partecipata manifestazione culturale d’Europa organizzate dal MiBACT e lo slogan di quest’anno  “Imparare per la vita” richiama i benefici che derivano dalla esperienza culturale e dalla trasmissione delle conoscenze nella società moderna. In questa prospettiva i luoghi della cultura sono chiamati a giocare un ruolo di primo piano\, essendo il patrimonio storico-artistico veicolo di conoscenza del passato\, di riflessione sull’attualità\, di ispirazione per il futuro. Così anche il Castello di Santa Severa\, spazio della Regione Lazio gestito da LAZIOcrea in collaborazione con il Comune di Santa Marinella\,  aderisce con  aperture straordinarie serali e con uno spettacolo teatrale itinerante. \nSabato 26 settembre l’ingresso ai musei sarà al costo simbolico  di 1 euro  dalle 19.30 alle 22.30\, con ultimo ingresso alle 21.30\, mentre Domenica 27 settembre\, la mattina due visite guidate alle 12.00 e alle 15.00  con prolungamento dell’ apertura straordinaria dalle 19.30 alle 22.30 al prezzo ordinario di 8€\, con ultimo ingresso alle 21.30. \nPRENOTAZIONE VISITE \nSempre Sabato 26\, con replica il domenica 27 alle ore 20.00\, va in scena il teatro itinerante Incontro con Dante al Castello. Il progetto nasce all’interno di un percorso di teatro itinerante ideato dall’attore-regista Agostino De Angelis\, in collaborazione con l’Associazione ArchéoTheatron\, che  utilizzerà il Castello e il Borgo di Santa Severa come  spazio scenico della rappresentazione; senza utilizzo di scenografie e  palcoscenico ma con gli attori in voce che daranno vita alle scene\, brani musicali dal vivo e performance di danza il sito prenderà vita trasformandosi in un girone infernale\, del purgatorio o in un cielo paradisiaco attraverso la luce.  Verranno rappresentati i Canti dell’Inferno I\,II\,III\, V\, VI\, X\, XIII\, XXVI\, XXXIII\, i  Canti del Purgatorio: I\,III\, V\, IX\, XIII\, XXVII\, XXVIII\, XXX  e i  Canti del Paradiso I\, III\, IX\, XIX\, XXII\, XXXIII. \nIl pubblico verrà accolto all’ingresso dell’area esterna nell’ area antistante portone di ingresso al borgo per presentazione evento e prime due scene\, successivamente seguirà lo spettacolo itinerante in tutta l’area interna al Borgo. \nIngresso libero con prenotazione obbligatoria (rispettando la normativa Anti Covid) inviando mail. archeotheatron.ass@gmail.com – cell. 349.4055382 organizzazione dello spettacolo Associazione Culturale ArchéoTheatron \nGli hashtag ufficiali sono: #gep2020  #imparareperlavita e #EuropeanHeritageDays.
URL:https://www.castellodisantasevera.it/evento/giornate-europee-del-patrimonio-incontro-con-dante-al-castello/
CATEGORIES:In evidenza
ATTACH;FMTTYPE=image/jpeg:https://www.castellodisantasevera.it/app/uploads/2020/09/Dante-Castello-S.severa-web-2-scaled.jpg
END:VEVENT
END:VCALENDAR