BEGIN:VCALENDAR
VERSION:2.0
PRODID:-//Castello di Santa Severa - Un castello sempre aperto - ECPv6.15.20//NONSGML v1.0//EN
CALSCALE:GREGORIAN
METHOD:PUBLISH
X-WR-CALNAME:Castello di Santa Severa - Un castello sempre aperto
X-ORIGINAL-URL:https://www.castellodisantasevera.it
X-WR-CALDESC:Eventi per Castello di Santa Severa - Un castello sempre aperto
REFRESH-INTERVAL;VALUE=DURATION:PT1H
X-Robots-Tag:noindex
X-PUBLISHED-TTL:PT1H
BEGIN:VTIMEZONE
TZID:Europe/Rome
BEGIN:DAYLIGHT
TZOFFSETFROM:+0100
TZOFFSETTO:+0200
TZNAME:CEST
DTSTART:20180325T010000
END:DAYLIGHT
BEGIN:STANDARD
TZOFFSETFROM:+0200
TZOFFSETTO:+0100
TZNAME:CET
DTSTART:20181028T010000
END:STANDARD
BEGIN:DAYLIGHT
TZOFFSETFROM:+0100
TZOFFSETTO:+0200
TZNAME:CEST
DTSTART:20190331T010000
END:DAYLIGHT
BEGIN:STANDARD
TZOFFSETFROM:+0200
TZOFFSETTO:+0100
TZNAME:CET
DTSTART:20191027T010000
END:STANDARD
BEGIN:DAYLIGHT
TZOFFSETFROM:+0100
TZOFFSETTO:+0200
TZNAME:CEST
DTSTART:20200329T010000
END:DAYLIGHT
BEGIN:STANDARD
TZOFFSETFROM:+0200
TZOFFSETTO:+0100
TZNAME:CET
DTSTART:20201025T010000
END:STANDARD
END:VTIMEZONE
BEGIN:VEVENT
DTSTART;TZID=Europe/Rome:20190801T210000
DTEND;TZID=Europe/Rome:20190801T223000
DTSTAMP:20260425T151231
CREATED:20190711T103245Z
LAST-MODIFIED:20190801T095328Z
UID:4960-1564693200-1564698600@www.castellodisantasevera.it
SUMMARY:La Sposa bambina
DESCRIPTION:Giovedì 1 agosto ore 21.00\, nell’ambito della rassegna Racconti in Blu  Musica\, teatro e incontri con autore nel  Piazzale delle Barrozze va in scena  La sposa bambina. Scritto e diretto da Laura Masielli. \nLo spettacolo tratta il delicato argomento delle “spose bambine”. La vicenda racconta di una famiglia araba emigrata in Italia a causa della guerra. La storia si concentra su Mariam\, una bambina di otto anni\, che viene promessa in sposa ad un uomo adulto in cambio di soldi. Il padre si è molto indebitato e per pagare i debiti decide di “vendere” la sua unica figlia\, dandola in sposa ad un uomo molto ricco. \nBiglietto 10\,00 euro\, massimo 300 pax \nPrenotazione consigliata  T. +39.06.39967999 \n 
URL:https://www.castellodisantasevera.it/evento/la-sposa-bambina/
CATEGORIES:In evidenza
ATTACH;FMTTYPE=image/jpeg:https://www.castellodisantasevera.it/app/uploads/2019/07/Lasposabambina-CoopCultweb.jpg
END:VEVENT
BEGIN:VEVENT
DTSTART;TZID=Europe/Rome:20190810T213000
DTEND;TZID=Europe/Rome:20190810T213000
DTSTAMP:20260425T151231
CREATED:20190717T091907Z
LAST-MODIFIED:20190807T102006Z
UID:5012-1565472600-1565472600@www.castellodisantasevera.it
SUMMARY:Massimo Ranieri - Sogno e son desto
DESCRIPTION: Sabato 10 agosto alle ore 21 arriva al Castello di Santa Severa Massimo Ranieri con il suo spettacolo Sogno e son desto. \nDopo 400 straordinarie repliche in tutta Italia\, lo spettacolo di Massimo Ranieri\, ideato e scritto con Gualtiero Peirce\, si rinnova e si conferma. Resta immutata la formula vincente\, con Ranieri interprete dei suoi grandi successi musicali\, ma sempre attore e narratore. In questa nuova versione senza perdere di vista il gusto irrinunciabile della tradizione umoristica napoletana e dei colpi di teatro\, naturalmente non mancheranno le sorprese. Ma stavolta\, soprattutto\, Ranieri sarà se stesso ancora di più. In scena ci sarà un Massimo al 100%\, che offrirà al suo pubblico tutto il meglio del suo repertorio più amato e più prestigioso. \nEvento a cura di Sevensounds Group \n  \nPREZZI BIGLIETTI\nPlatea numerata 500 biglietti a € 60\,00 cadauno\ntribune laterali dx e laterale sx 1000 biglietti a € 35\,00 cadauno\ntribuna frontale 500 biglietti a € 45\,00 cadauno \nPlatea numerata \nBiglietti online: https://bit.ly/2JJ8rwI \nIl portatore di handicap paga il prezzo del biglietto intero\, l’accompagnatore biglietto omaggio. Posti riservati in platea. \nPrevendite \nBiglietteria del Castello di Santa Severa Tel. +39.06.39967999 \nPro Loco Santa Severa via della Monacella 18\, Santa Severa Tel. +39.0766.570403 \nPunto Informazione turistica piazza Aldo Moro\, Cerveteri Tel. +39.06.99552637 \nPunto Informazione Turistica piazza Civitavecchia lato mare\, Santa Marinella pitsantamarinella.19@tiscali.it \nCaffè del Portico via Chirieletti 5 Cerveteri 00052 (zona Tyrsenia) Tel. +39. 327.3290032 \nCasa del disco via Traiana 45/47 – Civitavecchia Tel. +39.0766.24824 \nTabaccheria Antonia Pranzetti via Aurelia\, 523 – Santa Marinella Tel. +39.0766.533602
URL:https://www.castellodisantasevera.it/evento/massimo-ranieri-sogno-e-son-desto/
CATEGORIES:In evidenza
ATTACH;FMTTYPE=image/jpeg:https://www.castellodisantasevera.it/app/uploads/2019/07/ranieri.jpg
END:VEVENT
BEGIN:VEVENT
DTSTART;TZID=Europe/Rome:20190813T213000
DTEND;TZID=Europe/Rome:20190813T213000
DTSTAMP:20260425T151231
CREATED:20190717T093055Z
LAST-MODIFIED:20190812T111914Z
UID:5017-1565731800-1565731800@www.castellodisantasevera.it
SUMMARY:Maurizio Battista in #estate… calmi 2019
DESCRIPTION:Maurizio Battista torna al Castello di Santa Severa martedì 13 agosto alle ore 21.30 con lo spettacolo #estate… calmi 2019. \nUltimo di tanti capolavori che l’istrionico comico ha regalato sul piccolo e grande schermo nell’arco di una carriera longeva e ricca di soddisfazioni in quella che sarà un’emozione senza eguali con la sua capacitò di mettere d’accordo intere generazioni\, saltando da un’epoca all’altra\, ispirandosi alla memoria personale e collettiva di un’Italia narrata senza edulcorazioni\, così com’è\, cercando  la comicità nel tema più caro agli italiani : la famiglia. \nTra i pezzi nuovi\, invece\, ci sono quelli sul fenomeno FaceApp e sul riciclo\, sull’inconsapevolezza nel passato di essere ecosostenibili senza saperlo.  Prima non si  buttava niente “ Il materasso? Mica finiva nel cassonetto: passava di camera in camera\, poi di famiglia in famiglia\, e quando era proprio arrivata la sua ora\, prima di gettarlo via\, si riciclava pure il ferro delle sue molle. Altro che differenziata!». In scena lo accompagna Andrea Fratellini. Un ventriloquo fenomenale che incanta grandi e piccini. La sua  comicità vuole unire le generazioni. Un viaggio fra gli usi ed i costumi (con accezione ironica) della nostra società. Particolare come sempre sarà la sua attenzione alla situazione” romana “che lo vede coinvolto in prima persona con nuovi pezzi pezzi capaci di emozionare e contemporaneamente divertire. \n  \nEvento a cura di Sevensounds Group \nPREZZI BIGLIETTI\nPlatea numerata 500 biglietti a € 35\,00 cadauno\ntribune laterali dx e laterale sx 1000 biglietti a € 25\,00 cadauno\ntribuna frontale 500 biglietti a € 30\,00 cadauno \nPlatea numerata \nIl portatore di handicap paga il prezzo del biglietto intero\, l’accompagnatore biglietto omaggio. Posti riservati in platea. \nPrevendite \nBiglietteria del Castello di Santa Severa Tel. +39.06.39967999 \nPro Loco Santa Severa via della Monacella 18\, Santa Severa Tel. +39.0766.570403 \nPunto Informazione turistica piazza Aldo Moro\, Cerveteri Tel. +39.06.99552637 \nPunto Informazione Turistica piazza Civitavecchia lato mare\, Santa Marinella pitsantamarinella.19@tiscali.it \nCaffè del Portico via Chirieletti 5 Cerveteri 00052 (zona Tyrsenia) Tel. +39. 327.3290032 \nCasa del disco via Traiana 45/47 – Civitavecchia Tel. +39.0766.24824 \nTabaccheria Antonia Pranzetti via Aurelia\, 523 – Santa Marinella Tel. +39.0766.533602
URL:https://www.castellodisantasevera.it/evento/maurizio-battista-in-estate-calmi-2019/
CATEGORIES:In evidenza
ATTACH;FMTTYPE=image/jpeg:https://www.castellodisantasevera.it/app/uploads/2019/07/BATTISTA-2019-SANTA-SEVERA.jpg
END:VEVENT
BEGIN:VEVENT
DTSTART;TZID=Europe/Rome:20190816T213000
DTEND;TZID=Europe/Rome:20190816T213000
DTSTAMP:20260425T151231
CREATED:20190717T094449Z
LAST-MODIFIED:20190816T105013Z
UID:5020-1565991000-1565991000@www.castellodisantasevera.it
SUMMARY:Pino Daniele Opera in concerto
DESCRIPTION:ATTENZIONE: Per lo spettacolo Pino Daniele Opera in programma venerdì 16 agosto\, alle ore 21.30 visto lo straordinario successo degli eventi estivi e la grande partecipazione di pubblico\, d’accordo con la società produttrice ProCultur\, LAZIOcrea ha deciso\, nell’ambito del Festival Sere d’Estate di offrire l‘ingresso gratuito alle sole tribune laterali\, mentre i posti in platea e la tribuna centrale restano a pagamento.  \n  \nVenerdì 16 agosto ore 21.30\, nel Castello di Santa Severa\, Michele Simonelli e Paolo Raffone in concerto presenteranno Pino Daniele Opera.  “Pino Daniele Opera” è un progetto che propone in chiave cameristica 12 brani di Pino Daniele con una orchestra composta da giovani musicisti napoletani di grande talento diretti dal M° Paolo Raffone\, e la voce splendida\, profonda e penetrante di Michele Simonelli. Ad accompagnare l’organico alcuni dei musicisti storici che hanno collaborato con il ‘Nero a Metà’: Rosario Jermano\, Ernesto Vitolo\, Antonio Onorato\, Marco Zurzolo\, Roberto Giangrande\, Valentina Crimaldi\, Donatella Brighel. \nEvento a cura di ProCultur \nPREZZI BIGLIETTI \nPINO DANIELE OPERA: SPECIAL PRICE \n€10 invece di 17\,50 secondo settore utilizzando il codice promo: PDOSANTASEVERA.  \nAcquista online cliccando https://bit.ly/2YI1NRD\nPer maggiori informazioni 3383212547   \nintero: € 20\,00;\nridotto over 65 e under 30: € 15.00\n \nBiglietti online: https://bit.ly/2LpVMBT \nPlatea numerata \nIl portatore di handicap paga il prezzo del biglietto intero\, l’accompagnatore biglietto omaggio. Posti riservati in platea. \nPrevendite \nBiglietteria del Castello di Santa Severa Tel. +39.06.39967999 \nPro Loco Santa Severa via della Monacella 18\, Santa Severa Tel. +39.0766.570403 \nPunto Informazione turistica piazza Aldo Moro\, Cerveteri Tel. +39.06.99552637 \nPunto Informazione Turistica piazza Civitavecchia lato mare\, Santa Marinella pitsantamarinella.19@tiscali.it \nCaffè del Portico via Chirieletti 5 Cerveteri 00052 (zona Tyrsenia) Tel. +39. 327.3290032 \nCasa del disco via Traiana 45/47 – Civitavecchia Tel. +39.0766.24824 \nTabaccheria Antonia Pranzetti via Aurelia\, 523 – Santa Marinella Tel. +39.0766.533602
URL:https://www.castellodisantasevera.it/evento/5020/
CATEGORIES:In evidenza
ATTACH;FMTTYPE=image/jpeg:https://www.castellodisantasevera.it/app/uploads/2019/07/pino-daniele-opera.jpg
END:VEVENT
BEGIN:VEVENT
DTSTART;TZID=Europe/Rome:20190820T213000
DTEND;TZID=Europe/Rome:20190820T213000
DTSTAMP:20260425T151231
CREATED:20190717T080147Z
LAST-MODIFIED:20190819T101320Z
UID:4991-1566336600-1566336600@www.castellodisantasevera.it
SUMMARY:Tiromancino: Fino a Qui summer tour 2019
DESCRIPTION:Martedì 20 agosto arrivano al Castello di Santa Severa i TIROMANCINO  con il loro spettacolo “Fino a Qui summer tour 2019“. Appuntamento alle ore 21.30 \nDopo il successo del tour pieno di sold out nei più importanti teatri italiani\,  i TIROMANCINO con la straordinaria sensibilità artistica di Federico Zampaglione\, continuano il loro percorso live per tutta l’estate. La band è pronta a regalare\, come sempre\, spettacoli imperdibili e emozionanti\, tra i più grandi successi del repertorio e sorprese inedite. Ai concerti estivi avremo la possibilità di ascoltare per la prima volta dal vivo il prossimo singolo\, VENTO DEL SUD\, un brano costruito su calde e ritmate atmosfere tropicali\, che segna il ritorno dei Tiromancino in Virgin/Universal Music Italia\, con la quale in passato hanno realizzato album molto amati come La Descrizione Di Un Attimo\, In Continuo Movimento e Illusioni Parallele. \nFederico Zampaglione (voce e chitarra)\, Antonio Marcucci (chitarra elettrica)\, Francesco “Ciccio” Stoia (basso)\, Marco Pisanelli (batteria e percussioni) e Fabio Verdini (pianoforte e tastiere) saranno accompagnati ancora una volta dall’Ensemble Symphony Orchestra\, diretta dal Maestro Giacomo Loprieno. Tra le orchestre sinfoniche più importanti a livello europeo\, l’ensemble ha collaborato tra gli altri con Sting\, Kylie Minogue\, Robbie Williams\, Sam Smith e Luis Bacalov. \n«Sarà uno spettacolo speciale\, in cui punteremo a valorizzare l’aspetto ritmico delle nostre canzoni\, preparatevi\, perché ci sarà da ballare!» \nI Tiromancino nascono nel 1989 e\, con le loro sonorità unica e sperimentali\, diventano negli anni ’90 una delle band di riferimento nella scena musicale indie. Nel 2000 il grande successo di La Descrizione Di Un Attimo li consacra ufficialmente e\, alla guida del leader storico Federico Zampaglione\, pubblicano altri otto album\, collezionando dischi di platino e dando vita a veri e propri classici della musica italiana. Anche l’attività live è costante e la band si è esibita nel corso degli anni in migliaia di concerti in teatri\, arene\, palazzetti e festival. Tra i molti premi vinti per i loro testi e musiche\, si annoverano anche quelli per i videoclip\, spesso diretti da Zampaglione\, che hanno superato nel tempo 70 milioni di visualizzazioni. \nFederico dal 2007\, infatti\, è anche regista e sceneggiatore\, ha scritto e diretto Nero Bifamiliare\, Shadow e Tulpa. Shadow in particolare è l’horror italiano più venduto al mondo degli ultimi 20 anni e grazie a questo film\, Zampaglione è stato definito the new Dario Argento. Nel 2017 Federico ha pubblicato anche il suo primo romanzo\, Dove Tutto è a Metà (Mondadori)\, scritto a quattro mani con Giacomo Genisi. Nel 2018 viene pubblicata una nuova versione del brano Due destini\, cantata in duetto con Alessandra Amoroso\, che anticipa l’uscita del nuovo album Fino a Qui\, contenente 14 delle canzoni più significative del gruppo\, riarrangiate e reinterpretate insieme ai più importanti artisti del panorama della musica italiana tra cui Jovanotti\, Tiziano Ferro\, Elisa e Biagio Antonacci. \nEvento a cura di On Air \nPREZZI BIGLIETTI: \nTIROMANCINO:  \nplatea 35€ + 5 € d.p.\ntribuna centrale: 25 €+ 3\,50 € d.p.\ntribune laterali: 20 €+ 3 € d.p. \n Platea numerata  \nBiglietti online: https://bit.ly/2ShNEEi \nIl portatore di handicap paga il prezzo del biglietto intero\, l’accompagnatore biglietto omaggio. Posti riservati in platea. \n  \nPrevendite \nBiglietteria del Castello di Santa Severa Tel. +39.06.39967999 \nPro Loco Santa Severa via della Monacella 18\, Santa Severa Tel. +39.0766.570403 \nPunto Informazione turistica piazza Aldo Moro\, Cerveteri Tel. +39.06.99552637 \nPunto Informazione Turistica piazza Civitavecchia lato mare\, Santa Marinella pitsantamarinella.19@tiscali.it \nCaffè del Portico via Chirieletti 5 Cerveteri 00052 (zona Tyrsenia) Tel. +39. 327.3290032 \nCasa del disco via Traiana 45/47 – Civitavecchia Tel. +39.0766.24824 \nTabaccheria Antonia Pranzetti via Aurelia\, 523 – Santa Marinella Tel. +39.0766.533602
URL:https://www.castellodisantasevera.it/evento/tiromancino-fino-a-qui-summer-tour-2019/
CATEGORIES:In evidenza
ATTACH;FMTTYPE=image/jpeg:https://www.castellodisantasevera.it/app/uploads/2019/07/foto-tiromancino.jpg
ORGANIZER;CN="On Air":MAILTO:biglietteriaonair@gmail.com
END:VEVENT
BEGIN:VEVENT
DTSTART;TZID=Europe/Rome:20190824T213000
DTEND;TZID=Europe/Rome:20190824T213000
DTSTAMP:20260425T151231
CREATED:20190717T081003Z
LAST-MODIFIED:20190821T101326Z
UID:4995-1566682200-1566682200@www.castellodisantasevera.it
SUMMARY:Enrico Montesano "One Man show"
DESCRIPTION:Una serata all’insegna del divertimento con Enrico Montesano e il suo One Man Show. Al Castello di Santa Severa sabato 24 agosto alle ore 21.30. \nDopo una lunga serie di sold-out con Rugantino e Il Conte Tacchia con tantissime date in tutta Italia arriva a teatro con il suo One Man Show\, una raccolta dei pezzi più esilaranti del suo repertorio. Come dite adesso in italiano: “Stend up commedian”? L’espressione in lingua inglese sta a indicare “spettacolo che si svolge in piedi”\, senza quarta parete. \nFamosi sono in tutto il mondo i grandi comici di cabaret anglo- americani\, ma per non essere troppo esterofili facciamo notare che Enrico già nel 1966\, faceva i suoi monologhi in piedi. Esattamente in contemporanea con i grandi Bill Hicks e George Carlin\, ma all’epoca chi lo sapeva? Poi al Sistina con “Bravo!”\, nella stagione 1979-1980\, che lo consacrava\, e “Beati voi” del\n1991-1992 dimostrava le sue qualità\, e privilegiando la parola\, affrontava con la sua satira temi sociali e politici. Non tralasciava di esibirsi nei suoi pezzi forti\, ovvero i suoi più noti personaggi nati alla radio nelle fortunatissime serie di Gran Varietà: dalla Romantica Donna Inglese\, a Torquato il pensionato\, a Dudù e Cocò\, a Zia Sally con i suoi strampalati consigli..e al professor Taddeo\nRufus nel suo ridicolo bricolage e tanti altri. \nCon inoltre le sue imitazioni\, le sue barzellette\, la sue canzoni satiriche e nuovi personaggi\, come il Rapper Femo Blas\, per gli amici Blas Femo\, e monologhi sulla nostra attualità che di spunti ne\noffre quotidianamente: ce n’è per tutti i gusti! \nEvento a cura di On Air \nPREZZI BIGLIETTI: \nplatea: 40 € + 5 € d.p.\ntribuna centrale: 30 €+ 4 € d.p.\ntribune laterali: 20 €+ 3 €d.p.  \nPlatea numerata \nBiglietti online: https://bit.ly/2JCz0os \nIl portatore di handicap paga il prezzo del biglietto intero\, l’accompagnatore biglietto omaggio. Posti riservati in platea. \n  \nPrevendite \nBiglietteria del Castello di Santa Severa Tel. +39.06.39967999 \nPro Loco Santa Severa via della Monacella 18\, Santa Severa Tel. +39.0766.570403 \nPunto Informazione turistica piazza Aldo Moro\, Cerveteri Tel. +39.06.99552637 \nPunto Informazione Turistica piazza Civitavecchia lato mare\, Santa Marinella pitsantamarinella.19@tiscali.it \nCasa del disco via Traiana 45/47 – Civitavecchia Tel. +39.0766.24824 \nTabaccheria Antonia Pranzetti via Aurelia\, 523 – Santa Marinella Tel. +39.0766.533602
URL:https://www.castellodisantasevera.it/evento/enrico-montesano-one-man-show/
CATEGORIES:In evidenza
ATTACH;FMTTYPE=image/jpeg:https://www.castellodisantasevera.it/app/uploads/2019/07/70X100-MONTESANO_page-0001.jpg
ORGANIZER;CN="On Air":MAILTO:biglietteriaonair@gmail.com
END:VEVENT
BEGIN:VEVENT
DTSTART;TZID=Europe/Rome:20190830T210000
DTEND;TZID=Europe/Rome:20190830T230000
DTSTAMP:20260425T151231
CREATED:20190808T145325Z
LAST-MODIFIED:20190826T131550Z
UID:5166-1567198800-1567206000@www.castellodisantasevera.it
SUMMARY:Pitecus di Antonio Rezza e Flavia Mastrella
DESCRIPTION:Antonio Rezza e Flavia Mastrella\, ovvero RezzaMastrella\, un combinato artistico inimitabile nel panorama teatrale contemporaneo\,  Leoni d’oro alla carriera per il Teatro 2018 e recenti vincitori del premio Rosa d’oro della Milanesiana\, saranno i protagonisti il prossimo 30 agosto alle ore 21.00  sulla Spianata dei Signori dell’ intenso e ironico spettacolo teatrale PITECUS. \nPITECUS è uno spettacolo irriverente\, satirico e cinico e racconta storie di tanti personaggi. Un andirivieni di gente che vive in un microcosmo disordinato: stracci di realtà si susseguono senza filo conduttore\, sublimi cattiverie rendono comici ed aggressivi anche argomenti delicati. Non esistono rappresentazioni positive\, ognuno si accontenta\, tutti si sentono vittime\, lavorano per nascondersi\, comprano sentimenti e dignità\, non amano\, creano piattume e disservizio. I personaggi sono brutti somaticamente ed interiormente\, sprigionano qualunquismo a pieni pori\, sprofondano nell’anonimato ma\, grazie al loro narcisismo\, sono convinti di essere originali\, contemporanei e\, nei casi più sfacciati\, avanguardisti. Parlano un dialetto misto\, sono molto colorati\, si muovono. \nIngresso a pagamento € 10.00+ 1€ d.p.  fino a 12 anni ingresso gratuito \nIl portatore di handicap ha il biglietto omaggio\, l’accompagnatore biglietto paga il prezzo del biglietto intero. Posti riservati. \nBiglietti disponibili  presso la Biglietteria del Castello T. +39.06.39967999
URL:https://www.castellodisantasevera.it/evento/pitecus-di-antonio-rezza-e-flavia-mastrella/
CATEGORIES:In evidenza
ATTACH;FMTTYPE=image/jpeg:https://www.castellodisantasevera.it/app/uploads/2019/08/MANIFESTO-PITECUS.jpg
END:VEVENT
BEGIN:VEVENT
DTSTART;TZID=Europe/Rome:20190831T110000
DTEND;TZID=Europe/Rome:20190901T200000
DTSTAMP:20260425T151231
CREATED:20190821T113034Z
LAST-MODIFIED:20190831T161711Z
UID:5222-1567249200-1567368000@www.castellodisantasevera.it
SUMMARY:Il Castello veste la natura
DESCRIPTION:Dal 31 agosto al 1 settembre un evento con raccolta fondi destinata all’acquisto di un Seabin Project da posizionare all’interno del mare di Santa Marinella. Il  Seabin\, è un cestino  galleggiante che rimuove i rifiuti galleggianti dall’acqua  risucchiandoli  tra cui le microplastiche. Efficace soprattutto in aree come i porti\, dove si accumulano i detriti\, è in grado di catturare più di 500 chili di rifiuti all’anno. \nENTRATA GRATUITA!\nAll’interno del castello  troverete moltissime attrazioni come :\nsculture di sabbia\, esposizione di sculture in plastica\, apericena al tramonto\, stand ecosostenibili\, area drink food & fruit\, corsi gratuiti di yoga\, giochi educativi gratuiti per bambini\, gara di raccolta rifiuti sub\, pulizia con la Natureducation\, conferenze sul plastic free e problematiche ambientali\, ecc ecc..  \nVi aspettiamo in numerosi\, il mare vi ringrazierà 
URL:https://www.castellodisantasevera.it/evento/il-castello-veste-la-natura/
CATEGORIES:In evidenza
ATTACH;FMTTYPE=image/jpeg:https://www.castellodisantasevera.it/app/uploads/2019/08/castello-veste-natura.jpg
END:VEVENT
BEGIN:VEVENT
DTSTART;TZID=Europe/Rome:20190831T213000
DTEND;TZID=Europe/Rome:20190831T213000
DTSTAMP:20260425T151231
CREATED:20190717T082323Z
LAST-MODIFIED:20190826T131453Z
UID:4998-1567287000-1567287000@www.castellodisantasevera.it
SUMMARY:Arturo Brachetti - Arturo intervista Brachetti
DESCRIPTION:Sabato 31 agosto alle ore 21.30 lo spettacolo di Arturo Brachetti “Arturo racconta Brachetti“. Un’intervista frizzante tra vita e palcoscenico.\nUno o centomila? L’uomo dai mille volti\, che in un battito di ciglia (o forse due) è capace di trasformarsi in mille personaggi\, si racconta in una serata speciale fatta di confidenze\, ricordi e viaggi fantastici. Fregoli\, Parigi e le luci della Tour Eiffel\, Ugo Tognazzi\, le ombre cinesi\, la macchina da cucire della mamma\, il Paradis Latin\, e le mille fantasie di un ragazzo che voleva diventare regista o papa\, prendono vita in un’intervista frizzante al confine tra vita privata e palcoscenico. \nSarà come entrare nel dietro le quinte della vita di Arturo Brachetti\, parlando dei suoi debutti\, dei viaggi intorno al mondo\, della vita quotidiana\, delle “mille arti” in cui eccelle e altro ancora.\nPartendo dal racconto della sua storia e dal solaio in cui tutto è iniziato\, l’artista italiano\, senza maschere e senza trasformismi\, ci farà scoprire perché è la realtà immaginata quella che ci rende\npiù felici… \nArturo Brachetti è un artista italiano\, famoso e acclamato in tutto il mondo\, considerato univocamente il world Master of quick change\, il grande Maestro del trasformismo internazionale. Il Guinness Book of Records lo annovera come il più veloce trasformista del mondo. Inoltre è un regista e direttore artistico attento e appassionato\, capace di spaziare dal teatro comico al musical\, dalla magia al varietà. \nTra i numerosi riconoscimenti ricevuti nella sua carriera figurano il premio Molière (FR) e il Laurence Olivier Award (UK). Nel 2014 il Presidente della Repubblica Giorgio Napolitano lo nomina Commendatore con un decreto motu proprio. Tra i suoi libri: Le ombre cinesi (Priuli&Verlucca 2005); Uno\, Arturo\, centomila. Vita\, magie e salti mortali dell’uomo dai mille volti (Rizzoli\, 2007); Tanto per cambiare (Baldini&Castoldi 2015). \nL’evento è organizzato a cura di On Air. \nPREZZO BIGLIETTI: \nPlatea: 15 € + 2 € d.p.\nRidotto Under 12 Platea: 7\,50 € + 1 € d.p.\nTribuna Centrali E Laterali: 10 €+ 1 € d.p.\nRidotto Under 12 Tribune Cent. Lat.: 7\,50 €+ 1 € d.p. \nPlatea numerata \nBiglietti online: https://bit.ly/2LrdEfB \nIl portatore di handicap paga il prezzo del biglietto intero\, l’accompagnatore biglietto omaggio. Posti riservati in platea. \nPrevendite \nBiglietteria del Castello di Santa Severa Tel. +39.06.39967999 \nPro Loco Santa Severa via della Monacella 18\, Santa Severa Tel. +39.0766.570403 \nPunto Informazione turistica piazza Aldo Moro\, Cerveteri Tel. +39.06.99552637 \nPunto Informazione Turistica piazza Civitavecchia lato mare\, Santa Marinella pitsantamarinella.19@tiscali.it \nCaffè del Portico via Chirieletti 5 Cerveteri 00052 (zona Tyrsenia) Tel. +39. 327.3290032 \nCasa del disco via Traiana 45/47 – Civitavecchia Tel. +39.0766.24824 \nTabaccheria Antonia Pranzetti via Aurelia\, 523 – Santa Marinella Tel. +39.0766.533602
URL:https://www.castellodisantasevera.it/evento/arturo-brachetti-arturo-intervista-brachetti/
CATEGORIES:In evidenza
ATTACH;FMTTYPE=image/jpeg:https://www.castellodisantasevera.it/app/uploads/2019/07/brachetti.jpg
ORGANIZER;CN="On Air":MAILTO:biglietteriaonair@gmail.com
END:VEVENT
END:VCALENDAR