BEGIN:VCALENDAR
VERSION:2.0
PRODID:-//Castello di Santa Severa - Un castello sempre aperto - ECPv6.15.20//NONSGML v1.0//EN
CALSCALE:GREGORIAN
METHOD:PUBLISH
X-WR-CALNAME:Castello di Santa Severa - Un castello sempre aperto
X-ORIGINAL-URL:https://www.castellodisantasevera.it
X-WR-CALDESC:Eventi per Castello di Santa Severa - Un castello sempre aperto
REFRESH-INTERVAL;VALUE=DURATION:PT1H
X-Robots-Tag:noindex
X-PUBLISHED-TTL:PT1H
BEGIN:VTIMEZONE
TZID:Europe/Rome
BEGIN:DAYLIGHT
TZOFFSETFROM:+0100
TZOFFSETTO:+0200
TZNAME:CEST
DTSTART:20180325T010000
END:DAYLIGHT
BEGIN:STANDARD
TZOFFSETFROM:+0200
TZOFFSETTO:+0100
TZNAME:CET
DTSTART:20181028T010000
END:STANDARD
BEGIN:DAYLIGHT
TZOFFSETFROM:+0100
TZOFFSETTO:+0200
TZNAME:CEST
DTSTART:20190331T010000
END:DAYLIGHT
BEGIN:STANDARD
TZOFFSETFROM:+0200
TZOFFSETTO:+0100
TZNAME:CET
DTSTART:20191027T010000
END:STANDARD
BEGIN:DAYLIGHT
TZOFFSETFROM:+0100
TZOFFSETTO:+0200
TZNAME:CEST
DTSTART:20200329T010000
END:DAYLIGHT
BEGIN:STANDARD
TZOFFSETFROM:+0200
TZOFFSETTO:+0100
TZNAME:CET
DTSTART:20201025T010000
END:STANDARD
END:VTIMEZONE
BEGIN:VEVENT
DTSTART;TZID=Europe/Rome:20190705T200000
DTEND;TZID=Europe/Rome:20190707T010000
DTSTAMP:20260425T184202
CREATED:20190524T102238Z
LAST-MODIFIED:20190705T142152Z
UID:4658-1562356800-1562461200@www.castellodisantasevera.it
SUMMARY:Notte delle candele in polvere
DESCRIPTION:Il 5\, 6 e 7 luglio al Castello di Santa Severa\, Notte delle candele in polvere.  L’iniziativa\, che anticipa la più celebre manifestazione dell’ultimo sabato di agosto\, vedrà allestire le viuzze del borgo di ogni lume e scenografia\, con eventi dal vivo\, tra arte e musica. La manifestazione avrà luogo a partire dalle 20:00. \nDopo Pals in Catalunya e Ordino in Andorra\, eventi curati da Daniele Raggi che hanno reso possibile l’internazionalizzazione del format più romantico dell’anno producendo un mix vincente di turismo\, cultura e partecipazione attiva del pubblico\, i visitatori potranno assaporare questa “Notte delle candele in polvere” anche godendo delle prelibatezze enogastronomiche locali proposte da numerosi street food. \nL’iniziativa è organizzata dall’Associazione Notte delle Candele di Vallerano in collaborazione con Pyrgi eventi e Fabio Quartieri. Media partner sarà quest’anno Radio Italia Anni Sessanta \nModalità di prevendita: \nbiglietti presso Ristorante Isola del Pescatore\, Bar Cattive Compagnie\, Chiosco Carita Morena. Sul posto la sera stessa dell’evento \nCosto ticket: intero 10 € ; ridotto fino a 12 anni non compiuti 5 €  \nPer qualsiasi ulteriore info: 3462117941
URL:https://www.castellodisantasevera.it/evento/notte-delle-candele-in-polvere/
CATEGORIES:In evidenza
ATTACH;FMTTYPE=image/png:https://www.castellodisantasevera.it/app/uploads/2019/05/Notte-delle-Candele-castello-Santa-Severa.png
END:VEVENT
BEGIN:VEVENT
DTSTART;TZID=Europe/Rome:20190708T090000
DTEND;TZID=Europe/Rome:20190708T170000
DTSTAMP:20260425T184202
CREATED:20190625T142600Z
LAST-MODIFIED:20190704T132109Z
UID:4861-1562576400-1562605200@www.castellodisantasevera.it
SUMMARY:Conferenza per la chiusura di MusicUp Close Network
DESCRIPTION:La CONFERENZA Internazionale per la chiusura di “MusicUp Close Network”\, il progetto di promozione della musica sinfonica nelle scuole e tra i giovani di tutta Europa. \nTanti ospiti\, tanti temi da affrontare e un’occasione per avvicinarsi al mondo della musica sinfonica! \nAppuntamento  lunedì 8 luglio alle ore 9.00 presso il Castello di Santa Severa \n\nPer assistere alla conferenza \nhttps://mucn_conferenzainternazionale.eventbrite.it \n  \n\nProgramma Conferenza MUCN_ITA
URL:https://www.castellodisantasevera.it/evento/conferenza-per-la-chiusura-di-musicup-close-network/
CATEGORIES:In evidenza
ATTACH;FMTTYPE=image/jpeg:https://www.castellodisantasevera.it/app/uploads/2019/06/concerto-musicup.jpg
END:VEVENT
BEGIN:VEVENT
DTSTART;TZID=Europe/Rome:20190710T090000
DTEND;TZID=Europe/Rome:20190714T200000
DTSTAMP:20260425T184202
CREATED:20190618T110146Z
LAST-MODIFIED:20190710T111858Z
UID:4807-1562749200-1563134400@www.castellodisantasevera.it
SUMMARY:Santa Severa ArteExpo2019
DESCRIPTION:Dal 10 al 14 luglio appuntamento con Santa Severa Arte Expo 2019\, con la direzione artistica di Giacomo Molinari  e Damiano Bisozzi\, l’’unica manifestazione di grandissimo impatto che sarà in grado di valorizzare e promuovere i talenti della danza e del musical. Saranno protagonisti di questo Expo grandi nomi della musica\, della danza come Steve la Chance\, del teatro e della televisione nazionale ed internazionale\, ma anche e soprattutto i grandi e piccoli talenti che vorranno immergersi in questi giorni di meravigliosa e suggestiva formazione artistica. \nL’evento è organizzato da Etruria Arte e sarà ospitato nella Sala Manica Lunga e sulla Spianata del castello di Santa Severa\, spazio della Regione Lazio e gestito da LAZIOcrea\, in collaborazione con il Comune di Santa Marinella e Coopculture. \nLo stage di danza “DanzaEtruria” consiste in un progetto di formazione per i livelli Kids\, intermedio e avanzato che affronterà più stili e tecniche: danza classica\, modern (contemporaneo\, jazz e contaminazione)\, urban dance (hip hop\, video dance) e che per tre giorni vedrà la presenza di maestri e coreografi internazionali come la Master class dedicata al musical  con protagonista  Kennet Every Clark di American Musical Theatre Academy. \nDurante le lezioni i docenti e coreografi selezioneranno i partecipanti per borse di studio e occasioni professionali. I danzatori e il pubblico potranno prendere parte al gala finale del 13 luglio\, alle ore 21.30\, in una serata con illustri ospiti del mondo della danza e dello spettacolo come Bryan Ramirez e Paola De Filippis della trasmissione “Amici” di Canale 5 e la Compagnia Nazionale del balletto\, con le coreografie di Antonio Barone e  prima ballerina Francesca Schipani. L’evento “PyrgiArt&Show” si terrà nel teatro della Spianata dei Signori\, con ingresso gratuito mentre tutti i giorni della manifestazione nel piazzale delle Barrozze si terrà  Fiera Terra d’Etruria\, un’esposizione di artigianato e prodotti locali per un tour enogastronomico.
URL:https://www.castellodisantasevera.it/evento/santa-severa-arteexpo2019/
CATEGORIES:In evidenza
ATTACH;FMTTYPE=image/jpeg:https://www.castellodisantasevera.it/app/uploads/2019/06/danza-etruria-2.jpg
END:VEVENT
BEGIN:VEVENT
DTSTART;TZID=Europe/Rome:20190718T100000
DTEND;TZID=Europe/Rome:20190721T233000
DTSTAMP:20260425T184202
CREATED:20190618T115312Z
LAST-MODIFIED:20190717T093413Z
UID:4813-1563444000-1563751800@www.castellodisantasevera.it
SUMMARY:Surf Expo 2019
DESCRIPTION:Voglia di onde\, sole e divertimento?\nSurf Expo rappresenta l’evento italiano di riferimento per la promozione del surfing e del lifestyle dal 1999. Tante novità per la 21esima edizione in programma.\nwww.italiasurfexpo.it
URL:https://www.castellodisantasevera.it/evento/surf-expo-2019/
CATEGORIES:In evidenza
ATTACH;FMTTYPE=image/jpeg:https://www.castellodisantasevera.it/app/uploads/2019/06/surf.jpg
END:VEVENT
BEGIN:VEVENT
DTSTART;TZID=Europe/Rome:20190729T213000
DTEND;TZID=Europe/Rome:20190731T233000
DTSTAMP:20260425T184202
CREATED:20190723T085404Z
LAST-MODIFIED:20190723T085613Z
UID:5050-1564435800-1564615800@www.castellodisantasevera.it
SUMMARY:Festival della Luna
DESCRIPTION:In occasione del cinquantesimo anniversario dell’allunaggio Argot Studio organizza dal 29 al 31 luglio al Castello di Santa Severa il “Festival della Luna”\, 3 giorni di spettacoli\, musica\, incontri scientifici\, laboratori per bambini e postazione astronomica con telescopi! \nTUTTI GLI EVENTI SONO AD INGRESSO GRATUITO – Prenotazione obbligatoria: lacittaideale171@gmail.com | 338 7865859 \nPROGRAMMA \nLunedì 29 luglio ore 21.30 – Spianata dei Signori\nLa compagnia del Teatro dell’Orologio presenta\, Walking on the moon\, uno spettacolo scritto da Fabio Morgan e Leonardo Ferrari Carissimi\, dedicato alla figura dell’astronauta Michael Collins\, interpretato da Graziano Piazza. \nore 23.30 – Spianata dei Signori\nPostazione astronomia con telescopi a cura di Accademia delle stelle \n\nMartedì 30 luglio ore 17.30 Sala degli artisti\nLaboratorio di riciclo creativo per bambini a cura di Chien Barbu Mal Rasè. Tutti sanno che la luna è fatta di formaggio.. ma no è di panna montata! ma che dite? è l’occhio di un gigante che ci guarda e ci protegge.. io ho sempre creduto che fosse un ammasso di magma e calcari leggeri proiettati dalla forza centrifuga della rotazione terreste e poi agglomerati dalla gravità.. ma quando mai?! Sono i detriti di una deflagrazione siderale!!!! Nel dubbio andiamo a vedere! Laboratorio di costruzione di razzo spaziale per andare a scoprire di cosa è fatta la luna. \nore 19.30 – Cortile della Rocca\nBuchi neri – Viaggio dove il tempo finisce.  Incontro con l’astrofisica Elisa Nardelli pubblicato a settembre 2018 da Edizioni Cento Autori\, per la collana “Megaverso – La scienza per tutti”. La storia della scoperta dei buchi neri e delle osservazioni che ci hanno portato a svelarne il comportamento racconta di uomini testardi e di enormi sfide tecnologiche\, alcune delle quali stanno per prendere forma sotto ai nostri occhi. \nore 21.30 – Cortile della Guardia\nSpettacolo di fuoco e teatro “Viaggio al centro della Luna” di Creme & Brule Show.  Un’esploratrice molto curiosa\, a bordo della sua astronave multifunzione\, parte per uno straordinario viaggio sulla Luna. Incontreremo incredibili creature fiammeggianti\, alcune divertenti\, altre spaventose\, avventurandoci nelle profondità di un mondo fantastico. Teatro di figura\, clown e fuoco\, in un racconto visuale e immaginifico\, per a toccare la Luna con un dito. Attenti a non bruciarvi! \nore 22.30 – Spianata dei Signori\nPostazione astronomia con telescopi a cura di Accademia delle stelle \n\nMercoledì 31 luglio ore 19.30 – Cortile della Rocca\nIncontro spettacolo “Il curioso caso del dottor Palomar appunti emozionati di astrofisica”. Intervengono Angela Bongiorno\, Marcella Di Criscienzo\, Silvia Piranomonte – ricercatrici INAF  e Roberto Bragalone – scrittore.\nUno spettacolo a più voci che\, intrecciando concetti astronomici con la vita reale\, racconta le leggi che governano l’universo usando quelle che regolano la giornata del dottor Palomar.\nIn occasione del 50esimo anniversario dello sbarco sulla Luna\, tre ricercatrici dell’Istituto Nazionale di Astrofisica insieme allo scrittore Roberto Bragalone viaggeranno\, insieme allo spettatore\, tra i pilastri dell’astrofisica. \nore 21.30 – Cortile della Guardia\n“Ode alla Luna”. Lettura scenica e ideazione a cura di Tiziano Panici\, Ambient work a cura di Giovanni Di Giandomenico. Un percorso sonoro e immersivo per celebrare il cinquantenario dell’allunaggio attraverso un viaggio tra le parole delle più celebri canzoni della cultura pop dagli anni ‘60 ai ‘2000 dedicate alla Luna. \nIngresso libero fino a esaurimento posti \nore 22.30 – Spianata dei Signori\nPostazione astronomia con telescopi a cura di Accademia delle stelle \nTUTTI GLI EVENTI SONO AD INGRESSO GRATUITO \nPrenotazione obbligatoria\nlacittaideale171@gmail.com | 338 7865859 \nCon il patrocinio di INAF – Istituto Nazionale di Astrofisica e in collaborazione con Accademia Delle Stelle – Astronomia
URL:https://www.castellodisantasevera.it/evento/festival-della-luna/
CATEGORIES:In evidenza
ATTACH;FMTTYPE=image/jpeg:https://www.castellodisantasevera.it/app/uploads/2019/07/MANIFESTO-FESTIVALD-ELLA-LUNA-1.jpg
END:VEVENT
END:VCALENDAR