BEGIN:VCALENDAR
VERSION:2.0
PRODID:-//Castello di Santa Severa - Un castello sempre aperto - ECPv6.15.20//NONSGML v1.0//EN
CALSCALE:GREGORIAN
METHOD:PUBLISH
X-WR-CALNAME:Castello di Santa Severa - Un castello sempre aperto
X-ORIGINAL-URL:https://www.castellodisantasevera.it
X-WR-CALDESC:Eventi per Castello di Santa Severa - Un castello sempre aperto
REFRESH-INTERVAL;VALUE=DURATION:PT1H
X-Robots-Tag:noindex
X-PUBLISHED-TTL:PT1H
BEGIN:VTIMEZONE
TZID:Europe/Rome
BEGIN:DAYLIGHT
TZOFFSETFROM:+0100
TZOFFSETTO:+0200
TZNAME:CEST
DTSTART:20180325T010000
END:DAYLIGHT
BEGIN:STANDARD
TZOFFSETFROM:+0200
TZOFFSETTO:+0100
TZNAME:CET
DTSTART:20181028T010000
END:STANDARD
BEGIN:DAYLIGHT
TZOFFSETFROM:+0100
TZOFFSETTO:+0200
TZNAME:CEST
DTSTART:20190331T010000
END:DAYLIGHT
BEGIN:STANDARD
TZOFFSETFROM:+0200
TZOFFSETTO:+0100
TZNAME:CET
DTSTART:20191027T010000
END:STANDARD
BEGIN:DAYLIGHT
TZOFFSETFROM:+0100
TZOFFSETTO:+0200
TZNAME:CEST
DTSTART:20200329T010000
END:DAYLIGHT
BEGIN:STANDARD
TZOFFSETFROM:+0200
TZOFFSETTO:+0100
TZNAME:CET
DTSTART:20201025T010000
END:STANDARD
END:VTIMEZONE
BEGIN:VEVENT
DTSTART;TZID=Europe/Rome:20190203T153000
DTEND;TZID=Europe/Rome:20190203T163000
DTSTAMP:20260425T143307
CREATED:20190124T104817Z
LAST-MODIFIED:20190128T114257Z
UID:4313-1549207800-1549211400@www.castellodisantasevera.it
SUMMARY:Ultimi romantici: performance musicale e reading
DESCRIPTION:Domenica 3 febbraio alle ore 15.30  performance musicale e reading  Ultimi Romantici una tappa del Tour Sanremese che porterà il duo Claudio e Diana  a Casa Sanremo. Un Reading Musicale\, ovvero una chiacchierata con pillole musicale dei più bei classici napoletani di sempre\, totalmente sui generis\, fatto di parole\, musica e video\, per ripercorrere la biografia dei 30 anni di carriera di Claudio e Diana curata dal giornalista Luigi Coppola con prefazione di Tony Esposito. \nIngresso libero fino ad esaurimento posti
URL:https://www.castellodisantasevera.it/evento/ultimi-romantici-performance-musicale-e-reading/
CATEGORIES:In evidenza
ATTACH;FMTTYPE=image/jpeg:https://www.castellodisantasevera.it/app/uploads/2019/01/Locandina-3-febbraio.jpg
END:VEVENT
BEGIN:VEVENT
DTSTART;TZID=Europe/Rome:20190208T093000
DTEND;TZID=Europe/Rome:20190209T170000
DTSTAMP:20260425T143307
CREATED:20190123T105935Z
LAST-MODIFIED:20190205T085822Z
UID:4307-1549618200-1549731600@www.castellodisantasevera.it
SUMMARY:Giornata mondiale della Radio
DESCRIPTION:Appuntamento l’8 e il 9 febbraio per celebrare la Giornata mondiale della Radio\, inserita nel calendario mondiale dell’Unesco.   \nIn occasione della Giornata Mondiale  della Radio\, organizzata in collaborazione con il  CLUB per  l’UNESCO di Latina\, la città di Santa Marinella e il PARCO DELLA SCIENZA G.MARCONI (Torre Chiaruccia) sono stati inseriti nel calendario delle attività della FEDERAZIONE ITALIANA CENTRI e ASSOCIAZIONI UNESCO (FICLU). L’evento – che sarà trasmesso in diretta da RADIO KING711 – è ospitato dal Castello di Santa Severa\, spazio della Regione Lazio gestito da LAZIOcrea in collaborazione con Comune di S.Marinella\, MiBAC e Coopculture.  \nMadrina di eccezione la Principessa Elettra Marconi\, Testimonial il giovane studente Matteo Passacantilli dell’Ist.Comprensivo di S.Marinella 1° Classificato ai Campionati Internazionali di Matematica 2018 UNIVERSITA’ BOCCONI di Milano. Gli ospiti saranno accolti dal Sindaco Avv. Pietro Tidei. Il Parco della Scienza\, realizzato su progetto del Prof. Livio Spinelli per il Comune di S.Marinella\, ha consentito dopo 75 anni il ritorno a Torre Chiaruccia del Centro Radioelettrico Sperimentale\, istituito da Marconi quando era presidente del CNR (R.D. 12.10.1933). A S.Marinella\, Marconi – primo al mondo – condusse ricerche e sperimentazioni avveniristiche sull’impiego delle microonde nella RADIOTELEFONIA MOBILE\, TRASMISSIONI TV. L’area in cui sorge il parco costituisce una pietra miliare nella storia mondiale delle comunicazioni e dell’elettronica. Gli eventi di queste giornate vedranno una numerosa partecipazione di studenti in quanto uno degli obiettivi del Parco sono le attività a favore delle scuole di ogni ordine e grado e università. Parteciperanno studenti dell’ITIS FERMI di Roma\, dell’IISS NAUTICO di Civitavecchia e dell’Istituto Comprensivo Carducci di S.Marinella che stanno realizzando il programma CLIL COMUNICAZIONI Lingua Inglese – Scienze – Educazione Tecnica. Un contributo decisivo all’organizzazione di queste giornate è stato dato dalle Sezioni Radioamatori ARI di\, Civitavecchia e Alto Lazio\, dello YOTA CLUB ITALIAl’Associazione che raggruppa tutti i giovani radioamatori europei e dal CSMI Coordinamento Stazione Marconiane Italiane. Dalla Spagna parteciperà il Presidente della TITANIC Fundacion Jesus Ferreiro Ruapartner della Città della Scienza e due giornalisti della catena radio televisiva spagnola ES.RADIO TV. L’8 febbraio a TORRE CHIARUCCIA sarà attivata la nuova stazione radioamatoriale\, operata dai ragazzi dello YOTE CLUB\, che dopo mezzo secolo farà sentire di nuovo al mondo “LA VOCE DI MARCONI”. Al Castello di S.Severa si sono dati appuntamento tutti i radioamatori del CSMI Coordinamento Stazioni Marconiane Italiane. L’Arch. Stefania Nardangeli presenterà il progetto preliminare di ricostruzione della Torre Chiaruccia dove Marconi conduceva i suoi esperimenti\, distrutta dai nazisti nel 1944. Tra i relatori del Convegno ci saranno il Prof. Gianni Cancellieri\, Presidente del CReSM\, l’Ing. Emanuele D’Andria Presidente di AMSAT Italia\, il Prof. Arnaldo D’Amico dell’Università di Tor Vergata\, il Prof. Gaspare Galati dell’Università di Tor Vergata. Il convegno del giorno 9 sarà aperto dal Presidente dell’ARI Civitavecchia Mariano Mezzetti tra i vari interventi ci sarà il giovanissimo radioamatore Martin Faraglia delegato YOTA ITALIA e un intervento di un rappresentante dell’ARI nazionale. Il pomeriggio a partire dalle ore Ore 15.45 sarà dedicato alla proiezione di “Z23MD: la DX-Pedition in Zimbabwe del Mediterraneo DX Club”;  “Le onde del futuro” cortometraggio di Stefano Foschi IKØXCC (CSMI) e “La radioemergenza in onde medie” della Sezi. ARI di Civitavecchia e Radio King 711. La giornata si concluderà  con un Workshop “MARCONI AGAIN: una performance creativa interattiva di Claudio Mazzenga e Barbara Basile. \nProgramma Giornata Mondiale della Radio UNESCO 2019
URL:https://www.castellodisantasevera.it/evento/giornata-mondiale-della-radio/
CATEGORIES:In evidenza
ATTACH;FMTTYPE=image/jpeg:https://www.castellodisantasevera.it/app/uploads/2019/01/locandina-giornata-mondiale-10.jpg
END:VEVENT
END:VCALENDAR