BEGIN:VCALENDAR
VERSION:2.0
PRODID:-//Castello di Santa Severa - Un castello sempre aperto - ECPv6.15.20//NONSGML v1.0//EN
CALSCALE:GREGORIAN
METHOD:PUBLISH
X-WR-CALNAME:Castello di Santa Severa - Un castello sempre aperto
X-ORIGINAL-URL:https://www.castellodisantasevera.it
X-WR-CALDESC:Eventi per Castello di Santa Severa - Un castello sempre aperto
REFRESH-INTERVAL;VALUE=DURATION:PT1H
X-Robots-Tag:noindex
X-PUBLISHED-TTL:PT1H
BEGIN:VTIMEZONE
TZID:Europe/Rome
BEGIN:DAYLIGHT
TZOFFSETFROM:+0100
TZOFFSETTO:+0200
TZNAME:CEST
DTSTART:20170326T010000
END:DAYLIGHT
BEGIN:STANDARD
TZOFFSETFROM:+0200
TZOFFSETTO:+0100
TZNAME:CET
DTSTART:20171029T010000
END:STANDARD
BEGIN:DAYLIGHT
TZOFFSETFROM:+0100
TZOFFSETTO:+0200
TZNAME:CEST
DTSTART:20180325T010000
END:DAYLIGHT
BEGIN:STANDARD
TZOFFSETFROM:+0200
TZOFFSETTO:+0100
TZNAME:CET
DTSTART:20181028T010000
END:STANDARD
BEGIN:DAYLIGHT
TZOFFSETFROM:+0100
TZOFFSETTO:+0200
TZNAME:CEST
DTSTART:20190331T010000
END:DAYLIGHT
BEGIN:STANDARD
TZOFFSETFROM:+0200
TZOFFSETTO:+0100
TZNAME:CET
DTSTART:20191027T010000
END:STANDARD
BEGIN:DAYLIGHT
TZOFFSETFROM:+0100
TZOFFSETTO:+0200
TZNAME:CEST
DTSTART:20200329T010000
END:DAYLIGHT
BEGIN:STANDARD
TZOFFSETFROM:+0200
TZOFFSETTO:+0100
TZNAME:CET
DTSTART:20201025T010000
END:STANDARD
END:VTIMEZONE
BEGIN:VEVENT
DTSTART;TZID=Europe/Rome:20181202T110000
DTEND;TZID=Europe/Rome:20181202T130000
DTSTAMP:20260425T134638
CREATED:20181121T114910Z
LAST-MODIFIED:20181127T113428Z
UID:4011-1543748400-1543755600@www.castellodisantasevera.it
SUMMARY:“A tavola alla Banditaccia”: presentazione del libro con degustazione in tema etrusco
DESCRIPTION:Domenica 2 dicembre 2018\, dalle ore 11.00\, in Sala della Legnaia\, al Castello di Santa Severa\, ci sarà la presentazione di una guida insolita “A tavola alla Banditaccia”\, edita da Prospettiva editrice\, che sarà illustrata al pubblico  dall’autrice\, Laura Pastore.  Al termine una  degustazione gratuita  di alcune pietanze ”etrusche ” ricostruite  sulla base delle ricette riportate dal libro. L’evento è organizzato in collaborazione con Regione Lazio\, LAZIOcrea\, Mibac\, Comune di Santa Marinella e Coopculture. \nIl libro\, la cui prefazione è a cura della giornalista Roberta Pasetti\,  si sofferma su alcuni aspetti della storia sulla civiltà etrusca\, interessanti nozioni per incuriosire il lettore che  evidenziano il ruolo della donna di allora\, i ritrovamenti presso il porto di  Pirgy \, dove attualmente sorge il Castello di Santa Severa\, delle ricette ispirate all’alimentazione del mondo antico basate sui prodotti del territorio di Cerveteri e di Santa Marinella ( carne\, pesce e legumi) commentate da alcuni personaggi del mondo dello spettacolo. La guida è stata ideata e scritta da Laura Pastore con la collaborazione del maestro Ennio Tirabassi\, che ha redatto la conclusione e ha curato le illustrazioni\, il libro riporta anche una serie di ricette ispirate all’alimentazione del mondo antico naturalmente rivisitate e modernizzate\, che vogliono portare alla luce prodotti tipici ancora oggi molto utilizzati e di alta qualità che si trovano nel territorio.  Si può definire una guida mordi e fuggi pensata per il turista che vuole trascorrere qualche ora tra il mistero e la storia etrusca portando con sé un ricordo. A dicembre uscirà anche in lingua spagnola e in lingua inglese. \nIngresso gratuito fino ad esaurimento posti.
URL:https://www.castellodisantasevera.it/evento/a-tavola-alla-banditaccia-presentazione-del-libro-con-degustazione/
CATEGORIES:In evidenza
ATTACH;FMTTYPE=image/jpeg:https://www.castellodisantasevera.it/app/uploads/2018/11/A-tavola-alla-banditaccia.jpg
END:VEVENT
BEGIN:VEVENT
DTSTART;TZID=Europe/Rome:20181208T100000
DTEND;TZID=Europe/Rome:20190106T200000
DTSTAMP:20260425T134638
CREATED:20181127T122055Z
LAST-MODIFIED:20181227T144447Z
UID:4040-1544263200-1546804800@www.castellodisantasevera.it
SUMMARY:Il magico castello di Babbo Natale
DESCRIPTION:Il castello baciato dal mare durante le feste natalizie si è  trasformato nel Magico castello di Babbo Natale e prosegue con l’apertura durante i week end.   L’antico maniero per tutto il periodo è   un emozionante villaggio natalizio che vivere agli ospiti un’esperienza fantastica\, anche grazie all’installazione di tantissime luci che illuminano a festa\, cortilli e piazze con scenografie e addobbi  a tema natalizio\, per accogliere\, con un caldo abbraccio famiglie e bambini e appassionati di mercatini natalizi. \nCon il biglietto di ingresso si può visitare: \n– la Casa di Babbo Natale con l’ufficio Postale\,\n– la Fabbrica dei Giocattoli\,\n– la Sala del Trono\n– la Cucina Magica;\n– l’area Spettacoli con i personaggi più amati dai bambini;\n– l’area Ludoteca\, uno spazio pensato per letture animate e laboratori di creatività.  \nDa questo weekend\, tante novità sono in arrivo: un programma di animazione serale con artisti di strada\, giocolieri e spettacoli di luci che coinvolgeranno gli ospiti nelle zone interne del Villaggio. \nMaggiore spazio agli spettacoli per bambini con i loro personaggi preferiti con l’inserimento di nuovi orari nella programmazione giornaliera. Gli spettacoli seguiranno i seguenti questi orari: 12:00; 13:30; 14:30; 15:30; 16:30; 17:30; 18:30 con una durata di circa 20 minuti ciascuno. \nA grande richiesta da parte dei commercianti locali saranno posizionate ulteriori casette nelle zone adibite a mercatino natalizio che offriranno oggetti artigianali\, golosi dolciumi e sfizioso street food preparato con prodotti tipici. \nOrari del Villaggio \n\ndall’8 Dicembre al 20 Dicembre tutti i Venerdì\, Sabato e Domenica  dalle ore 10:00 alle 20:00\ndal 21 dicembre tutti i giorni dalle ore 10:00 alle 20:00\nil 24 e il 31 dicembre: dalle ore 10:00 alle ore 16:00\nil 25 dicembre chiuso \nil 1 gennaio 2019: dalle ore 14:00 alle ore 20:00 \nCosto biglietti Villaggio di Babbo Natale:\n0-6 anni Gratuito\n7-12 anni €5\nIntero €10 \n\nPista di pattinaggio \n€ 5 per 30 minuti \nPer gli ospiti dell’Ostello: \n0-12 anni Gratuito \nsconto 50% sull’ingresso intero di € 10( dai 12 anni in poi) \npista di pattinaggio € 3.00 \n\nAREE AD INGRESSO GRATUITO \nUn mercatino con artigiani\, venditori e street food dove potrete passeggiare e godervi l’atmosfera natalizia\, sempre aperto per tutto il periodo delle feste. \nAREE A PAGAMENTO CON IL BIGLIETTO AL VILLAGGIO\nLa Casa di Babbo Natale con l’ufficio Postale\, la Fabbrica dei Giocattoli\, la Sala del Trono e la Cucina Magica;\nl’area Spettacoli con i personaggi più amati dai bambini;\nl’area Ludoteca\, uno spazio pensato per letture animate e laboratori di creatività. Tutte Le attrazioni sono al coperto!!! \nPROMO AREA MUSEALE PER CHI ACQUISTA IL BIGLIETTO DEL VILLAGGIO \nPer il periodo natalizio è attiva una speciale promo per chi acquista il Biglietto del Villaggio: con soli 5 € potrete visitare l’area Museale del Castello con la Realtà Aumentata e Realtà Virtuale\, il Museo del Mare e della Navigazione antica\, la Mostra “Un nuovo Lazio” e l’intero Borgo Medievale. Dal 21 dicembre fino al 6 gennaio  i musei sono aperti  tutti i giorni\, escluso il lunedì giorno di chiusura dalle 10.00 alle 20.00\, ( la biglietteria chiude alle 19.00). \nIl 24 e il 31 dicembre: dalle ore 10:00 alle ore 16:00\nIl 25 dicembre e il 1 gennaio 2019: i musei sono chiusi \nAntiquarium  e Mostra “Lastre dipinte”  rispettano i seguenti orari: \ndal martedì al venerdì dalle ore 9.30 alle ore 16\nsabato\, domenica e festivi dalle ore 10.30 alle ore 17\n24 e 31 dicembre 2018 dalle ore 10.30 alle ore 14 \nIl Museo del Territorio su prenotazione al numero T. +39.06.39967999 \nTutte le informazioni sul sito http://www.ilmagicocastellodibabbonatale.it/castello/ \n\n 
URL:https://www.castellodisantasevera.it/evento/il-magico-castello-di-babbo-natale/
CATEGORIES:In evidenza
ATTACH;FMTTYPE=image/jpeg:https://www.castellodisantasevera.it/app/uploads/2018/12/47685880_298675994090834_6894909513657221120_n.jpg
END:VEVENT
BEGIN:VEVENT
DTSTART;TZID=Europe/Rome:20181213T100000
DTEND;TZID=Europe/Rome:20190131T170000
DTSTAMP:20260425T134638
CREATED:20181218T125626Z
LAST-MODIFIED:20190108T141905Z
UID:4173-1544695200-1548954000@www.castellodisantasevera.it
SUMMARY:Mostra " Un nuovo Lazio" visitabile fino al 31 gennaio 2019
DESCRIPTION:Dall’arte al design\, dal design all’arte: in sala Pyrgi è allestita una mostra inedita “Un nuovo Lazio”\, dedicata ad oggetti per la casa realizzati da designer e produttori che proporranno oggetti che si ispirano a monumenti\, pitture e sculture\, paesaggio e storia del periodo etrusco\, rivisitati secondo una propria libera interpretazione. Protagonisti dell’esposizione sono  le specificità del territorio del Lazio e le sue produzioni\, presentate in un allestimento suggestivo e avvolgente\, che si sposa con gli ambienti solenni di  questa prestigiosa location e dedicato alle produzioni di eccellenza della parte etrusca del Lazio. Oltre trenta espositori appartenenti all’alto Artigianato \, alle PMI e alle nuove start up\, presentano una vetrina  di oggetti “ speciali” ispirati al territorio e alla sua ricchezza storico artistica\, realizzati in perfetto equilibrio fra  tradizione e   contemporaneità’. Ideata e curata dall’architetto Anna Del Gatto\, La Magnifica Forma per la mostra Un nuovo Lazio rappresenta così un percorso nelle forme del bello\, fatto di storie e di storia\, un ritratto costruito da idee originali\, che raccontano uno stile dell’abitare italiano. \n\n\nLa mostra è visitabile fino al 31 gennaio inclusa nel biglietto di ingresso al Museo \n  \n\n\n \n\n\n\n\n\n 
URL:https://www.castellodisantasevera.it/evento/mostra-un-nuovo-lazio/
CATEGORIES:In evidenza
ATTACH;FMTTYPE=image/jpeg:https://www.castellodisantasevera.it/app/uploads/2018/12/97b8159f-6169-42e1-a316-ea3753a41a93.jpg
END:VEVENT
BEGIN:VEVENT
DTSTART;TZID=Europe/Rome:20181227T120000
DTEND;TZID=Europe/Rome:20181231T183000
DTSTAMP:20260425T134638
CREATED:20181218T094745Z
LAST-MODIFIED:20181227T111812Z
UID:4145-1545912000-1546281000@www.castellodisantasevera.it
SUMMARY:Le principesse  27-28-29-30-31 dicembre
DESCRIPTION:Nei giorni 27-28-29-30-31\, Le vostre principesse preferite sono pronte a danzare e cantare insieme a voi \nData: 27-28-29-30-31 dicembre \nOra: 12:00; 13:30; 14:30; 15:30; 16:30; 17:30; 18:30 (il 31 dicembre ultimo spettacolo ore 15.30) \nInfo utili: durata 15 minuti Presso Villaggio di Natale. \nLo spettacolo è incluso nel prezzo del biglietto di ingresso al Villaggio di babbo Natale \nhttp://www.ilmagicocastellodibabbonatale.it/castello/event/le-principesse/
URL:https://www.castellodisantasevera.it/evento/le-principesse-27-28-29-30-31-dicembre/
CATEGORIES:In evidenza
ATTACH;FMTTYPE=image/jpeg:https://www.castellodisantasevera.it/app/uploads/2018/12/principesse.jpg
END:VEVENT
END:VCALENDAR