BEGIN:VCALENDAR
VERSION:2.0
PRODID:-//Castello di Santa Severa - Un castello sempre aperto - ECPv6.15.20//NONSGML v1.0//EN
CALSCALE:GREGORIAN
METHOD:PUBLISH
X-WR-CALNAME:Castello di Santa Severa - Un castello sempre aperto
X-ORIGINAL-URL:https://www.castellodisantasevera.it
X-WR-CALDESC:Eventi per Castello di Santa Severa - Un castello sempre aperto
REFRESH-INTERVAL;VALUE=DURATION:PT1H
X-Robots-Tag:noindex
X-PUBLISHED-TTL:PT1H
BEGIN:VTIMEZONE
TZID:Europe/Rome
BEGIN:DAYLIGHT
TZOFFSETFROM:+0100
TZOFFSETTO:+0200
TZNAME:CEST
DTSTART:20170326T010000
END:DAYLIGHT
BEGIN:STANDARD
TZOFFSETFROM:+0200
TZOFFSETTO:+0100
TZNAME:CET
DTSTART:20171029T010000
END:STANDARD
BEGIN:DAYLIGHT
TZOFFSETFROM:+0100
TZOFFSETTO:+0200
TZNAME:CEST
DTSTART:20180325T010000
END:DAYLIGHT
BEGIN:STANDARD
TZOFFSETFROM:+0200
TZOFFSETTO:+0100
TZNAME:CET
DTSTART:20181028T010000
END:STANDARD
BEGIN:DAYLIGHT
TZOFFSETFROM:+0100
TZOFFSETTO:+0200
TZNAME:CEST
DTSTART:20190331T010000
END:DAYLIGHT
BEGIN:STANDARD
TZOFFSETFROM:+0200
TZOFFSETTO:+0100
TZNAME:CET
DTSTART:20191027T010000
END:STANDARD
END:VTIMEZONE
BEGIN:VEVENT
DTSTART;TZID=Europe/Rome:20180712T210000
DTEND;TZID=Europe/Rome:20180908T233000
DTSTAMP:20260425T184201
CREATED:20180712T155335Z
LAST-MODIFIED:20180822T091908Z
UID:3105-1531429200-1536449400@www.castellodisantasevera.it
SUMMARY:Programma degli eventi Sere d'estate 2018
DESCRIPTION:Programma sere d’estate \nSETTORI BIGLIETTI  \nMusica\, teatro\, intrattenimento\, danza\, letteratura\, conferenze e percorsi in notturna. Il Castello di Santa Severa ospita un cartellone di eventi lungo tre mesi\, a partire dal 13 luglio e fino al 29 settembre.  \n  \nSERE D’ESTATE: I GRANDI EVENTI AL CASTELLO DI SANTA SEVERA \nINIZIO SPETTACOLI ORE 21.00 \n02/08/2018 ANTIGONE con Massimo Venturiello. Biglietti 1° settore 15\,00 euro 2° settore 10 euro. \n05/08/2018 INCONTRO CON ELENA STANCANELLI.  Ingresso gratuito fino a esaurimento posti \n7/08/2018 TANGO e MILONGA- Cuarteto Suerte Loca.  Area unica euro 12\,00 intero e euro 10\,00 ridotto (over 60 e under 18 anni) \n09/08/2018 QUARTETTO D’ARCHI: LA CANZONE D’AMORE\, apericoncerto. A pagamento.  Concerto e aperitivo\, adulti €15  minori di anni 12 € 13.00 \n10/08/2018 GIO EVAN. Area unica  10\,00 euro \n11/08/2018 EDOARDO LEO 1° settore 22\,00 euro\, 2° settore 18\,00 euro\, 3° settore 15\,00 euro \n12 /08/2018 ALGECIRAS  TRA FLAMENCO E MEDIORIENTE  – Compagnia Algeciras. Area unica\, euro 15\,00 intero e 12\,00 ridotto (over 60 e under 18 anni) \n13/08/2018 RENZO ARBORE E ORCHESTRA ITALIANA   settore unico 25\,00 euro\, prezzo speciale per la collaborazione con la Regione Lazio \n14 /08/2018 IL LAGO DEI CIGNI – Compagnia Raffaele Paganini.  Area unica euro 15\,00 intero e 12\,00 ridotto (over 60 e under 18 anni) – L’evento è stato spostato al 20/08  \n15/08/2018 UN PIZZICO DI TARANTA – Compagnia Tre Meno Un Quarto. Area unica euro 12\,00 intero e euro 10\,00 ridotto (over 60 e under 18 anni) L’evento è stato spostato al 21 agosto \n16/08/2018  ORO DI NAPOLI  – Compagnia Archetipo Ensemble. Area unica euro 12\,00 intero e euro 10\,00 ridotto (over 60 e under 18 anni)  L’evento è stato spostato al 25 agosto \n17/08/2018 MAX GIUSTI- VA TUTTO BENE 1° settore 22\,00 euro\, 2° settore 18\,00 euro\, 3° settore 15\,00 euro. \n18/08/2018 IL FLAUTO MAGICO – Compagnia Astra Roma Ballet. Area unica euro 15\,00 intero e 12\,00 ridotto (over 60 e under 18 anni)  L’evento è stato spostato al 28 agosto \n19/08/2018  LA NOTTE BIANCA AL CASTELLO DI SANTA SEVERA a cura degli astronomi del CNAI. Ingresso gratuito fino a esaurimento posti \n22/08/2018 HOTEL SUPRAMONTE – Omaggio a Fabrizio De Andrè. Area unica euro 12\,00 \n23/08/2018 MAURIZIO BATTISTA “SCEGLI UNA CARTA” 1° Area gold euro 35\,00\, 1° settore euro 30\,00\,  2° settore euro 25\,00\, 3° settore euro 20\,00 \n24/08/2018 PETRA MAGONI E FERRUCCIO SPINETTI  Musica Nuda. Area unica 12\,00 euro \n25/08/2018 AMBASCIATORE DI SOGNI. Inaugurazione mostra. Ingresso libero  fino a esaurimento posti \n26/08/2018  SOGNO DI UNA NOTTE DI MEZZA ESTATE di William Shakespeare.  Area unica  15\,00 euro dai 14 anni in su;  euro 10\,00 bambini dai 7 ai 13 anni \n29/08/2018 GIANDOMENICO ANELLINO e ROBERTO PAMBIANCHI “ Emozioni di autore”\, concerto tributo a Lucio Battisti. Area unica 10\,00 euro \n30/08/2018 IO E CATERINA\, Cineforum sull’impatto dell’intelligenza artificiale nella vita delle nuove generazioni. Ingresso libero  fino a esaurimento posti \n31/08/2018 NOMADI IN CONCERTO  1° settore euro 20\,00\, 2° settore euro 16\,00 \n01/09/2018  LILLO & GREG 1° settore 22\,00 euro\, 2° settore 18\,00 euro\, 3° settore 15\,00 euro \n02/09/2018 LETTURE\, CANTI\,PROIEZIONI ingresso libero fino a esaurimento posti \n08/09/2018 PINK FLOYD LEGEND area gold  euro 35\,00 \, 1° settore euro 30\, 2° settore euro 23\,00 \n08/09/2018 PRESENTAZIONE DELLA COOPERATIVA DI COMUNITA’. Ingresso libero fino a esaurimento posti \n13/09/2018 CASTELLO IN JAZZ apericoncerto con Enrico Cresci. A pagamento.  Concerto e aperitivo\, adulti €15  minori di anni 12 € 13.00 \n15/09/2018 40°ANNO DELLA COMUNITA’ TERAPEUTICA FRATELLO SOLE\, SORELLA LUNA.Ingresso libero fino a esaurimento posti \n22/09/2018 24 ORE DI UNA DONNA\, inaugurazione mostra su Amedeo Nazzari. Ingresso libero fino a esaurimento posti \n27/09/2018 CASTELLO IN JAZZ apericoncerto con Alberto d’Alfonso. A pagamento. Concerto e aperitivo\, adulti €15  minori di anni 12 € 13.00 \nPer il programma completo del ciclo delle conferenze ” COSE\, UOMINI E PAESAGGI DEL MONDO ANTICO” https://www.castellodisantasevera.it//evento/dal-6-luglio-torna-il-ciclo-di-conferenze-cose-uomini-paesaggi-del-mondo-antico/ Ingresso libero fino a esaurimento posti \n  \nI biglietti sono in prevendita con il diritto di 2 euro in più sul prezzo del biglietto  presso: \nBiglietteria del Castello di Santa Severa\,  Tel.+39.06.39967999 \nProloco di Santa Severa\, via della Monacella 18 Tel. +39.0766.570403 \nSanta Marinella\, Tabaccheria  Pranzetti\, via Aurelia 523\, Tel. +0766.533602  \nCivitavecchia\, Angolo Caffè\, viale Guido Baccelli 30/32 Tel. +39.0766.540236 \nCivitavecchia\, Stelle&Strisce\, via Regina Elena 6\, Tel. +39.076621688 \nLadispoli\, Twiga\, piazza Marescotti 2\, Tel. +39. 06.9947637 \nPer le persone diversamente abili\, oltre alla previsione di una zona dedicata in platea\, sarà garantito l’accesso con il pagamento del biglietto standard oltre alla bigliettazione gratuita  per l’accompagnatore. \n 
URL:https://www.castellodisantasevera.it/evento/programma-degli-eventi-estate-2018/
CATEGORIES:In evidenza
ATTACH;FMTTYPE=image/jpeg:https://www.castellodisantasevera.it/app/uploads/2018/07/LocandinaA4_01_stampa.jpg
END:VEVENT
BEGIN:VEVENT
DTSTART;TZID=Europe/Rome:20180901T210000
DTEND;TZID=Europe/Rome:20180901T230000
DTSTAMP:20260425T184201
CREATED:20180730T141215Z
LAST-MODIFIED:20180901T115029Z
UID:3263-1535835600-1535842800@www.castellodisantasevera.it
SUMMARY:Lillo & Greg in  "Best of"
DESCRIPTION:sabato 1 settembre sulla Spianata dei Signori spettacolo ” Best of” con Lillo e Greg a cura di On air. \nPasquale Petrolo e Claudio Gregori\, ovvero il celebrato duo comico Lillo & Greg\, amatissimi dal proprio pubblico sin dai tempi del gruppo “Latte e i suoi derivati”\, portano in scena al Castello di Santa Severa\, il 1 settembre alle ore 21.00\, una selezione delle loro migliori gag\, tratte dal loro repertorio teatrale\, televisivo e radiofonico con lo spettacolo “ Best of”. \nUn frizzante “varietà” con momenti di ironia coinvolgente che ripropone tutti cavalli di battaglia della famosa coppia comica tratti dal loro repertorio teatrale\, televisivo e radiofonico. Una miscela esclusiva ed esilarante rappresentata da tutto il meglio di Lillo e Greg! Musica\, sketch\, poesie\, trailer… intrattenimento puro… La loro comicità surreale si contraddistingue per la capacità di cogliere ed evidenziare il non-sense della nostra società contemporanea e dell’essere umano in genere.   \nLe loro gag hanno la  capacità di coinvolgere il pubblico perché raccontano la realtà di tutti i giorni e loro stessi\, in alcuni istanti\, non riescono a trattenere le risa. Come nei provini di aspiranti attori\, riproposti in chiave caricaturale ma in fondo estrapolati dal quotidiano; nelle dinamiche tragicomiche tra i due sessi\, dove lui e lei s’incontrano mostrando ora la maschera e ora la persona\, attraverso pensieri inconfessabili\, radiografie dell’anima.  Si riderà della mania del mangiar sano\, dove ciò che è ritenuto salutare oggi\, domani sarà  pericoloso. La comicità di Lillo e Greg\, mai volgare\, è di stile ovviamente italiano e tuttavia di un’eleganza inglese\, intessuta di geniali gag\, nate dal saper sintetizzare i tratti caratteristici del comportamento umano per proporlo con quella sottolineatura che lo dissacra\, restituendone il reale valore. \nLe gag sono inframezzate dal maestro Attilio di Giovanni che\, vestendo i panni di un  rockettaro\, riadatterà le migliori hit del genere in chiave “liscio”. \nIl ritmo serrato e il sostegno di due ottime spalle come Vania Della Bidia e Chiara Sani fanno il resto. Lo spettacolo viene completato da un corto tratto dal loro avvincente viaggio nel mondo dei “Malacalzini organizzati”\, ovvero “Sorciosecco”. Perché con Lillo&Greg… sai cosa ridi! \nA pagamento 1° settore 22\,00 euro\, 2° settore 18\,00 euro\, 3° settore 15\,00 euro \nI biglietti sono in prevendita  con il diritto di 2 euro in più sul prezzo del biglietto  presso: \nBiglietteria del Castello di Santa Severa\,  Tel.+39.06.39967999 \nProloco di Santa Severa via della Monacella 18 Tel. +39.0766.570403 \nSanta Marinella\, Tabaccheria  Pranzetti\, via Aurelia 523\, Tel. +0776.533602 \nCivitavecchia Angolo Caffè\, viale Guido Baccelli 30/32 Tel. +39.0766.540236 \nCivitavecchia Stelle&Strisce\, via Regina Elena 6\, Tel. +39.076621688 \nLadispoli\, Twiga\, piazza Marescotti 2\, Tel. +39. 06.9947637
URL:https://www.castellodisantasevera.it/evento/lillo-greg/
CATEGORIES:In evidenza
ATTACH;FMTTYPE=image/jpeg:https://www.castellodisantasevera.it/app/uploads/2018/07/LSD_LilloGreg_Bestof2018_fasciabianca.jpg
END:VEVENT
BEGIN:VEVENT
DTSTART;TZID=Europe/Rome:20180908T210000
DTEND;TZID=Europe/Rome:20180908T230000
DTSTAMP:20260425T184201
CREATED:20180730T141657Z
LAST-MODIFIED:20180903T114400Z
UID:3269-1536440400-1536447600@www.castellodisantasevera.it
SUMMARY:Pink Floyd Legend-Atom Heart Mother
DESCRIPTION:sabato 8 settembre sulla Spianata dei Signori PINK FLOYD LEGEND-Atom Heart Mother  a cura di Sevensounds.  \nProtagonisti della serata i Pink Floyd Legend che\, dopo un primo set in cui suoneranno (nella loro classica formazione) alcuni tra i più grandi successi del gruppo britannico\, riproporranno l’esecuzione integrale della celebre suite accompagnati dal Legend Choir oltre a una sezione orchestrale composta dagli Ottonidautore e dal QUARTETTO SHARAREH (quartetto d’archi tutto al femminile) tutti diretti dal Maestro Giovanni Cernicchiaro.\nLa realizzazione di Atom Heart Mother dal vivo è una produzione unica e speciale: dal 2012 i Pink Floyd Legend\, infatti\, sono i soli ad eseguire la lunga suite nella versione integrale accompagnati\, come nell’originale\, da Coro e Orchestra e già andata in scena\, registrando ogni volta il “sold out” allo Sferisferio di Macerata\, al Teatro Romano di Ostia Antica\, al Blubar Festival di Francavilla al Mare e\, ultimo in ordine di tempo al Teatro Arcimboldi di Milano.\nAtom Heart Mother\, le cui partiture orchestrali furono scritte dal giovane compositore sperimentale Ron Geesin\, si snoda attraverso straordinarie combinazioni tra musica classica e rock\, alternando momenti pervasi da eleganti melodie ad altri di pura potenza sinfonica: Atom è considerato il disco della maturità e un punto di svolta nel percorso artistico per i Pink Floyd che abbandonano la psichedelia in nome del progressive rock.\nCome tutte le produzioni firmate Pink Floyd Legend\, le oltre due ore di musica si avvarranno di un incredibile disegno luci e di sorprendenti effetti scenografici che\, uniti alla fedeltà degli arrangiamenti\, all’utilizzo di strumentazione vintage\, ai video dell’epoca proiettati su schermo circolare di 5 metri\, ad Algie il grande maiale gonfiabile\, ai costumi di scena\, ai laser\, ricreano quel senso di spettacolo totale per vivere un’indimenticabile “Floyd Experience” \nA pagamento area gold  euro 35\,00 \, 1° settore euro 30\, 2° settore euro 23\,00 \nI biglietti sono in prevendita con il diritto di 2 euro in più sul prezzo del biglietto  presso: \nBiglietteria del Castello di Santa Severa\,  Tel.+39.06.39967999 \nProloco di Santa Severa via della Monacella 18 Tel. +39.0766.570403 \nSanta Marinella\, Tabaccheria  Pranzetti\, via Aurelia 523\, Tel. +0776.533602 \nCivitavecchia Angolo Caffè\, viale Guido Baccelli 30/32 Tel. +39.0766.540236 \nCivitavecchia Stelle&Strisce\, via Regina Elena 6\, Tel. +39.076621688 \nLadispoli\, Twiga\, piazza Marescotti 2\, Tel. +39. 06.9947637
URL:https://www.castellodisantasevera.it/evento/pink-floyd-legend/
CATEGORIES:In evidenza
ATTACH;FMTTYPE=image/jpeg:https://www.castellodisantasevera.it/app/uploads/2018/07/Pink-Floyd-legend.jpg
END:VEVENT
BEGIN:VEVENT
DTSTART;TZID=Europe/Rome:20180915T140000
DTEND;TZID=Europe/Rome:20180916T190000
DTSTAMP:20260425T184201
CREATED:20180906T133057Z
LAST-MODIFIED:20180914T082258Z
UID:3759-1537020000-1537124400@www.castellodisantasevera.it
SUMMARY:Social Innovation Nomads Weekend
DESCRIPTION:Il 15 e il 16 settembre\, al castello un fine settimana di formazione e relax per scoprire le nuove forme di lavoro “nomade” orientate all’impatto positivo su società e territorio: “Social Innovation Nomads Weekend”  \nAttraverso le relazioni e le attività di formazione non convenzionale proposte avremo modo di capire come è cambiato negli ultimi anni il mondo del lavoro sempre più orientato a trovare ispirazione e scopo nel cambiare in meglio il mondo in cui viviamo. \nSaranno esplorate  le opportunità del lavorare viaggiando\, alla ricerca di nuove prospettive e collaborazioni interessanti\, il tutto nella meravigliosa cornice del Castello di Santa Severa. \nL’evento è promosso da Impact Hub Roma  e si inserisce nel percorso avviato con la Social Innovation School di Alghero di Rumundu che si avvia verso la 4° edizione del 23/30 settembre 2018. \nPer ulteriori informazioni https://www.eventbrite.it/e/biglietti-social-innovation-nomads-weekend-lavorare-viaggiando-48686863720
URL:https://www.castellodisantasevera.it/evento/social-innovation-nomads-weekend/
CATEGORIES:In evidenza
ATTACH;FMTTYPE=image/jpeg:https://www.castellodisantasevera.it/app/uploads/2018/09/DJI_0163.jpg
END:VEVENT
BEGIN:VEVENT
DTSTART;TZID=Europe/Rome:20180921T210000
DTEND;TZID=Europe/Rome:20180921T223000
DTSTAMP:20260425T184201
CREATED:20180615T154058Z
LAST-MODIFIED:20180918T121405Z
UID:2811-1537563600-1537569000@www.castellodisantasevera.it
SUMMARY:21 settembre: Castrum Novum: relazione della campagna di scavi 2018
DESCRIPTION:venerdì 21 settembre  alle ore 21.15\, nel piazzale delle Barrozze\, si terrà   una conferenza dal titolo  “Castrum Novum: relazione della campagna di scavi 2018″    con interventi di Flavio Enei\, Sara Nardi Combescure (Università di Amiens)\, Grégoire Poccardi (Università di Lille)\, Klara Paclikova (Università West Boemia)\, Rossella Zaccagnini (Soprintendenza Archeologia Belle Arti e Paesaggio per l’Area Metropolitana di Roma\, la Provincia di Viterbo e l’Etruria Meridionale) \n\nIngresso gratuito fino a esaurimento posti \n\nLa conferenza fa parte del   ciclo di conferenze scientifico- divulgative “Cose\, Uomini\, Paesaggi del Mondo Antico”\, organizzate da Flavio Enei\, Archeologo\, e direttore del Museo del Mare e della Navigazione Antica di S. Severa e dal Gatc ( gruppo Archeologico del territorio Cerite)\, in collaborazione con la Regione Lazio\, LAZIOcrea\, Mibact\, Comune di Santa Marinella e Coopculture. \n  \n  \n 
URL:https://www.castellodisantasevera.it/evento/dal-6-luglio-torna-il-ciclo-di-conferenze-cose-uomini-paesaggi-del-mondo-antico/
CATEGORIES:In evidenza
ATTACH;FMTTYPE=image/jpeg:https://www.castellodisantasevera.it/app/uploads/2018/06/Conferenze-2018-70x100-LAZIO-CREA.jpg
END:VEVENT
BEGIN:VEVENT
DTSTART;TZID=Europe/Rome:20180922T110000
DTEND;TZID=Europe/Rome:20180923T230000
DTSTAMP:20260425T184201
CREATED:20180919T080909Z
LAST-MODIFIED:20180919T123352Z
UID:3806-1537614000-1537743600@www.castellodisantasevera.it
SUMMARY:Il Castello di Santa Severa aderisce alle Giornate Europee del Patrimonio
DESCRIPTION:Anche il Castello di Santa Severa aderisce il 22 e il 23 settembre  alle Giornate Europee del Patrimonio\, che tornano\, nei musei e nei luoghi della cultura di tutta Italia\, con tema “L’Arte di condividere.”  Il castello baciato dal mare riaperto lo scorso anno dalla Regione Lazio e gestito da LAZIOcrea\, in collaborazione con Comune di Santa Marinella\, Mibact e Coopculture\,  nel fine settimana propone  un programma ricco di eventi ed attività speciali\, come  l’apertura straordinaria serale dalle 20.00 alle 23.00 prevista  sabato 22 settembre\, con biglietto eccezionale di ingresso a € 1.00\, con ultima entrata ore 22.00. \n  \nProgramma:\nll nuovo Museo del Castello\nsabato 22 settembre\, ore 11.00\ndomenica 23 settembre\, ore 16.00\nVisita guidata dedicata al percorso medievale \n\nLe mura e il porto di Pyrgi\nsabato 22 settembre\, ore 17.00\nVisita guidata con focus sulle mura poligonali\, sul porto di Pyrgi e l’insediamento etrusco-romano. \nCastello sotto le stelle\nsabato 22 settembre\, ore 21.30\nPercorso serale al Borgo e al Castello di Santa Severa \nI Signori del Mare\ndomenica 23 settembre\, ore 11.00\nLaboratorio per bambini 6-10 anni. \nModalità di Partecipazione:\nCosto visite guidate € 6.00 a persona | gratuito per bambini fino a 6 anni\nCosto laboratorio € 6.00 a bambino\nBiglietto di ingresso al sito a pagamento\nPrenotazione consigliata agli appuntamenti fino ad esaurimento posti disponibili al num. +39 06 39967999 \nQuesti gli hastag per le condivisioni #GEP2018 #ArtediCondividere #EuropeForCulture
URL:https://www.castellodisantasevera.it/evento/il-castello-di-santa-severa-aderisce-alle-giornate-europee-del-patrimonio/
CATEGORIES:In evidenza
ATTACH;FMTTYPE=image/jpeg:https://www.castellodisantasevera.it/app/uploads/2018/09/DJI_0015.jpg
END:VEVENT
BEGIN:VEVENT
DTSTART;TZID=Europe/Rome:20180927T190000
DTEND;TZID=Europe/Rome:20180927T203000
DTSTAMP:20260425T184201
CREATED:20180615T133001Z
LAST-MODIFIED:20180924T105941Z
UID:2797-1538074800-1538080200@www.castellodisantasevera.it
SUMMARY:"Aperimusica" con Alberto d'Alfonso per i concerti di  "Castello in jazz"
DESCRIPTION:“ Aperimusica” al Castello di Santa Severa con i concerti di “Castello in Jazz”. La manifestazione è organizzata da Stefano Marzolla\, in collaborazione con  la Regione Lazio in collaborazione con LAZIOcrea SpA\, Mibac\, Comune di Santa Marinella\, Coopculture e continua a luglio\, agosto e settembre.  \nIl 27 settembre\, alle ore 19\,  ultimo appuntamento della rassegna nel Cortile della rocca con  il quartetto capitanato da Alberto d’Alfonso al flauto. Ad accompagnarlo\, il bel trio “stanziale” costituito da Francesco Venerucci al piano\, Stefano Marzolla al  contrabasso e Pietro Fumagalli alla batteria. \nAlberto D’Alfonso  si è diplomato in Flauto traverso presso il Conservatorio “L. Refice” di Frosinone nel 1982. Ha eseguito concerti di musica classica e musica jazz nei più popolari Jazz Club Italiani: Capolinea di Milano\, Music Inn di Roma\, Festival” Pescara Jazz” (1985) etc. Nella stagione 1979-80 con il Teatro Stabile dell’Aquila ha fatto parte dello spettacolo “Operetta”  di Antonio Calenda. Nel 1984 ha lavorato al “Little Italy” di Riccardo Reim. Nel 1988 è entrato nel complesso di Renato Carosone che lo ha portato a effettuare numerosi concerti in Italia e all’estero e a partecipare a trasmissioni televisive tra cui 4 special televisivi intitolati: Speciale Carosone\, inoltre Serata d’Onore sempre su Raiuno\,Ciao Weekend per Raidue condotta da Giancarlo Magalli e Heather Parisi per l’intera stagione 1991/92\,  Quark Speciale Corpo Umano con il trombettista Nini Rosso\, Argento e Oro e nel 93  TGR Agricoltura con Donatella Bianchi. Tra il 91 e il 2001 ha lavorato dapprima con Fred Bongusto e in seguito con Umberto Bindi. Ha recentemente collaborato con la compagnia teatrale di Enrico Brignano. \nIl jazz è un genere di musica sorto all’inizio del XX° secolo negli Stati Uniti d’America dall’incontro fra la sensibilità musicale della comunità negro-americana e la tradizione europea\, fondato sul ragtime e su elementi derivati dal folclore negro (blues\, canti di lavoro\, canti religiosi) che è diventato molto popolare e in tempi rapidissimi caratterizzato da ampia libertà e improvvisazione e per dirla con Alessandro Baricco:  “quando non sai cos’è\, allora è jazz”. \nSi inizia alle ore 19.00 con un aperitivo che allieterà gli ospiti  prima dell’esecuzione dei brani in programma. \nConcerto e aperitivo\, adulti €15  \nminori di anni 12 € 13.00 \nPer informazioni e prenotazioni T. +39.06.39967999
URL:https://www.castellodisantasevera.it/evento/21-giugno-i-concerti-del-giovedi-e-happy-hour/
CATEGORIES:In evidenza
ATTACH;FMTTYPE=image/jpeg:https://www.castellodisantasevera.it/app/uploads/2018/06/eb763ef9-945d-451d-849b-1a7b8c38c980.jpg
END:VEVENT
BEGIN:VEVENT
DTSTART;TZID=Europe/Rome:20180927T210000
DTEND;TZID=Europe/Rome:20180927T220000
DTSTAMP:20260425T184201
CREATED:20180925T132713Z
LAST-MODIFIED:20180927T133909Z
UID:3831-1538082000-1538085600@www.castellodisantasevera.it
SUMMARY:Conferenza sulle indagini della Sapienza a Pyrgi
DESCRIPTION:Giovedì 27\, alle  ore 21.00 si terrà la conferenza “Le indagini della Sapienza a Pyrgi: novità dalle ultime campagne di scavo”\, con interventi della Prof.ssa Laura Michetti (Sapienza Università di Roma) e della Dott.ssa Barbara Belelli Marchesini (Sapienza Università di Roma).  \nE’ il penultimo appuntamento con le conferenze organizzate da Flavio Enei\, archeologo e direttore del  Museo del Mare e della Navigazione Antica e dal Gatc (gruppo Archeologico del territorio Cerite) in collaborazione con Regione Lazio\, LAZIOcrea\, Mibac\, Comune di Santa Marinella e Coopculture. \nPer monitorare la campagna di scavi in atto al sito archeologico di Pyrgi l’Istituto di cristallografia (Cnr-Ic)\, sezione di Montelibretti\, ha realizzato una postazione per le riprese dal vivo della campagna di scavo  in collaborazione con la Soprintendenza Archeologia\, Belle Arti e Paesaggio per l’area metropolitana di Roma\, la provincia di Viterbo e l’Etruria meridionale\, l‘Università di Roma 1\, che conduce gli scavi\,  la Regione Lazio e LAZIOcrea -società in house della Regione.  Cnr-Ic ha realizzato\, con propri mezzi\, un collegamento attraverso ponti radio di una telecamera messa a disposizione gratuitamente dalla SkylineWebcams. La telecamera trasmette dal vivo in streaming l’attività degli archeologi sullo scavo\, attività che\, grazie a questo collegamento\, è visibile in tempo reale in tutto il mondo all’indirizzo internet: \nhttp://www.skylinewebcams.com/it/webcam/italia/lazio/scavi-archeologici/pyrgi.html \nIngresso gratuito fino a esaurimento posti
URL:https://www.castellodisantasevera.it/evento/conferenza-sulle-indagini-della-sapienza-a-pyrgi/
CATEGORIES:In evidenza
ATTACH;FMTTYPE=image/jpeg:https://www.castellodisantasevera.it/app/uploads/2018/09/download.jpg
END:VEVENT
BEGIN:VEVENT
DTSTART;TZID=Europe/Rome:20180929T210000
DTEND;TZID=Europe/Rome:20180929T220000
DTSTAMP:20260425T184201
CREATED:20180925T134910Z
LAST-MODIFIED:20180928T084721Z
UID:3834-1538254800-1538258400@www.castellodisantasevera.it
SUMMARY: Conferenza sul Suburbio di Roma
DESCRIPTION:Ultimo appuntamento con le conferenze organizzate da Flavio Enei\, archeologo e direttore del Santa Severa. Museo del Mare e della Navigazione Antica e dal Gatc (gruppo Archeologico del territorio Cerite) in collaborazione con Regione Lazio\, LAZIOcrea\, Mibac\, Comune di Santa Marinella e Coopculture. \nsabato 29 ore 21.00 incontro con il Prof. Paolo Carafa della Sapienza Università di Roma\, per una conferenza dal titolo  “Il suburbio di Roma: campagna e città fuori dalle mura”. \nIngresso gratuito fino a esaurimento posti
URL:https://www.castellodisantasevera.it/evento/conferenza-sul-suburbio-di-roma/
CATEGORIES:In evidenza
ATTACH;FMTTYPE=image/jpeg:https://www.castellodisantasevera.it/app/uploads/2018/06/Conferenze-2018-70x100-LAZIO-CREA.jpg
END:VEVENT
END:VCALENDAR