BEGIN:VCALENDAR
VERSION:2.0
PRODID:-//Castello di Santa Severa - Un castello sempre aperto - ECPv6.15.20//NONSGML v1.0//EN
CALSCALE:GREGORIAN
METHOD:PUBLISH
X-WR-CALNAME:Castello di Santa Severa - Un castello sempre aperto
X-ORIGINAL-URL:https://www.castellodisantasevera.it
X-WR-CALDESC:Eventi per Castello di Santa Severa - Un castello sempre aperto
REFRESH-INTERVAL;VALUE=DURATION:PT1H
X-Robots-Tag:noindex
X-PUBLISHED-TTL:PT1H
BEGIN:VTIMEZONE
TZID:Europe/Rome
BEGIN:DAYLIGHT
TZOFFSETFROM:+0100
TZOFFSETTO:+0200
TZNAME:CEST
DTSTART:20170326T010000
END:DAYLIGHT
BEGIN:STANDARD
TZOFFSETFROM:+0200
TZOFFSETTO:+0100
TZNAME:CET
DTSTART:20171029T010000
END:STANDARD
BEGIN:DAYLIGHT
TZOFFSETFROM:+0100
TZOFFSETTO:+0200
TZNAME:CEST
DTSTART:20180325T010000
END:DAYLIGHT
BEGIN:STANDARD
TZOFFSETFROM:+0200
TZOFFSETTO:+0100
TZNAME:CET
DTSTART:20181028T010000
END:STANDARD
BEGIN:DAYLIGHT
TZOFFSETFROM:+0100
TZOFFSETTO:+0200
TZNAME:CEST
DTSTART:20190331T010000
END:DAYLIGHT
BEGIN:STANDARD
TZOFFSETFROM:+0200
TZOFFSETTO:+0100
TZNAME:CET
DTSTART:20191027T010000
END:STANDARD
END:VTIMEZONE
BEGIN:VEVENT
DTSTART;TZID=Europe/Rome:20180707T160000
DTEND;TZID=Europe/Rome:20180708T210000
DTSTAMP:20260425T183118
CREATED:20180628T161237Z
LAST-MODIFIED:20180704T091437Z
UID:2907-1530979200-1531083600@www.castellodisantasevera.it
SUMMARY:Media Aetas Historia\, bellum et cultura
DESCRIPTION:Il 7 e 8 luglio la Spianata dei Signori sarà il luogo di una rievocazione storica dedicata al Medioevo\, con balli\, danze\, maestri d’arme\, tiro con l’arco\,  e approfondimenti su usi e costumi dell’epoca. Un vero accampamento dove poter vivere davvero un’esperienza indimenticabile. Numerose compagnie storiche provenienti da tutto il centro Italia vi accompagneranno attraverso i secoli che vanno dal 1200 al 1500\, mostrandovi l’evoluzione \,oltre che delle armi e delle armature\, anche degli usi e dei costumi\, in una serie di percorsi  che coinvolgeranno il pubblico in tutti quegli aspetti della vita quotidiana del passato. Oltre a questi accampamenti che allieteranno il pubblico durante tutta la manifestazione\, ci sarà un  ciclo di conferenze\, sul significato dei colori\, l’abbigliamento e l’ alimentazione durante il medioevo. A lui si alterneranno i maestri di scherma storica medievale Giovanni Sacrati e Raniero Mariotti\, che nel corso delle due giornate terranno  degli stage di scherma storica per mostrare al pubblico come dagli antichi trattati si ricavino le originali tecniche di combattimento dell’epoca. Inoltre sarà possibile osservare e cimentarsi nel tiro con l’arco e con la balestra\, sperimentando diverse tipologie di arma e il loro utilizzo nel campo da guerra o per la caccia. Infine ci saranno anche delle attività speciali come la cucina da campo che sfornerà dei piatti particolari tratti da ricette originali del basso medioevo o la fucina dell’accampamento che produrrà punte di freccia e coltelli di fronte al pubblico. Durante la seconda giornata avremo anche il piacere di ospitare la compagnia dei “Milites Gattamelata” di Narni con il suo gruppo di tamburini ed arcieri che per tutta la durata dell’evento intratterranno il pubblico con dimostrazioni di tiro con l’arco\, oltre a riempire la corte del castello di Santa Severa con la potenza dei loro tamburi. \nOrario: 7 luglio dalle 16 alle 23.00  \nOrario: 8 luglio dalle 16 alle 21.00  \nIngresso adulti € 6.00\, gratis fino a 12 anni di età (compiuti) \nPossibilità di acquistare il pacchetto evento+ingresso visita al Castello a €12.00 ( esclusa Torre Saracena) \nPer informazioni e prenotazione T. +39.06.39967999 \n Programma Media Aetas
URL:https://www.castellodisantasevera.it/evento/media-aetas-historia-bellum-et-cultura/
CATEGORIES:In evidenza
ATTACH;FMTTYPE=image/jpeg:https://www.castellodisantasevera.it/app/uploads/2018/06/locandina-front-page-3-.jpg
END:VEVENT
BEGIN:VEVENT
DTSTART;TZID=Europe/Rome:20180712T210000
DTEND;TZID=Europe/Rome:20180908T233000
DTSTAMP:20260425T183118
CREATED:20180712T155335Z
LAST-MODIFIED:20180822T091908Z
UID:3105-1531429200-1536449400@www.castellodisantasevera.it
SUMMARY:Programma degli eventi Sere d'estate 2018
DESCRIPTION:Programma sere d’estate \nSETTORI BIGLIETTI  \nMusica\, teatro\, intrattenimento\, danza\, letteratura\, conferenze e percorsi in notturna. Il Castello di Santa Severa ospita un cartellone di eventi lungo tre mesi\, a partire dal 13 luglio e fino al 29 settembre.  \n  \nSERE D’ESTATE: I GRANDI EVENTI AL CASTELLO DI SANTA SEVERA \nINIZIO SPETTACOLI ORE 21.00 \n02/08/2018 ANTIGONE con Massimo Venturiello. Biglietti 1° settore 15\,00 euro 2° settore 10 euro. \n05/08/2018 INCONTRO CON ELENA STANCANELLI.  Ingresso gratuito fino a esaurimento posti \n7/08/2018 TANGO e MILONGA- Cuarteto Suerte Loca.  Area unica euro 12\,00 intero e euro 10\,00 ridotto (over 60 e under 18 anni) \n09/08/2018 QUARTETTO D’ARCHI: LA CANZONE D’AMORE\, apericoncerto. A pagamento.  Concerto e aperitivo\, adulti €15  minori di anni 12 € 13.00 \n10/08/2018 GIO EVAN. Area unica  10\,00 euro \n11/08/2018 EDOARDO LEO 1° settore 22\,00 euro\, 2° settore 18\,00 euro\, 3° settore 15\,00 euro \n12 /08/2018 ALGECIRAS  TRA FLAMENCO E MEDIORIENTE  – Compagnia Algeciras. Area unica\, euro 15\,00 intero e 12\,00 ridotto (over 60 e under 18 anni) \n13/08/2018 RENZO ARBORE E ORCHESTRA ITALIANA   settore unico 25\,00 euro\, prezzo speciale per la collaborazione con la Regione Lazio \n14 /08/2018 IL LAGO DEI CIGNI – Compagnia Raffaele Paganini.  Area unica euro 15\,00 intero e 12\,00 ridotto (over 60 e under 18 anni) – L’evento è stato spostato al 20/08  \n15/08/2018 UN PIZZICO DI TARANTA – Compagnia Tre Meno Un Quarto. Area unica euro 12\,00 intero e euro 10\,00 ridotto (over 60 e under 18 anni) L’evento è stato spostato al 21 agosto \n16/08/2018  ORO DI NAPOLI  – Compagnia Archetipo Ensemble. Area unica euro 12\,00 intero e euro 10\,00 ridotto (over 60 e under 18 anni)  L’evento è stato spostato al 25 agosto \n17/08/2018 MAX GIUSTI- VA TUTTO BENE 1° settore 22\,00 euro\, 2° settore 18\,00 euro\, 3° settore 15\,00 euro. \n18/08/2018 IL FLAUTO MAGICO – Compagnia Astra Roma Ballet. Area unica euro 15\,00 intero e 12\,00 ridotto (over 60 e under 18 anni)  L’evento è stato spostato al 28 agosto \n19/08/2018  LA NOTTE BIANCA AL CASTELLO DI SANTA SEVERA a cura degli astronomi del CNAI. Ingresso gratuito fino a esaurimento posti \n22/08/2018 HOTEL SUPRAMONTE – Omaggio a Fabrizio De Andrè. Area unica euro 12\,00 \n23/08/2018 MAURIZIO BATTISTA “SCEGLI UNA CARTA” 1° Area gold euro 35\,00\, 1° settore euro 30\,00\,  2° settore euro 25\,00\, 3° settore euro 20\,00 \n24/08/2018 PETRA MAGONI E FERRUCCIO SPINETTI  Musica Nuda. Area unica 12\,00 euro \n25/08/2018 AMBASCIATORE DI SOGNI. Inaugurazione mostra. Ingresso libero  fino a esaurimento posti \n26/08/2018  SOGNO DI UNA NOTTE DI MEZZA ESTATE di William Shakespeare.  Area unica  15\,00 euro dai 14 anni in su;  euro 10\,00 bambini dai 7 ai 13 anni \n29/08/2018 GIANDOMENICO ANELLINO e ROBERTO PAMBIANCHI “ Emozioni di autore”\, concerto tributo a Lucio Battisti. Area unica 10\,00 euro \n30/08/2018 IO E CATERINA\, Cineforum sull’impatto dell’intelligenza artificiale nella vita delle nuove generazioni. Ingresso libero  fino a esaurimento posti \n31/08/2018 NOMADI IN CONCERTO  1° settore euro 20\,00\, 2° settore euro 16\,00 \n01/09/2018  LILLO & GREG 1° settore 22\,00 euro\, 2° settore 18\,00 euro\, 3° settore 15\,00 euro \n02/09/2018 LETTURE\, CANTI\,PROIEZIONI ingresso libero fino a esaurimento posti \n08/09/2018 PINK FLOYD LEGEND area gold  euro 35\,00 \, 1° settore euro 30\, 2° settore euro 23\,00 \n08/09/2018 PRESENTAZIONE DELLA COOPERATIVA DI COMUNITA’. Ingresso libero fino a esaurimento posti \n13/09/2018 CASTELLO IN JAZZ apericoncerto con Enrico Cresci. A pagamento.  Concerto e aperitivo\, adulti €15  minori di anni 12 € 13.00 \n15/09/2018 40°ANNO DELLA COMUNITA’ TERAPEUTICA FRATELLO SOLE\, SORELLA LUNA.Ingresso libero fino a esaurimento posti \n22/09/2018 24 ORE DI UNA DONNA\, inaugurazione mostra su Amedeo Nazzari. Ingresso libero fino a esaurimento posti \n27/09/2018 CASTELLO IN JAZZ apericoncerto con Alberto d’Alfonso. A pagamento. Concerto e aperitivo\, adulti €15  minori di anni 12 € 13.00 \nPer il programma completo del ciclo delle conferenze ” COSE\, UOMINI E PAESAGGI DEL MONDO ANTICO” https://www.castellodisantasevera.it//evento/dal-6-luglio-torna-il-ciclo-di-conferenze-cose-uomini-paesaggi-del-mondo-antico/ Ingresso libero fino a esaurimento posti \n  \nI biglietti sono in prevendita con il diritto di 2 euro in più sul prezzo del biglietto  presso: \nBiglietteria del Castello di Santa Severa\,  Tel.+39.06.39967999 \nProloco di Santa Severa\, via della Monacella 18 Tel. +39.0766.570403 \nSanta Marinella\, Tabaccheria  Pranzetti\, via Aurelia 523\, Tel. +0766.533602  \nCivitavecchia\, Angolo Caffè\, viale Guido Baccelli 30/32 Tel. +39.0766.540236 \nCivitavecchia\, Stelle&Strisce\, via Regina Elena 6\, Tel. +39.076621688 \nLadispoli\, Twiga\, piazza Marescotti 2\, Tel. +39. 06.9947637 \nPer le persone diversamente abili\, oltre alla previsione di una zona dedicata in platea\, sarà garantito l’accesso con il pagamento del biglietto standard oltre alla bigliettazione gratuita  per l’accompagnatore. \n 
URL:https://www.castellodisantasevera.it/evento/programma-degli-eventi-estate-2018/
CATEGORIES:In evidenza
ATTACH;FMTTYPE=image/jpeg:https://www.castellodisantasevera.it/app/uploads/2018/07/LocandinaA4_01_stampa.jpg
END:VEVENT
BEGIN:VEVENT
DTSTART;TZID=Europe/Rome:20180714T210000
DTEND;TZID=Europe/Rome:20180714T223000
DTSTAMP:20260425T183118
CREATED:20180709T100506Z
LAST-MODIFIED:20180711T110800Z
UID:3051-1531602000-1531607400@www.castellodisantasevera.it
SUMMARY:Il monologo di Valerio Massimo Manfredi al Castello di Santa Severa
DESCRIPTION:Evento speciale di Caffeina: lo storico e autore in “Il mio nome è nessuno” il prossimo 14 luglio alle 21 sul Piazzale delle Barrozze   \n  \nLo storico e autore letterario il prossimo 14 luglio alle 21 sarà alla fortezza baciata dal mare con “Il mio nome è nessuno”\, il monologo tratto dall’omonimo romanzo edito da Mondadori. \n  \nUna storia di mare narrata sul mare\, quella raccontata nel monologo e nell’opera: la storia di Odisseo\, l’ultimo re di Itaca\, l’Ulisse che si svela in prima persona accompagnandoci dalla nascita fino al ritorno nella propria terra natìa dopo la guerra di Troia. \n  \nUn evento straordinario ad ingresso libero
URL:https://www.castellodisantasevera.it/evento/il-monologo-di-valerio-massimo-manfredi-al-castello-di-santa-severa/
CATEGORIES:In evidenza
ATTACH;FMTTYPE=image/jpeg:https://www.castellodisantasevera.it/app/uploads/2018/07/locandina-Manfredi.jpg
END:VEVENT
BEGIN:VEVENT
DTSTART;TZID=Europe/Rome:20180720T103000
DTEND;TZID=Europe/Rome:20180722T233000
DTSTAMP:20260425T183118
CREATED:20180502T083619Z
LAST-MODIFIED:20180719T145556Z
UID:2164-1532082600-1532302200@www.castellodisantasevera.it
SUMMARY:Dal 20 al 22 luglio – 20esima edizione ITALIA SURF EXPO 2018
DESCRIPTION:Dal 20 al 22 luglio sotto il Castello di Santa Severa in scena la 20esima edizione della kermesse più cool d’Italia \nNata nel 1999 il Surf Expo è stato da subito il punto di riferimento per gli appassionati d’Italia e oggi è pronto a festeggiare un traguardo unico attraversando la storia del surf italiano. \nNello splendido scenario della spiaggia ai piedi del Castello di Santa Severa (a 30 minuti circa da Roma) per tre giorni\, dal 20 al 22 luglio\, festeggerà il ventennale dell’evento dedicato alla surf-culture più famoso e partecipato d’Italia.  \nPer la 20a edizione Surf Expo\, in collaborazione con la Regione Lazio\, LAZIOcrea\, Mibact\, Comune di Santa Marinella e Coopculture\, offre la possibilità di dormire all’interno del Castello medievale così da regalare un’esperienza unica al mondo in uno dei luoghi più suggestivi del territorio laziale. Nello spazio della Regione Lazio si possono  richiedere tutte le informazioni sul Castello di Santa Severa\, sulle visite\, sugli spettacoli\, sul nuovo Ostello e ricevere degli sconti. Partecipando al gioco “Fatti un selfie con il Castello” si avrà  diritto a uno sconto del 15% per un soggiorno nell’ Ostello. \nInoltre per i giovani  tra i 16 e i 18 anni\, la possibilità di viaggiare gratuitamente con  “Lazio in Tour gratis” su treni e bus regionali per visitare\, per 30 giorni\, fino al 15 settembre\, il Lazio. E poi\, tante opportunità di formazione e lavoro per i giovani che vi racconteranno i ragazzi di Porta Futuro Civitavecchia.  \nUNA SALA DEL CASTELLO DEDICATA AL SURF \nAl Castello di Santa Severa\, presso il Museo civico del mare e della navigazione\, è stata inaugurata una sala dedicata alla manifestazione Italia Surf Expò e al suo ideatore Alessandro Marcianò\, surfista\, noto a i tabloid internazionali per aver cavalcato un’onda di 18mt sulle onde di Nazarè in Portogallo. La Regione Lazio ha voluto dedicare a lui la sala all’interno del Museo per il contributo offerto negli ultimi venti anni al territorio e allo sport ecosostenibile. In programma una visita nel primo giorno di evento con i giornalisti e autorità. \nITALIA SURF EXPO trasforma incredibilmente per 3 giorni\, la fantastica spiaggia del Castello Medioevale di Santa Severa\, in un energy Village a ingresso gratuito per una tre giorni non-stop con tantissime attività sportive aperte a tutti gratuitamente per avvicinare il grande pubblico: surfing\, stand up paddle\, skateboard\, wakesurf\, indoboard\, slakeline\, canoa e poi escursioni\, immersioni\, giochi in spiaggia! La notte poi si trasforma\, tra luci e musica\, in un fashion show\, film festival e mega beach-party. \nNon è soltanto un punto d’incontro per gli operatori ed appassionati di settore\, ma si è trasformato nel tempo un evento mass market aperto a tutti\, promotore di puro divertimento attivo\, con eventi spettacolari\, unici ed imperdibili….mai nessun evento sul generis ha avuto cosi tanta visibilità sui media nazionali e tanta affluenza\, con oltre 25 mila presenze nelle ultime edizioni. \nQuest’anno ci sarà l’importante traguardo della 20esima edizione con ospiti internazionali e iniziative speciali. Maggiori informazioni su www.italiasurfexpo.it
URL:https://www.castellodisantasevera.it/evento/dal-20-al-22-luglio-20esima-edizione-italia-surf-expo-2018/
CATEGORIES:In evidenza
ATTACH;FMTTYPE=image/jpeg:https://www.castellodisantasevera.it/app/uploads/2018/05/italia-surf-expo-2.jpg
END:VEVENT
BEGIN:VEVENT
DTSTART;TZID=Europe/Rome:20180723T190000
DTEND;TZID=Europe/Rome:20180723T203000
DTSTAMP:20260425T183118
CREATED:20180718T154200Z
LAST-MODIFIED:20180723T091924Z
UID:3148-1532372400-1532377800@www.castellodisantasevera.it
SUMMARY:L'arte di strada si incontra al castello
DESCRIPTION:Lunedì 23 luglio\, alle ore 19.00 appuntamento da non perdere per ” L’arte di strada si incontra al Castello”\, un evento sui festival finanziati dalla Regione Lazio  Viadibanda\, Tolfarte e Il Carosello. Un confronto per per scambiarsi idee\, pareri e sottoscrivere un protocollo d’intesa al fine di rafforzare la cooperazione tra gli eventi. Parteciperanno al tavolo i direttori artistici di TolfArte\, ViaDiBanda e Il Carosello\, insieme agli amministratori comunali di Tolfa\, San Donato Val di Comino e Paliano. \nL’arte di strada rappresenta  una forma di libera espressione che si configura come un fenomeno di socialità spontanea\, effimera\, estemporanea\, completamente libera\, con la partecipazione di  artisti che si esibiscono all’aperto in tante “discipline”\, musica\, arte\, canto\, disegno\, giocoleria\, arti circensi. \n 
URL:https://www.castellodisantasevera.it/evento/larte-di-strada-di-incontra-al-castello/
CATEGORIES:In evidenza
ATTACH;FMTTYPE=image/jpeg:https://www.castellodisantasevera.it/app/uploads/2018/07/c9fcf134-8568-433d-bb3f-5636f2ddebfd.jpg
END:VEVENT
BEGIN:VEVENT
DTSTART;TZID=Europe/Rome:20180727T190000
DTEND;TZID=Europe/Rome:20180728T213000
DTSTAMP:20260425T183118
CREATED:20180711T100627Z
LAST-MODIFIED:20180727T090331Z
UID:3074-1532718000-1532813400@www.castellodisantasevera.it
SUMMARY:Messa in scena itinerante del "Cyrano de Bergerac"
DESCRIPTION:  \nLa Compagnia Controtempo Theatre\, fondata e diretta da Venanzio Amoroso\, Danilo Franti e Lilith Petillo\, presenterà Cyrano de Bergerac il 27 e il 28 Luglio in due repliche una alle 20:00 e una alle 21:30\, all’interno del Castello di Santa Severa (Roma). L’evento è organizzato in collaborazione con Regione Lazio\, LAZIOcrea\, Mibact\, Comune di Santa Marinella e Coopculture. \nUn appassionante capolavoro del teatro d’autore rappresentato dalla Compagnia Controtempo Theatre\, in una versione completamente innovativa e coinvolgente. Cyrano è apprezzato per la sua destrezza con le parole\, temuto per la sua abilità con la spada e ricordato per il suo lungo naso e la sua celebre frase: “ed al fin della licenza io tocco!” Tra equivoci\, combattimenti\, colpi di scena e dichiarazioni d’amore\, la compagnia Controtempo Theatre mette in scena una delle storie d’amore più romantiche e impossibili di sempre. \nPRENOTAZIONE CONSIGLIATA – posti limitati \n☎0639967999 \nCosto biglietto: euro 15\,00 dai 14 anni in su \neuro 10\,00 bambini dai 7 ai 13 anni \ngratuito bambini fino a 6 anni.
URL:https://www.castellodisantasevera.it/evento/messa-in-scena-itinerante-del-cyrano-de-bergerac/
CATEGORIES:In evidenza
ATTACH;FMTTYPE=image/jpeg:https://www.castellodisantasevera.it/app/uploads/2018/07/6.jpg
END:VEVENT
END:VCALENDAR