BEGIN:VCALENDAR
VERSION:2.0
PRODID:-//Castello di Santa Severa - Un castello sempre aperto - ECPv6.15.20//NONSGML v1.0//EN
CALSCALE:GREGORIAN
METHOD:PUBLISH
X-WR-CALNAME:Castello di Santa Severa - Un castello sempre aperto
X-ORIGINAL-URL:https://www.castellodisantasevera.it
X-WR-CALDESC:Eventi per Castello di Santa Severa - Un castello sempre aperto
REFRESH-INTERVAL;VALUE=DURATION:PT1H
X-Robots-Tag:noindex
X-PUBLISHED-TTL:PT1H
BEGIN:VTIMEZONE
TZID:Europe/Rome
BEGIN:DAYLIGHT
TZOFFSETFROM:+0100
TZOFFSETTO:+0200
TZNAME:CEST
DTSTART:20170326T010000
END:DAYLIGHT
BEGIN:STANDARD
TZOFFSETFROM:+0200
TZOFFSETTO:+0100
TZNAME:CET
DTSTART:20171029T010000
END:STANDARD
BEGIN:DAYLIGHT
TZOFFSETFROM:+0100
TZOFFSETTO:+0200
TZNAME:CEST
DTSTART:20180325T010000
END:DAYLIGHT
BEGIN:STANDARD
TZOFFSETFROM:+0200
TZOFFSETTO:+0100
TZNAME:CET
DTSTART:20181028T010000
END:STANDARD
BEGIN:DAYLIGHT
TZOFFSETFROM:+0100
TZOFFSETTO:+0200
TZNAME:CEST
DTSTART:20190331T010000
END:DAYLIGHT
BEGIN:STANDARD
TZOFFSETFROM:+0200
TZOFFSETTO:+0100
TZNAME:CET
DTSTART:20191027T010000
END:STANDARD
END:VTIMEZONE
BEGIN:VEVENT
DTSTART;TZID=Europe/Rome:20180519T113000
DTEND;TZID=Europe/Rome:20180603T190000
DTSTAMP:20260425T165247
CREATED:20180515T100927Z
LAST-MODIFIED:20180529T101032Z
UID:2301-1526729400-1528052400@www.castellodisantasevera.it
SUMMARY:Fino al 3 giugno la mostra  “Punti di vista” è visitabile in Sala Pyrgi
DESCRIPTION:La mostra  “ Punti di vista”\, dell’artista Andrea Pecchia  è visitabile fino al 3 giugno.  \nAndrea Pecchia è un artista che nelle sue opere esprime  dei punti di vista: quello del corso della storia\, quello in preda ai cambiamenti\, alla religione\, alle epoche\, alla società e ai costumi che la caratterizzano. Insomma il punto di vista soggettivo dell’artista coincide con una stupefacente alchimia con i vari punti di avvistamento del castello di Santa Severa. \nIl Castello era e resta un mondo dal quale Andrea Pecchia\, con il suo sguardo unico\, originale e mutlidimensionale punta gli oceani di senso che incontra e ce li ripropone raccontati in continua trasformazione. \nUna fortezza protetta\, mastodontica\, monumentale e di forte impatto culturale\, dalla quale è possibile controllare il mare\, accogliere i viaggiatori e respingere i predoni. \nUn castello in cui l’arte non si arrocca\, ma si protegge e poi si condivide nel respiro sacro della bellezza. Un punto di partenza e di approdo di un viaggio fra sogno e fluidità. Fra mito\, fiaba e contemporanea goliardia. \n  \nLe varie opere di Andrea Pecchia sono come ballate disegnate da un menestrello della matita\, come una continua spinta fuori dagli schemi capace di farci viaggiare da un emisfero all’altro\, come viaggia l’arte pura\, l’arte che ci fa vivere e disegnare\,  un tratto di vita che si imprime in spazi onirici e reali\, capace di restare sempre a galla a discapito di onde\, correnti e tempeste. Si sfiora spesso il tema del naufragio\, ma al contempo ci si rifugia e si sfugge ad esso sempre attraverso la bellezza. Quella del castello e delle opere che contiene. Una scalata di sensi\, scale musicali\, oggetti di attrazione\, sinestesie e valori del senso del viaggiare. Una rotta che spazia nell’ ignoto e nel trasversale attraversando il senso della scoperta. Quella che dalla torre del castello ci rimanda alla tradizione e ai confini inesplorati oltre l’orizzonte. \n  \n  \n  \n 
URL:https://www.castellodisantasevera.it/evento/il-19-maggio-inaugurazione-della-mostra-punti-di-vista/
CATEGORIES:In evidenza
ATTACH;FMTTYPE=image/jpeg:https://www.castellodisantasevera.it/app/uploads/2018/05/Locandina-Andrea-Pecchia-web-1.jpg
END:VEVENT
BEGIN:VEVENT
DTSTART;TZID=Europe/Rome:20180602T080000
DTEND;TZID=Europe/Rome:20180603T170000
DTSTAMP:20260425T165247
CREATED:20180522T091708Z
LAST-MODIFIED:20180529T143952Z
UID:2351-1527926400-1528045200@www.castellodisantasevera.it
SUMMARY:In scena il teatro itinerante con  OTELLO di William Shakespeare
DESCRIPTION:Il 2 e il 3 Giugno 2018\, con due spettacoli alle 19.00 e alle 20.30  all’interno del Castello di Santa Severa  la Compagnia Controtempo Theatre\, guiderà scena dopo scena gli spettatori nelle incantevoli atmosfere dei luoghi del borgo facendo così rivivere le tragiche vicende di Iago\, Otello e Desdemona e di tutti gli altri personaggi  del celebre dramma “Otello” di Shakespeare con la Regia  di Lilith Petillo e Pasquale Candela. L’evento è organizzato in collaborazione con Regione Lazio\, LAZIOcrea\, Mibact\, Comune di Santa Marinella e Coopculture. \nTra combattimenti\, disperazione e momenti di passione\, il dramma del Moro rivivrà in una versione completamente innovativa e coinvolgente. Lo spettacolo\, infatti\, sarà “itinerante“: in questo senso il pubblico avrà l’opportunità di assistere alla rappresentazione immergendosi nella bellezza dei diversi ambienti della location e sentendosi parte integrante dell’opera. \n“Quando abbiamo pensato di mettere in scena Otello\, – si legge nelle note di regia– l’abbiamo collegato alla possibilità di portarlo in scena in castelli\, in borghi e in altri luoghi di grande interesse storico-culturale. Quindi questo ci ha vincolato nella scelta della sua resa scenica. È certamente una riscrittura: abbiamo scelto di vedere tutta l’opera attraverso gli occhi di Iago che è un manipolatore\, questa decisione deriva dalle location in cui mettiamo in scena lo spettacolo che ci permettono di restare fedeli all’Otello sia nei costumi sia nelle scelte stilistiche… Abbiamo cercato di rappresentare un’opera itinerante dove gli attori sono sempre a stretto contatto con gli spettatori. Noi ci troviamo in sale o spazi all’aperto\, con il pubblico in piedi a tre metri dall’attore. Un tale rapporto di vicinanza e di prossemica ci porta a dover recitare in maniera più naturalistica cercando di trasmettere tutti quei concetti che noi reputiamo importanti. Il personaggio di Iago\, per scelte registiche\, rompe la quarta parete in molti momenti\, parla spesso col pubblico e lo trascina da un ambiente all’altro: l’esigenza di mobilitare gli spettatori deriva dalla volontà di introdurre pienamente il pubblico nello spettacolo.” \nIl cast è formato da giovani attori professionisti. Otello\, alle prese con la sua irrefrenabile gelosia\, sarà Dario Carbone. Iago\, probabilmente uno dei personaggi più complessi degli scritti shakespeariani\, astuto\, malvagio e inverosimilmente folle\, sarà interpretato da Venanzio Amoroso. A vestire i panni della bella e giovane Desdemona\, invece\, sarà l’attrice Paola Fiore Burgos. Cassio\, fedele luogotenente del Moro\, sarà Danilo Franti. Roderigo\, follemente innamorato di Desdemona sarà interpretato invece da Marco Guglielmi; nel ruolo di Emilia\, moglie di Iago\, troveremo Lilith Petillo\, mentre Montano\, amico di Otello\, sarà Massimiliano Cutrera.  \nOrario: \nore 19.00 primo spettacolo \nore 20.30 secondo spettacolo \n  \nCosto biglietto: euro 15\,00 dai 14 anni in su \neuro 10\,00 bambini dai 7 ai 13 anni\ngratuito bambini fino a 6 anni. \nPRENOTAZIONE OBBLIGATORIA – posti limitati \n☎0639967999 \n✉biglietti@castellodisantasevera.it \n 
URL:https://www.castellodisantasevera.it/evento/in-scena-il-teatro-itinerante-con-otello-di-william-shakespeare/
CATEGORIES:In evidenza
ATTACH;FMTTYPE=image/jpeg:https://www.castellodisantasevera.it/app/uploads/2018/05/Locandica_10_15_-Castello_Otello.jpg
END:VEVENT
BEGIN:VEVENT
DTSTART;TZID=Europe/Rome:20180614T080000
DTEND;TZID=Europe/Rome:20180614T170000
DTSTAMP:20260425T165247
CREATED:20180614T120010Z
LAST-MODIFIED:20180614T133126Z
UID:2789-1528963200-1528995600@www.castellodisantasevera.it
SUMMARY:I Concerti del giovedì e happy hour
DESCRIPTION:Il 21 giugno\, primo  appuntamento alle ore 19\, all’interno delle mura del Castello di Santa Severa per la rassegna “I Concerti del giovedì e happy hour”  della stagione “Castello in jazz” e “ Quartetto d’archi”. La manifestazione è organizzata da Stefano Marzolla in collaborazione  con  Regione Lazio \, LAZIOcrea SpA\, Mibact\, Comune di Santa Marinella\, Coopculture  e continua a luglio\, agosto e settembre.  Nel cortile della Rocca e nel piazzale dell Barrozze una serie di appuntamenti musicali accompagnati da una aperitivo a tema da non perdere. \nConcerto e aperitivo\nminori di 12 anni €13\,00\nadulti €15\,00  Per prenotazioni T. +39.06.39967999 \n \n  \n 
URL:https://www.castellodisantasevera.it/evento/i-concerti-del-giovedi-e-happy-hour/
CATEGORIES:In evidenza
ATTACH;FMTTYPE=image/jpeg:https://www.castellodisantasevera.it/app/uploads/2018/06/Archi-in-festa.jpg
END:VEVENT
BEGIN:VEVENT
DTSTART;TZID=Europe/Rome:20180615T080000
DTEND;TZID=Europe/Rome:20180617T230000
DTSTAMP:20260425T165247
CREATED:20180529T101658Z
LAST-MODIFIED:20180614T083831Z
UID:2668-1529049600-1529276400@www.castellodisantasevera.it
SUMMARY:XX Trofeo Internationalgym dal 15 al 16 giugno
DESCRIPTION:Sarà il Castello di Santa Severa\, sul litorale laziale\, ad ospitare tra il 15 e il 16 giugno due manifestazioni sportive curate dalla Confsport Italia\, l’InternationalGym e il Campionato Italiano di Coreografia\, sotto l’alto patrocinio del Parlamento europeo e in collaborazione con Regione Lazio\, LAZIOcrea\, Mibact\, Comune di Santa Marinella e Coopculture. La manifestazione  è con ingresso  gratuito e ancora una volta il Castello  propone  un grande evento di respiro  internazionale con grande capacità di attrazione. Per l’appuntamento di quest’anno\, dedicato al meglio della creatività legata al movimento\, l’organizzazione ha nuovamente scelto un luogo simbolo\, mantenendo salde le radici di questi eventi a forte vocazione internazionale\, vere proprie vetrine per lo stretto connubio tra territorio italiano e attività sportiva. Nate in tempi e in contesti diversi\, le due kermesse\, che hanno come obiettivo la Ginnastica coniugata in ogni sua forma e sfumatura\, intendono rappresentare un punto di congiunzione e di riferimento non solo per le realtà italiane\, ma anche per quelle straniere\, così come testimoniato dalla lista dei partecipanti di quest’anno. A scendere sulla pedana del Castello di S. Severa saranno\, infatti\, oltre 300 atleti\, in rappresentanza di 18 società sportive provenienti da Italia\, Albania\, Bulgaria\, Lettonia\, Ucraina e Croazia. Gli esercizi\, 29 creazioni originali scandite dalle note di temi musicali di diverso genere\, continueranno idealmente il viaggio nella ricerca dedicata al movimento iniziato circa 30 anni fa da alcuni giovani insegnanti di Scienze Motorie\, un percorso approdato in tempi recenti a vere e proprie “performance” teatrali. L’obiettivo principale\, tuttavia\, resta quello di scardinare i confini culturali e territoriali\, al fine di giungere a un sostanziale avvicinamento tra realtà\, terre e interpreti provenienti da nazioni diverse. Appuntamento venerdì con inizio alle ore 18.30 e il sabato dalle ore 19.00 con le fasi finali e successive premiazioni. \nPROGRAMMA INTERNATIONALGYM \nElenco società partecipanti: \nSKG VELBUJD – KYUSTENDIL – BULGARIA \nELITE – STARA ZAGORA – BULGARIA \nRIGA SCHOOL OF GYMNASTICS – RIGA – LETTONIA \nSC LUSHNJA – LUSHNJA – ALBANIA \nJUMP STAR TEAM – LUSHNJA – ALBANIA \nSC SKENDERBEU – CORIZA – ALBANIA \nGK MAKSIMIR – ZAGREB – CROAZIA \nESCHILO SPORTING VILLAGE SSD – ROMA – ITALIA \nASD SAN GIACOMO DELLA MARCA – ASCOLI PICENO – ITALIA \nASD SEVEN SPORTING CLUB – ROMA – ITALIA \nASD RITMICA TUSCOLANA – ROMA – ITALIA \nASD CLUB GYMNASTIC CENTER – ROMA – ITALIA \nASD GINNASTICA RICCIONE ACROBATIC TEAM – RICCIONE – ITALIA \nASD POLIMNIA RITMICA ROMANA – ROMA – ITALIA \nASD GINNASTICA MAMOTI – SAN BENEDETTO DEL TRONTO – ITALIA \nA.S.D. MINNIE GYM – ROMA – ITALY \nA.S.D. IL GABBIANO FORMAZIONE DANZA MANTINI – LADISPOLI (ROMA) – \nITALY \nA.S.D. ANFRA SPORT CLUB – QUARTO (NAPOLI) – ITALY \n 
URL:https://www.castellodisantasevera.it/evento/xx-trofeo-internationalgym-dal-15-al-16-giugno/
CATEGORIES:In evidenza
ATTACH;FMTTYPE=image/jpeg:https://www.castellodisantasevera.it/app/uploads/2018/05/NUOVA-LOCANDINA_XX-Trofeo-InternationalGym-XXVII-CampCoreografia-ENG.jpg
END:VEVENT
BEGIN:VEVENT
DTSTART;TZID=Europe/Rome:20180617T080000
DTEND;TZID=Europe/Rome:20180617T230000
DTSTAMP:20260425T165247
CREATED:20180529T102344Z
LAST-MODIFIED:20180612T095903Z
UID:2673-1529222400-1529276400@www.castellodisantasevera.it
SUMMARY:Il 17 giugno torna al castello di Santa Severa il “Trofeo la Dolce Vita” 
DESCRIPTION:Il prossimo 17 giugno torna al castello di Santa Severa il “Trofeo la Dolce Vita” per la 2° Edizione del Circuito Storico Santa Marinella\, con un tributo a Guglielmo Marconi.  La manifestazione organizzata dal Circuito Storico di Santa Marinella in collaborazione con Regione Lazio\, LAZIOcrea\, Mibact\, Comune di Santa Marinella e Coopculture\, si svolgerà dal 15 al 17 giugno 2018 e la madrina d’eccezione sarà la Principessa Elettra Marconi. L’evento è a sostegno della Fondazione Bambino Gesù onlus.  Il Trofeo d’Auto d’Epoca “La Dolce Vita”\, consisterà in una prova di regolarità alla quale parteciperanno circa 40 auto immatricolate tra il 1920 e il 1968 che percorreranno un circuito organizzato in settori che toccheranno Santa Severa (zona del Castello)\, le città di Santa Marinella\, Civitavecchia\, Tolfa e Bracciano. \nCi sarà anche l’Alfa Romeo 1750 6C GS Sport Zagato sulla quale correva Tazio Nuvolari e\, ancora\, la tristemente nota Porsche 550 RS Spyder sulla quale perse la vita Steve McQueen\, la Jaguar XK 150 OTS appartenuta a Grace Kelly\, nonché tanti esemplari unici Lancia\, Alfa Romeo e Porsche. \nLa premiazione delle autovetture avverrà domenica 17 giugno presso il chiostro del Castello di Santa Severa.
URL:https://www.castellodisantasevera.it/evento/il-17-giugno-torna-al-castello-di-santa-severa-il-trofeo-la-dolce-vita/
CATEGORIES:In evidenza
ATTACH;FMTTYPE=image/jpeg:https://www.castellodisantasevera.it/app/uploads/2018/05/Locandina-A3-B3-1.jpg
END:VEVENT
BEGIN:VEVENT
DTSTART;TZID=Europe/Rome:20180630T180000
DTEND;TZID=Europe/Rome:20180630T200000
DTSTAMP:20260425T165247
CREATED:20180615T132614Z
LAST-MODIFIED:20180630T115102Z
UID:2794-1530381600-1530388800@www.castellodisantasevera.it
SUMMARY:30 Giugno Art One Shot  Incontro e aperitivo con Patrizia Molinari
DESCRIPTION:ll tempo dell’arte e quello dei quotidiani capolavori naturali si incontrano per un piacevole momento-aperitivo accompagnato dalla degustazione di vini dell’azienda agricola Casale del Giglio.  \nPartecipazione gratuita fino ad esaurimento posti disponibili. Dalle ore 18.00 \nIdeazione e organizzazione CoopCulture\nA cura di Romina Guidelli\nIn collaborazione con: Regione Lazio\, LAZIOcrea\, Mibact e Comune di Santa Marinella
URL:https://www.castellodisantasevera.it/evento/30-giugno-art-one-shot-incontro-e-aperitivo-con-patrizia-molinari/
CATEGORIES:In evidenza
ATTACH;FMTTYPE=image/jpeg:https://www.castellodisantasevera.it/app/uploads/2018/06/art-1.jpg
END:VEVENT
END:VCALENDAR