BEGIN:VCALENDAR
VERSION:2.0
PRODID:-//Castello di Santa Severa - Un castello sempre aperto - ECPv6.15.20//NONSGML v1.0//EN
CALSCALE:GREGORIAN
METHOD:PUBLISH
X-WR-CALNAME:Castello di Santa Severa - Un castello sempre aperto
X-ORIGINAL-URL:https://www.castellodisantasevera.it
X-WR-CALDESC:Eventi per Castello di Santa Severa - Un castello sempre aperto
REFRESH-INTERVAL;VALUE=DURATION:PT1H
X-Robots-Tag:noindex
X-PUBLISHED-TTL:PT1H
BEGIN:VTIMEZONE
TZID:Europe/Rome
BEGIN:DAYLIGHT
TZOFFSETFROM:+0100
TZOFFSETTO:+0200
TZNAME:CEST
DTSTART:20170326T010000
END:DAYLIGHT
BEGIN:STANDARD
TZOFFSETFROM:+0200
TZOFFSETTO:+0100
TZNAME:CET
DTSTART:20171029T010000
END:STANDARD
BEGIN:DAYLIGHT
TZOFFSETFROM:+0100
TZOFFSETTO:+0200
TZNAME:CEST
DTSTART:20180325T010000
END:DAYLIGHT
BEGIN:STANDARD
TZOFFSETFROM:+0200
TZOFFSETTO:+0100
TZNAME:CET
DTSTART:20181028T010000
END:STANDARD
BEGIN:DAYLIGHT
TZOFFSETFROM:+0100
TZOFFSETTO:+0200
TZNAME:CEST
DTSTART:20190331T010000
END:DAYLIGHT
BEGIN:STANDARD
TZOFFSETFROM:+0200
TZOFFSETTO:+0100
TZNAME:CET
DTSTART:20191027T010000
END:STANDARD
END:VTIMEZONE
BEGIN:VEVENT
DTSTART;TZID=Europe/Rome:20180510T080000
DTEND;TZID=Europe/Rome:20180512T170000
DTSTAMP:20260425T184120
CREATED:20180510T090155Z
LAST-MODIFIED:20180515T085935Z
UID:2268-1525939200-1526144400@www.castellodisantasevera.it
SUMMARY:Il 12 maggio   #ConnectingTalents 2018
DESCRIPTION:Programma #ConnectingTalents 2018 \nNella cornice esclusiva del Castello di Santa Severa\, il 12 maggio si svolgerà una giornata di apertura straordinaria del castello\, coordinata dall’IPSEOA Vincenzo Gioberti\, capofila delle rete RIAL\, Rete degli Istituti Alberghieri del Lazio. L’evento  #ConnectingTalents 2018 è realizzato in collaborazione con Regione Lazio\, LAZIOcrea\, Mibact\, Miur\, Comune di Santa Marinella e Coopculture. \nGli studenti saranno attivamente coinvolti come guide all’interno del castello e nella promozione enogastronomica dei prodotti locali degli stand\, cimentandosi in una innovativa esperienza di Alternanza Scuola-Lavoro.  L’evento\, interpretando la peculiarità degli istituti per l’enogastronomia e l’ospitalità alberghiera che hanno come loro vocazione il lavoro di squadra\, metterà in luce le potenzialità delle varie rappresentanze della comunità scolastica di stare e di lavorare insieme\, partecipando attivamente alla vita scolastica. \nIn questo magnifico contesto gli studenti saranno protagonisti dell’organizzazione di una convention sul valore educativo della partecipazione\, intesa come capacità di mettere in pratica competenze professionali e soft skills\, acquisite all’interno di sistemi formali ed informali di istruzione. \nL’evento\, vedrà la realizzazione di una convention sul palco con focus\, quali  #Una scuola aperta al territorio”\,  # la scuola a misura di studente o # una scuola social e con  esibizioni degli studenti per valorizzare la potenzialità di ciascuno e mostrare la scuola come officina di talenti.  Non mancherà la musica con band live\, brani musicali a cura degli studenti della Rete Rial e postazione di web radio a cura di istituti come modelli innovativi di Alternanza Scuola Lavoro.    \nNel corso di tutta la giornata parterns di rilievo del settore enogastronomico offriranno degustazioni e lezioni di Show cooking ( Coquis)\, di  Bartending con  Mixology e accoglienza di qualità con Intrecci. \nPartecipano alla giornata gli istituti\, IPSEOA “Vincenzo Gioberti”\, Roma; IPSEOA Ugo Tognazzi\, Velletri; IIS “San Benedetto”\, Cassino; IPSEOA  ” Angelo Celletti”\, Formia; IIS “Stendhal-L. Cappannari”\, Civitavecchia; IPSEOA “San Benedetto”\, Latina; IPSEOA “Di Vittorio”\, Ladispoli; IPSEOA Domizia Lucilla\, Roma; IPSEOA Tor Carbone\, Roma; IIS Pedemontana\, Cave; IPSEOA “ Pellegrino Artusi”\, Roma; IPSEOA “Buonarroti“ Fiuggi”;  il “Liceo Kennedy”\, Roma e l’ Istituto professionale “Cine-Tv Rossellini”\, Roma. \n 
URL:https://www.castellodisantasevera.it/evento/il-12-maggio-connectingtalents-2018/
CATEGORIES:In evidenza
ATTACH;FMTTYPE=image/jpeg:https://www.castellodisantasevera.it/app/uploads/2018/05/Locandina-WEB.jpg
END:VEVENT
BEGIN:VEVENT
DTSTART;TZID=Europe/Rome:20180512T080000
DTEND;TZID=Europe/Rome:20180513T170000
DTSTAMP:20260425T184120
CREATED:20180507T144408Z
LAST-MODIFIED:20180515T090101Z
UID:2212-1526112000-1526230800@www.castellodisantasevera.it
SUMMARY:In scena  un atto unico di Dario Fo “ I 3 bravi”
DESCRIPTION:Il 12 e il 13 maggio\, alle ore 19.30 va in scena al Castello di Santa Severa\, nella Sala del Nostromo un atto unico scritto da Dario Fo\, “ I 3 Bravi” con la regia di Paolo Paoloni.  La messa in scena è dell’ Associazione. Teatrale Amatoriale “I Semiseri”  e l’evento è realizzato in collaborazione con Regione Lazio\, LAZIOcrea\, Mibact\, Comune di Santa Marinella e Coopculture. Il Castello di Santa Severa diventa sempre più un hub culturale  e prosegue la sua azione di diffusione della cultura spaziando tra musica\, teatro e rievocazioni storiche. \nLa piecé è un atto unico di Dario Fo\, espressione più autentica del suo teatro comico\, così moderno e attuale ma pur legato alla nostra tradizione più viva. È un teatro che scaturisce da una voglia incontenibile di far ridere il pubblico\, ma anche da un sensibile umor caustico saldamente ancorato alla vita di ogni giorno; un teatro che affonda le radici nella commedia dell’arte e nella farsa popolana del primo ’900\, che coglie elementi del teatro elisabettiano e di quello espressionista; ma\, insieme\, un teatro inconfondibile che è essenzialmente Dario Fo. \nLe note di regia di Paolo Paoloni  ricostruiscono la vicenda ambientata in“ Un vecchio castello\, dove un anziano castellano che ha il terrore dei fantasmi che infestano la sua dimora  vuole assoldare un energumeno supercoraggioso che sia in grado di cacciarli. Si presentano in tre (i tre bravi) a concorrere al posto. Ma sono veramente così coraggiosi come pretendono di essere? E non dimentichiamo la fondamentale presenza delle tre figlie zitelle del castellano\, che sarebbero ben liete di accaparrarsi ognuna uno dei tre “omaccioni”. Come andrà a finire? Dario Fo costruisce qui un gioco pirotecnico di situazioni comiche\, con un finale che accontenta tutti (e “tutte”!) E i fantasmi? Erano veri? Lasciamolo scoprire allo spettatore! “ \nPer informazioni e prenotazioni Biglietteria  T. +39.06.39967999
URL:https://www.castellodisantasevera.it/evento/in-scena-un-atto-unico-di-dario-fo-i-3-bravi/
CATEGORIES:In evidenza
ATTACH;FMTTYPE=image/jpeg:https://www.castellodisantasevera.it/app/uploads/2018/05/locandina-i-3-bravi-con-1-nuovo-banner.jpg
END:VEVENT
BEGIN:VEVENT
DTSTART;TZID=Europe/Rome:20180518T080000
DTEND;TZID=Europe/Rome:20180518T170000
DTSTAMP:20260425T184120
CREATED:20180516T084414Z
LAST-MODIFIED:20180517T082411Z
UID:2312-1526630400-1526662800@www.castellodisantasevera.it
SUMMARY:Il 18 maggio seconda edizione del  Festival della Lettura ad alta voce
DESCRIPTION:  \nUn  Progetto di educazione alla lettura espressiva perché Leggere ad alta voce è un modo di gustare appieno la bellezza della lettura e condividerla. È questo il motivo per cui il Centro per il Libro e la Lettura e la Regione Lazio\, propongono la seconda edizione del Festival della Lettura ad alta voce. Partecipano al progetto quindici scuole provenienti dai cinque territori del Lazio\, impegnate in un percorso di lavoro su testi di narrativa classica e contemporanea che ha preso avvio ad inizio anno. Nella giornata del Contest finale presso il Castello di Santa Severa\, a partire dalle ore 11.00\,  con la collaborazione di LAZIOcrea\, Mibact\, Comune di Santa Marinella e Coopculture\,  il 18 maggio 2018\, lo scettro di “Lettori Reali”\, andrà a una coppia di studenti\, per ciascun ordine scolastico: la più votata da un comitato di esperti che ha anche selezionato i testi letterari. Il Laboratorio Teatrale Integrato Piero Gabrielli\, diretto da Roberto Gandini\, coordina il percorso di formazione sulla lettura ad alta voce attraverso tre laboratori tenuti presso le scuole. A Roberto Gandini (direttore artistico del Festival) si affiancano Maria Teresa Campus\, Simonetta Graziano e Tiziana Scrocca. Gli interventi musicali creati da Andrea Filippucci sottolineano la lettura dei ragazzi. L’ex Assessore Lidia Ravera con Flavia Cristiano e Romano Montroni\, rispettivamente Direttrice e Presidente del Centro per il libro e la lettura\, conducono la sfida finale insieme ad un testimonial d’eccezione\, Armando Traverso\, autore-conduttore televisivo/radiofonico di RadioKids e RAI Scuola. \nQuesto l’elenco delle scuole coinvolte: \nPrimarie: IC Fiuggi\, Fiuggi\, FR (IV A TP); IC Natale Prampolini\, Borgo Carso\, LT (IV A); \nIC Angelo Maria Ricci\, Rieti (V D); Scuola primaria Ippolito Nievo\, Cava Dei Selci-Marino\, \nRM (V A); Scuola primaria Alceste Grandori\, Viterbo (IV C). \nSecondarie di I grado: IC Pontecorvo 2\, Pontecorvo\, FR (II E); IC Antonio Gramsci\, \nAprilia\, LT (II E); IC Ferruccio Ulivi\, Poggio Moiano\, RI\, (II A); IC San Nilo\, Grottaferrata\, \nRM (II B); Scuola secondaria Dott. Carlo Urbani\, Corchiano\, VT (I A). \nSecondarie di II grado: Liceo Classico Tulliano\, Arpino\, FR (II A); Liceo Classico \nPiero Gobetti\, Fondi\, LT (II A); Liceo Scientifico Lorenzo Rocci\, Passo Corese-Fara Sabina\, \nRI (V B); Liceo Classico Linguistico Cicerone\, Frascati\, RM (I E); ITIS Midossi\, \nCivita Castellana\, VT (I E). \n 
URL:https://www.castellodisantasevera.it/evento/il-18-maggio-seconda-edizione-del-festival-della-lettura-ad-alta-voce/
CATEGORIES:In evidenza
ATTACH;FMTTYPE=image/jpeg:https://www.castellodisantasevera.it/app/uploads/2018/05/festival3-1440x812-1.jpg
END:VEVENT
BEGIN:VEVENT
DTSTART;TZID=Europe/Rome:20180519T113000
DTEND;TZID=Europe/Rome:20180603T190000
DTSTAMP:20260425T184120
CREATED:20180515T100927Z
LAST-MODIFIED:20180529T101032Z
UID:2301-1526729400-1528052400@www.castellodisantasevera.it
SUMMARY:Fino al 3 giugno la mostra  “Punti di vista” è visitabile in Sala Pyrgi
DESCRIPTION:La mostra  “ Punti di vista”\, dell’artista Andrea Pecchia  è visitabile fino al 3 giugno.  \nAndrea Pecchia è un artista che nelle sue opere esprime  dei punti di vista: quello del corso della storia\, quello in preda ai cambiamenti\, alla religione\, alle epoche\, alla società e ai costumi che la caratterizzano. Insomma il punto di vista soggettivo dell’artista coincide con una stupefacente alchimia con i vari punti di avvistamento del castello di Santa Severa. \nIl Castello era e resta un mondo dal quale Andrea Pecchia\, con il suo sguardo unico\, originale e mutlidimensionale punta gli oceani di senso che incontra e ce li ripropone raccontati in continua trasformazione. \nUna fortezza protetta\, mastodontica\, monumentale e di forte impatto culturale\, dalla quale è possibile controllare il mare\, accogliere i viaggiatori e respingere i predoni. \nUn castello in cui l’arte non si arrocca\, ma si protegge e poi si condivide nel respiro sacro della bellezza. Un punto di partenza e di approdo di un viaggio fra sogno e fluidità. Fra mito\, fiaba e contemporanea goliardia. \n  \nLe varie opere di Andrea Pecchia sono come ballate disegnate da un menestrello della matita\, come una continua spinta fuori dagli schemi capace di farci viaggiare da un emisfero all’altro\, come viaggia l’arte pura\, l’arte che ci fa vivere e disegnare\,  un tratto di vita che si imprime in spazi onirici e reali\, capace di restare sempre a galla a discapito di onde\, correnti e tempeste. Si sfiora spesso il tema del naufragio\, ma al contempo ci si rifugia e si sfugge ad esso sempre attraverso la bellezza. Quella del castello e delle opere che contiene. Una scalata di sensi\, scale musicali\, oggetti di attrazione\, sinestesie e valori del senso del viaggiare. Una rotta che spazia nell’ ignoto e nel trasversale attraversando il senso della scoperta. Quella che dalla torre del castello ci rimanda alla tradizione e ai confini inesplorati oltre l’orizzonte. \n  \n  \n  \n 
URL:https://www.castellodisantasevera.it/evento/il-19-maggio-inaugurazione-della-mostra-punti-di-vista/
CATEGORIES:In evidenza
ATTACH;FMTTYPE=image/jpeg:https://www.castellodisantasevera.it/app/uploads/2018/05/Locandina-Andrea-Pecchia-web-1.jpg
END:VEVENT
BEGIN:VEVENT
DTSTART;TZID=Europe/Rome:20180521T080000
DTEND;TZID=Europe/Rome:20180525T170000
DTSTAMP:20260425T184120
CREATED:20180515T093850Z
LAST-MODIFIED:20180521T081034Z
UID:2282-1526889600-1527267600@www.castellodisantasevera.it
SUMMARY: Proseguono le avventure in costume per  “ Magici castelli”
DESCRIPTION:Nella magica cornice del castello proseguono anche per questa settimana le avventure   in costume dedicata ai bambini. L’iniziativa realizzata dalla Compagnia San Giorgio e il Drago in collaborazione con la Regione Lazio\, LAZIOcrea\, Mibact\, Comune di santa Marinella e Coopculture ha visto la partecipazione di tanti piccoli attori alle prese con un nuovo modo di giocare ed imparare.  \nUn’esperienza che ha consentito ai partecipanti di immedesimarsi totalmente in un personaggio storico o leggendario e vivere un’avventura in un’epoca o in un luogo immaginario. I bambini sono stati catapultati dagli animatori nell’ epoca scelta\, venendo vestiti a tema da legionari romani oppure da cavalieri o ancora da folletti\, gnomi\, elfi.  I giocatori\, adulti e bambini\, possono interpretare personaggi molto diversi: dagli antichi faraoni egiziani\, ai legionari romani\, dai cavalieri medievali alle guardie napoleoniche\, senza porre alcun limite alla fantasia di chi crea l’avventura.\nII modo più semplice per spiegare come funziona un’avventura in costume è pensare ad un libro\, una rappresentazione teatrale o ad un film\, nei quali esistono due figure principali ben distinte: \nI PERSONAGGI–GIOCATORI: bimbi e bimbe d’età compresa fra i 6 e i 14 anni e i TRAINER: giocatori adulti i quali\, essendo a conoscenza della trama della fiaba\, hanno compiti molto importanti: trasportare nel vivo dell’avventura gruppi di giocatori\, recitare con loro\, creare lo spirito del gioco… dare importanza alle singole esigenze dei partecipanti ed al lavoro di gruppo\, coinvolgere ed inserire tutti nella giusta situazione con il fine di raggiungere lo scopo finale.
URL:https://www.castellodisantasevera.it/evento/2282/
CATEGORIES:In evidenza
ATTACH;FMTTYPE=image/jpeg:https://www.castellodisantasevera.it/app/uploads/2018/05/cfa4e453-c12c-4eeb-b25c-02a0971b18d3.jpg
END:VEVENT
END:VCALENDAR