BEGIN:VCALENDAR
VERSION:2.0
PRODID:-//Castello di Santa Severa - Un castello sempre aperto - ECPv6.15.20//NONSGML v1.0//EN
CALSCALE:GREGORIAN
METHOD:PUBLISH
X-ORIGINAL-URL:https://www.castellodisantasevera.it
X-WR-CALDESC:Eventi per Castello di Santa Severa - Un castello sempre aperto
REFRESH-INTERVAL;VALUE=DURATION:PT1H
X-Robots-Tag:noindex
X-PUBLISHED-TTL:PT1H
BEGIN:VTIMEZONE
TZID:Europe/Rome
BEGIN:DAYLIGHT
TZOFFSETFROM:+0100
TZOFFSETTO:+0200
TZNAME:CEST
DTSTART:20250330T010000
END:DAYLIGHT
BEGIN:STANDARD
TZOFFSETFROM:+0200
TZOFFSETTO:+0100
TZNAME:CET
DTSTART:20251026T010000
END:STANDARD
BEGIN:DAYLIGHT
TZOFFSETFROM:+0100
TZOFFSETTO:+0200
TZNAME:CEST
DTSTART:20260329T010000
END:DAYLIGHT
BEGIN:STANDARD
TZOFFSETFROM:+0200
TZOFFSETTO:+0100
TZNAME:CET
DTSTART:20261025T010000
END:STANDARD
BEGIN:DAYLIGHT
TZOFFSETFROM:+0100
TZOFFSETTO:+0200
TZNAME:CEST
DTSTART:20270328T010000
END:DAYLIGHT
BEGIN:STANDARD
TZOFFSETFROM:+0200
TZOFFSETTO:+0100
TZNAME:CET
DTSTART:20271031T010000
END:STANDARD
END:VTIMEZONE
BEGIN:VEVENT
DTSTART;TZID=Europe/Rome:20260308T100000
DTEND;TZID=Europe/Rome:20260308T170000
DTSTAMP:20260421T121136
CREATED:20260304T113448Z
LAST-MODIFIED:20260304T113448Z
UID:13740-1772964000-1772989200@www.castellodisantasevera.it
SUMMARY:8 marzo: cultura\, teatro e memoria per celebrare la Festa della Donna
DESCRIPTION:In occasione della Giornata Internazionale della Donna\, domenica 8 marzo\, il Castello di Santa Severa ospiterà una giornata speciale dedicata alla valorizzazione del ruolo della donna nella storia\, tra arte\, cultura e teatro. \nL’iniziativa si inserisce nel programma di valorizzazione del Castello di Santa Severa ed è promossa dalla Regione Lazio\, organizzata dalla LAZIOcrea\, d’intesa con il Ministero della Cultura e il Comune di Santa Marinella. \nPer l’intera giornata è prevista la visita gratuita al Museo del castello\, all’interno della Rocca\,  per tutte le donne\, che riceveranno in omaggio anche un mazzetto di mimosa\, simbolo della ricorrenza. \nIl momento centrale delle iniziative sarà  l’itinerario teatrale immersivo dal titolo “La Donna nella Storia tra Amore e Tragedia”\, ideata dall’attore e regista Agostino De Angelis\, con due appuntamenti gratuiti alle ore 14.15 e alle ore 15.45\, a cura dell’Associazione Culturale ArchéoTheatron\, sempre con ingresso gratuito. \nIl format\, già realizzato da Agostino De Angelis in numerosi luoghi della storia e monumenti\, si conferma uno strumento efficace per far conoscere il patrimonio culturale attraverso il teatro\, rendendo viva la memoria storica e rafforzando il legame tra arte\, territorio e comunità. \nLa performance si svolgerà lungo gli spazi esterni del Borgo e del Castello che diventeranno palcoscenico naturale della messa in scena. \nAttraverso il teatro e l’interazione con  il pubblico lo spettacolo intende riportare in luce il ruolo centrale della donna nella storia\, offrendo uno sguardo che attraversa epoche diverse\, dall’antichità ai giorni nostri. Un viaggio emotivo e culturale che restituisce i colori della memoria e dell’esistenza femminile\, invitando il pubblico a rileggere la storia con una nuova consapevolezza. \nIl biglietto gratuito per le donne va ritirato all’interno del Bookshop del Museo del castello \n 
URL:https://www.castellodisantasevera.it/evento/8-marzo-cultura-teatro-e-memoria-per-celebrare-la-festa-della-donna/
ATTACH;FMTTYPE=image/png:https://www.castellodisantasevera.it/app/uploads/2026/03/8mar_CASTELLO_CARD_1080x1080.png
END:VEVENT
END:VCALENDAR